BEGIN:VCALENDAR
VERSION:2.0
PRODID:-//Editura și Librăriile CARTIER - ECPv6.15.20//NONSGML v1.0//EN
CALSCALE:GREGORIAN
METHOD:PUBLISH
X-WR-CALNAME:Editura și Librăriile CARTIER
X-ORIGINAL-URL:https://cartier.md
X-WR-CALDESC:Evenimente pentru Editura și Librăriile CARTIER
REFRESH-INTERVAL;VALUE=DURATION:PT1H
X-Robots-Tag:noindex
X-PUBLISHED-TTL:PT1H
BEGIN:VTIMEZONE
TZID:Europe/Helsinki
BEGIN:DAYLIGHT
TZOFFSETFROM:+0200
TZOFFSETTO:+0300
TZNAME:EEST
DTSTART:20240331T010000
END:DAYLIGHT
BEGIN:STANDARD
TZOFFSETFROM:+0300
TZOFFSETTO:+0200
TZNAME:EET
DTSTART:20241027T010000
END:STANDARD
BEGIN:DAYLIGHT
TZOFFSETFROM:+0200
TZOFFSETTO:+0300
TZNAME:EEST
DTSTART:20250330T010000
END:DAYLIGHT
BEGIN:STANDARD
TZOFFSETFROM:+0300
TZOFFSETTO:+0200
TZNAME:EET
DTSTART:20251026T010000
END:STANDARD
BEGIN:DAYLIGHT
TZOFFSETFROM:+0200
TZOFFSETTO:+0300
TZNAME:EEST
DTSTART:20260329T010000
END:DAYLIGHT
BEGIN:STANDARD
TZOFFSETFROM:+0300
TZOFFSETTO:+0200
TZNAME:EET
DTSTART:20261025T010000
END:STANDARD
END:VTIMEZONE
BEGIN:VEVENT
DTSTART;TZID=Europe/Helsinki:20251002T181500
DTEND;TZID=Europe/Helsinki:20251002T190000
DTSTAMP:20260423T160911
CREATED:20250929T123137Z
LAST-MODIFIED:20250929T125005Z
UID:35139-1759428900-1759431600@cartier.md
SUMMARY:Rodica Zafiu și Valentin Guțu în dialog cu Nina Corcinschi la Librăria din Centru
DESCRIPTION:Rodica Zafiu și Valentin Guțu în dialog cu Nina Corcinschi la Librăria din Centru \nJoi\, 2 octombrie\, la ora 18.15\, la Librăria din Centru (bd. Ștefan cel Mare\, nr.126) din Chișinău\, va avea loc lansarea volumelor 101 de cuvinte argotice de Rodica Zafiu (Editura Humanitas) și  Dicționar al greșelilor de limbă de Valentin Guțu (Editura Cartier) printr-un dialog dintre autori și criticul literar Nina Corcinschi. \nPreț promoțional în ziua lansării. Sesiune de autografe. \nCărți esențiale ale limbii române de azi. \n„Argoul fascinează prin exotism şi familiaritate\, fiind un limbaj deopotrivă depărtat şi apropiat\, al altora şi al nostru: alcătuit din cuvinte uneori misterioase\, cu formă de neînţeles\, dar\, mai des\, înşelătoare prin sensul neobişnuit asociat unei forme banale. În acelaşi timp\, argoul e o ilustrare a posibilităţilor ludice şi estetice ale limbii; un spaţiu în care îşi manifestă creativitatea vorbitori anonimi\, dotaţi cu ingeniozitate şi umor. Multă vreme neînregistrate în scris şi necuprinse în dicţionare\, unele dintre aceste cuvinte (şi expresii) şi-au schimbat destul de mult forma şi sensul\, devenind mici enigme etimologice. Prezenta lucrare s-a încumetat pe acest teren alunecos\, unde efortul detectivistic aduce surprize şi satisfacţii mai mari decât în zonele mai aşezate\, mai cunoscute ale limbii.“ (Rodica Zafiu) \n„Dicţionarul greșelilor de limbă nu se poate confunda cu niciunul dintre îndreptarele și ghidurile de exprimare apărute în spaţiul editorial românesc în ultimele decenii. E diferit prin obiect (urmărind abaterile de la normă pe un teritoriu larg: atît în Republica Moldova\, cît și în România) și prin dimensiuni (impresionante)\, dar mai ales prin metodă\, prin felul în care își întîmpină și își convinge destinatarii. E un instrument extrem de util pentru vorbitorii dornici să stăpînească registrul standard al limbii române; în același timp\, pentru cercetători\, e o sursă valoroasă de informaţii despre starea reală a limbii actuale…” (Rodica Zafiu) \nRODICA ZAFIU (n. 6 mai 1958\, Bucureşti). Absolventă a Facultăţii de Limba şi Literatura Română la Universitatea din Bucureşti. Doctor în filologie. Din 1990\, cadru didactic la Catedra de Limba Română a Facultăţii de Litere a Universităţii din Bucureşti (din 2007\, profesor universitar). Din 2003\, cercetător ştiinţific I la Institutul de Lingvistică „Iorgu Iordan – Al. Rosetti“ (Sectorul de gramatică). \nDomenii de cercetare: lingvistica textului\, pragmatică\, stilistică şi poetică\, gramatică\, lexic\, onomastică literară\, retorică\, argumentare\, teoria lecturii\, istoria limbii literare. Contribuţii la cercetarea conectorilor pragmatici\, a mijloacelor lingvistice ale modalizării şi aproximării\, a discursului politic şi jurnalistic\, a limbii române vorbite (argou)\, a raportului scriere–oralitate\, a tendinţelor limbii române actuale. \nCărţi: Poezia simbolistă românească\, Bucureşti\, 1996; Naraţiune şi poezie\, Bucureşti\, 2000; Diversitate stilistică în româna actuală\, Bucureşti\, 2001; Limbaj şi politică\, Bucureşti\, 2007. În colab.: Dicţionarul scriitorilor români\, vol. I–IV\, Bucureşti\, 1995–2002; Dicţionarul esenţial al scriitorilor români (DESR)\, Bucureşti\, 2000; Enciclopedia limbii române\, Bucureşti\, 2001\, 2006; Gramatica limbii române\, I–II\, Bucureşti\, 2005\, 2008; Eşti cool şi dacă vorbeşti corect!\, Bucureşti\, 2010; Gramatica de bază a limbii române\, București\, 2010\, 2016; Studii de istorie a limbii române: Morfosintaxa limbii literare în secolele al XIX-lea şi al XX-lea\, București\, 2012\, 2015; The Grammar of Romanian\, Oxford\, 2013; The Syntax of Old Romanian\, Oxford\, 2016; Dicționar de interpretări gramaticale\, București\, 2020; The Oxford History of Romanian Morphology\, Oxford\, 2021. Edit./coord. în colaborare: Studii lingvistice. Omagiu profesoarei Gabriela Pană Dindelegan\, la aniversare\, Bucureşti\, 2007; Studii de gramatică. Omagiu Doamnei Profesoare Valeria Guţu Romalo\, Bucureşti\, 2009; Limba română: teme actuale. Actele celui de-al 8-lea Colocviu al Catedrei de limba română\, Bucureşti\, 2009. Manuale în colaborare: Limba şi literatura română (cl. a IX-a\, 1994\, 2004; cl. a X-a\, 2000\, 2005; cl. a XI-a\, 2001\, 2006; cl. a XII-a\, 2002\, 2007)\, Bucureşti. Zeci de articole şi recenzii în reviste de specialitate\, articole în volume colective. \nVALENTIN GUȚU\, născut la 27 martie 1954 în satul Măcăreuca\, județul Soroca\, a absolvit Universitatea Pedagogică de Stat „Ion Creangă” din Chișinău (1977). Este redactor la Editura Cartier și stilizator la revista „Noi”. Membru al Uniunii Scriitorilor din Republica Moldova. A publicat articole de cultivare a limbii în „Revista literară” și în cărți de specialitate\, proză scurtă în „Literatură și artă”\, „Contrafort”\, „Viața Basarabiei”\, „Vatra”. În 1998\, la Editura Arc din Chișinău i-a apărut ediția I a Dicționarului greșelilor de limbă\, iar în 2014\, la Editura Cartier\, ediția a II-a\, revăzută și adăugită. La aceeași editură\, Cartier\, îi apar\, în 2017\, volumul de „lingvistică prozaică sau/și proză lingvistică” Duși cu Titanicu’\, iar în 2022\, Filtre. Articole de cultivare a limbii. \nNina CORCINSCHI este critic literar. Cea mai recentă carte publicată: Realitatea ca hologramă\, Editura Cartier\, 2022. \n101 de cuvinte argotice\, de Rodica Zafiu\, Editura Humanitas. Broșată\, 384 pag. Preț: 215 MDL \nDicționar al greșelilor de limbă\, de Valentin Guțu\, Editura Cartier. Legată\, 928 pag. Preț: 699 MDL
URL:https://cartier.md/eveniment/rodica-zafiu-si-valentin-gutu-in-dialog-cu-nina-corcinschi-la-libraria-din-centru/
LOCATION:Librăria din Centru\, bd.Ștefan cel Mare și Sfânt\, nr. 126\, Chișinău\, 2060\, Moldova\, Republic of
CATEGORIES:Lansări de carte
ATTACH;FMTTYPE=image/jpeg:https://cartier.md/wp-content/uploads/2025/09/2-.10.-25-scaled.jpg
ORGANIZER;CN="Editura Cartier":MAILTO:vanzari@cartier.md
END:VEVENT
BEGIN:VEVENT
DTSTART;TZID=Europe/Helsinki:20251009T180000
DTEND;TZID=Europe/Helsinki:20251009T190000
DTSTAMP:20260423T160911
CREATED:20251008T062057Z
LAST-MODIFIED:20251008T062116Z
UID:35212-1760032800-1760036400@cartier.md
SUMMARY:Dialog poetic și lansare cu Clara Caradimu\, la Insomnia Cafe & Bistro Cluj
DESCRIPTION:Dialog poetic și lansare cu Clara Caradimu\, la Insomnia Cafe & Bistro Cluj \n  \nPrieteni din Cluj\, joi\, 9 octombrie\, la ora 18.00\, la Insomnia Cafe & Bistro din Cluj-Napoca (str. Universității\, nr.2)\, vă invităm la dialog poetic și lansare cu Clara Caradimu\, cu prilejul apariției volumului de poeme Piciorul meu de trandafir\, apărut la Editura Cartier\, colecția Rotonda\, coordonată de Em. Galaicu-Păun. \n  \n„De obicei când cineva scrie despre copilărie se face așa mic micuț și prostuț\, dar aici nu\, nu mimează inocența. Volumul are un fel simpatic de a devia de la compunerile obișnuite școlare si se duce în maturitate.” (Dan Sociu) \n„Poemele Clarei sunt crenguțe atârnate la granița dintre vis și real\, iar universul pe care îl descriu e dincolo de viață. Mereu mi-am imaginat că așa se simte când treci în neființă – corpul îți e mai ușor; în jurul tău e o dezordine colorată\, la fel ca în paginile cărții. John Bagăli\, prietenul ei imaginar\, e un personaj cu care se plimbă de mână copilul tău interior. Volumul de debut al Clarei reconstruiește în fiecare dintre noi lumi pe care nu le credeam posibile. Și lumi din care\, ne dăm seama mai târziu\, nu ne vom întoarce niciodată singuri.” (Irina Francisca Ion) \nCLARA CARADIMU (n. 2001\, București) este poetă și artistă\, absolventă de Filosofie la Universitatea din București. A publicat în antologiile Trezirea\, Pregătirea (Editura Alchimica\, 2024)\, Vederi. O antologie a Cenaclului Visceral (Editura Dezarticulat\, 2024)\, Ce-ți spui noaptea înainte de culcare (Editura Cartex\, 2024) și în revista „Tomis”.\nFace parte din Cenaclul Visceral și a citit în cadrul ediției 281 a\nInstitutului Blecher și la Poetic Hub #8. \nDialog poetic și lansare cu Clara Caradimu (colecția Rotonda). Broșată\, 68 pag.\, 29 RON/ 119 MDL. \n  \nPoți procura cartea și online\, oriunde ai fi. E simplu. Intră pe cartier.ro\, cu livrare din București\, sau cartier.md\, cu livrare din Chișinău. \n  \nÎn Rotonda au mai apărut: \nAicea-i și raiul\, și iadul. Republica Moldova: un veac de istorie trăită\, de Paula Erizanu \nTu și alte femei\, de Dumitru Crudu \nM-a făcut mama existențialist\, de Constantin Cheianu  \nAl nostru\, de Mihai Răcilă \nFantoma blondă\, de Boris Cremene  \nLucrări de mentenanță pe Drumul Mătăsii\, de Sorin Hadârcă \nNord\, de Dan Sociu  \nRegatul disfuncției\, de Sorina Rîndașu \nUn râs ca un zgomot de sticle sparte\, de Cristina Drăghici  \nPolitici de confidențialitate\, de Sorin Despot  \nNu doare când dormi\,  de Alina Țârcoman-Ochea  \nNickel\,  de Cristina Hermeziu  \nÎn zori ca după un sfârșit de lume\,  de Emanuel Guralivu  \nAuzi cum cântă conestoga? de Doru Ciocanu  \nÎnzecit\, de Nicolae Popa \nȘi-am să devin erou. Texte egoiste\, de Gheorghe Erizanu \nSindromul Joubert\, de Tiberiu Neacșu \nLegată cu funia de pământ\, de Lorina Bălteanu \nCasa mai multor primăveri (roman)\, de Alexandru Bordian \nJurnal precar\, de Tamara Cărăuș \nKaulas (roman)\, de Gelu Diaconu
URL:https://cartier.md/eveniment/dialog-poetic-si-lansare-cu-clara-caradimu-la-insomnia-cafe-bistro-cluj/
LOCATION:Insomnia Cafe & Bistro\, Cluj-Napoca\, str. Universității\, nr. 2\, Cluj-Napoca
CATEGORIES:Dialogurile Cartier
ATTACH;FMTTYPE=image/jpeg:https://cartier.md/wp-content/uploads/2025/10/afis_caradimu-scaled.jpg
ORGANIZER;CN="Editura Cartier":MAILTO:vanzari@cartier.md
END:VEVENT
BEGIN:VEVENT
DTSTART;TZID=Europe/Helsinki:20251009T181500
DTEND;TZID=Europe/Helsinki:20251009T190000
DTSTAMP:20260423T160911
CREATED:20251006T070453Z
LAST-MODIFIED:20251006T070453Z
UID:35193-1760033700-1760036400@cartier.md
SUMMARY:Lansare de carte Dobrogea. Coloniștii germani între Dunăre și Marea Neagră\, de Josef Sallanz\, la Librăria din Centru
DESCRIPTION:Dobrogea. Coloniștii germani între Dunăre și Marea Neagră\, de Josef Sallanz\, la Librăria din Centru\nJoi\, 9 octombrie crt\, la ora 18.15\, la Librăria din Centru (bd. Ștefan cel Mare\, nr.126) din Chișinău\, va avea loc lansarea volumului Dobrogea. Coloniștii germani între Dunăre și Marea Neagră\, de Josef Sallanz\, apărut la Editura Cartier în colecția Art\, coordonată de Vitalie Coroban.\nPreț promoțional în ziua lansării.\nSesiune de autografe.\nParticipă:\nJosef Sallanz\nIgor Cașu\nDorin Lozovanu\nGalina Corman\nVirgil Pâslariuc\nModerator: Em. Galaicu-Păun\n„Ne aflăm în fața unei lucrări remarcabile prin competență\, concepută într-o manieră clară și expresivă și\, totodată\, deosebit de accesibilă lecturii\, care […] se sprijină în mod temeinic pe literatura de specialitate relevantă. Analizele autorului sunt susținute și ilustrate cu finețe prin inserarea unor texte și documente iconografice atent selecționate. Chiar dacă istoria frământată și dureroasă\, precum și universurile existențiale\, mereu captivante\, ale germanilor dobrogeni nu mai zac în întregime în penumbra uitării\, această carte contribuie\, fără îndoială\, la readucerea lor în conștiința colectivă – într-un mod revelator și viu.” (Anton STERBLING\, Zeitschrift fur Balkanologie) \nJOSEF SALLANZ (n. în 1963) a studiat Științe Politice\, Germanistică\, Romanistică și Geografie umană la Heidelberg și Potsdam. A fost cercetător și cadru didactic la Heidelberg\, Potsdam\, Mainz\, Magdeburg și Berlin. Din 2016 până în 2022 a fost lector DAAD (Serviciul German de Schimb Academic) la Universitatea Pedagogică de Stat „Ion Creangă” din Chișinău\, unde activează din nou în aceeași poziţie din septembrie 2024. Domeniile sale de cercetare cuprind: teme regionale din perspectivă istorică și geografică despre Dobrogea\, Banat și Basarabia; procese transformaționale în Europa de Sud-Est după 1989; politici culturale și ale minorităților; regiuni de graniță ale Europei de Est. A avut multiple stagii de cercetare în România\, Republica Moldova\, Bulgaria și Ucraina.\nMonografia de față a fost realizată la Institutul de Istorie a Universității „Johannes Gutenberg” din Mainz\, în cadrul proiectului de cercetare\, „Germanii și vecinii lor din Dobrogea. Despre conviețuirea grupurilor etnice între Dunăre și Marea Neagră”\, finanţat de Reprezentanta Guvernului Federal pentru Cultură și Media (Beauftragte der Bundesregierung für Kultur und Medien\, BKM).\nIgor CAȘU este istoric și directorul Agenției Naționale a Arhivelor. Cea mai recentă carte publicată: Dușmanul de clasă. Represiuni politice\, violență și rezistență în R(A)SS Moldovenească\, 1924- 1956. Editura Cartier\, 2015.\nDorin LOZOVANU este etnolog și antropolog. Cea mai recentă carte publicată: Regiunea de dezvoltare Centru. Aspecte geografice\, socio-economice și ecologice (împreună cu Petru Bacal). Institutul de Ecologie și Geografie\, 2020. \nGalina CORMAN este istoric\, profesoară la Universitatea de Stat din Moldova.\nVirgil PÂSLARIUC este istoric și coordonatorul colecție Cartier istoric.\nEmilian GALAICU-PĂUN este scriitor și traducător\, redactor-șef al Editurii Cartier. Cel mai recent volum: Times New. Roman 12/18\, Editura Cartier\, 2024. \nDobrogea. Coloniștii germani între Dunăre și Marea Neagră\, de Josef Sallanz (Art). Traducere din germană de Maria Muscan. Legată\, 264 pag. Preț: 89 RON/319 MDL \nPoți procura cartea și online\, oriunde ai fi. E simplu. Intră pe cartier.ro\, cu livrare din București\, sau pe cartier.md\, cu livrare din Chișinău. \nÎn curând:\nBasarabia. Coloniștii germani de la Marea Neagră\, de Ute Shmidt (Art). Traducere din germană de Cristina Grossu-Chiriac. Legată\, 432 pag. Preț: 89 RON/319 MDL \nÎn colecția Art au mai apărut:\nIlustrația de modă în Republica Moldova (ediție română & engleză)\, de Eugen Reabenchi\nChișinău\, mon amour (ediție română & franceză)\, de Veronique North-Minca\nArta covoarelor vechi\, de Gheorghe Mardare\nRAW Moldova. Fotografie documentară colectivă 2012 – 2023\, de Lucia Lupu ș.a.\nArta covoarelor vechi\, de Gheorghe Mardare\nGheorghe Bezviconi\, un aristocrat al istoriei\, de Iurie Colesnic\nAlbum (ediție română & engleză)\, de Iurie Platon
URL:https://cartier.md/eveniment/lansare-de-carte-dobrogea-colonistii-germani-intre-dunare-si-marea-neagra-de-josef-sallanz-la-libraria-din-centru/
LOCATION:Librăria din Centru\, bd.Ștefan cel Mare și Sfânt\, nr. 126\, Chișinău\, 2060\, Moldova\, Republic of
CATEGORIES:Lansări de carte
ATTACH;FMTTYPE=image/jpeg:https://cartier.md/wp-content/uploads/2025/10/9-.10.-25-1-scaled.jpg
ORGANIZER;CN="Editura Cartier":MAILTO:vanzari@cartier.md
END:VEVENT
BEGIN:VEVENT
DTSTART;TZID=Europe/Helsinki:20251015T181500
DTEND;TZID=Europe/Helsinki:20251015T190000
DTSTAMP:20260423T160911
CREATED:20251013T072106Z
LAST-MODIFIED:20251013T072106Z
UID:35238-1760552100-1760554800@cartier.md
SUMMARY:Lansare de carte Mistere și legende din străbuni\, de Lilia Bicec-Zanardelli\, la Librăria din Centru
DESCRIPTION:Mistere și legende din străbuni\, de Lilia Bicec-Zanardelli\, la Librăria din Centru \nMiercuri\, 15 octombrie\, la ora 18.15\, la Librăria din Centru (bd. Ștefan cel Mare\, nr.126) din Chișinău\, va avea loc lansarea cărții pentru copii Mistere și legende din străbuni\, de Lilia Bicec-Zanardelli\, ilustrații de Vitalie Coroban\, apărută la Editura Cartier\, la inițiativa și cu contribuția Biroului Relații cu Diaspora\, Guvernul Republicii Moldova și Diaspora Engagement Hub. \nPreț promoțional în ziua lansării. \nSesiune de autografe. \nVor participa:  \nLilia Bicec-Zanardelli \nClaudia Partole \nOxana Roșca \nAlina Radu \nModerator: Gheorghe Erizanu \nMistere și legende din străbuni adună povești inspirate din tradițiile și istoria poporului nostru\, păstrate cu grijă și transmise din generație în generație. Este un omagiu adus moștenirii culturale a neamului nostru și un sprijin prețios pentru toți cei care\, chiar dacă trăiesc departe de casă\, doresc să-și păstreze limba\, identitatea și legătura cu baștina. \nLilia BICEC-ZANARDELLI s-a născut la 2 martie 1965\, în satul Viișoara\, raionul Glodeni\, din Republica Moldova\, în familia unor foști deportaţi în Siberia. Licenţiată a Facultăţii de Jurnalistică a Universităţii de Stat din Chișinău. A lucrat la redacţiile gazetelor raionale din Căinari și Glodeni\, apoi la publicaţia liberă Accent provincial din judeţul Bălţi. Fondatoarea revistei Moldbrixia news (în română şi italiană); din 2013\, corespondent al cotidianului Giornale di Brescia. \nCărți publicate: Testamentul necitit\, roman epistolar\, Editura Cartier\, 2009\, în italiană Miei cari figli\, vi scrivo\, Editura Einaudi\, Torino\, 2013; Bumerang\, roman\, Editura Cartier\, 2016\, apărut în italiană la Editura Europa Edizioni\, 2018; Donna e…\, antologie de proză scurtă a femeilor din Italia\, Editura Rai Com Spa\, Roma\, 2014; Moldova\, istorie orală (antologie de istorii ale femeilor din lume: Franţa\, Albania\, Argentina\, Marocco\, Siria etc. – „La tela di Penelope”)\, Editura Moica\, Brescia\, 2014. Prezentă în antologia Novel of the World\, Editura Mondadori\, Milano cu nuvela Mămăligă cu dor de casă\, antologie lansată la EXPO\, Milano 2015; Lagărul 33\, roman\, Editura Cartier\, 2020\, tradus în italiană cu titlul O dragoste siberiană; Femeia cu ochi de șoim\, proză scurtă\, Editura Polisalm\, 2024. \nClaudia PARTOLE este scriitoare. Cea mai recentă carte publicată: Calea înApoi\, Editura Lumina\, 2025. \nOxana ROȘCA este consultantă principală al Biroului Relații cu Diaspora. \nAlina RADU este ziaristă și directoarea Ziarului de Gardă. \nGheorghe ERIZANU este editor. Cea mai recentă carte publicată: Și-am să devin erou\, Editura Cartier\, 2023. \n  \nMistere și legende din străbuni (ediție română & italiană)\, de Lilia Bicec-Zanardelli. Ilustrații de Vitalie Coroban. Legată\, 32 pag. Preț: 49 RON/179 MDL \n  \nPoți procura cartea și online\, oriunde ai fi. Pe cartier.md\, cu livrare din Chișinău sau pe cartier.ro\, cu livrare din București. \n  \nNoutăți în colecția Cartier codobelc: \nAlice în Țara Minunilor\, de Lewis Carroll. Ilustrații de Irina Dobrescu. Traducere din engleză de Dan Sociu \nFrunzulița și Andalunda\, de Peter Demeny. Ilustrații de Anca Smărăndache \nGoldie merge la munte\, de Cristian Fulaș. Ilustrații de Kesgez Agnes \nGoldie merge în vacanță\, de Cristian Fulaș. Ilustrații de Kesgez Agnes \nToate întâmplările se prefac în cuvinte\, de Vasile Romanciuc. Ilustrații de Ivanka Costru \nRegele Piticuț\, de Radu Vancu. Ilustrații de Irina Dobrescu \nFratele fraților rătăcitori\, de Radu Vancu. Ilustrații de Cristina Dan \nCartea de plastilină\, de Ionela Hadârcă. Ilustrații de Maxim Bivol \nAnunțuri hazlii pentru adulți și copii\, de Ionela Hadârcă. Ilustrații de Irina Dobrescu \nDescântece de bune maniere\, de Ionela Hadârcă. Ilustrații de Veronica Neacșu \n  \nÎn curând: \nBăiețelul care și-a pierdut bucuria\, de Racha Mourtada. Ilustrații de Dania K. Traducere din engleză de Anastasia Gavrilovici \nTinerețe fără bătrânețe\, de Petre Ispirescu. Ilustrații de Horia Muntean \nGoldie merge la doctor\, de Cristian Fulaș. Ilustrații de Kesgez Agnes \nToți prietenii mei\, de Cristian Fulaș. Ilustrații de Kesgez Agnes
URL:https://cartier.md/eveniment/lansare-de-carte-mistere-si-legende-din-strabuni-de-lilia-bicec-zanardelli-la-libraria-din-centru/
LOCATION:Librăria din Centru\, bd.Ștefan cel Mare și Sfânt\, nr. 126\, Chișinău\, 2060\, Moldova\, Republic of
CATEGORIES:Lansări de carte
ATTACH;FMTTYPE=image/jpeg:https://cartier.md/wp-content/uploads/2025/10/15.10-scaled.jpg
ORGANIZER;CN="Editura Cartier":MAILTO:vanzari@cartier.md
END:VEVENT
BEGIN:VEVENT
DTSTART;TZID=Europe/Helsinki:20251016T171500
DTEND;TZID=Europe/Helsinki:20251016T180000
DTSTAMP:20260423T160911
CREATED:20251015T074306Z
LAST-MODIFIED:20251015T075528Z
UID:35245-1760634900-1760637600@cartier.md
SUMMARY:Lansare de carte Vișinul\, de Ion Bradu\, la Librăria din Centru
DESCRIPTION:Vișinul\, de Ion Bradu\, la Librăria din Centru \nJoi\,  16 octombrie crt\, la ora 17.15\, la Librăria din Centru (bd. Ștefan cel Mare\, nr.126) din Chișinău\, va avea loc lansarea volumului de proză scurtă Vișinul\, de Ion Bradu\,  apărut la Editura Polisalm. \nPreț promoțional în ziua lansării. \nParticipă:  \nAna Bradu \nLiviu Belâi \nIulian Ciocan \nVictor Prohin \nArcadie Suceveanu \nModerator: Emilian Galaicu-Păun \n„În ceea ce scria se alinia la marea literatură a lumii. Eroii lui – contemporanii noștri\, consângeni din sate basarabene – au gesturi de Don Quijote\, îngândurări de Madame Bovary\, frământări de Macbeth. Stilul lui e o intercalare de Faulkner\, Zweig\, Sadoveanu\, Galsworthy – zeii tinereții noastre. Cartea lui de povestiri Bulboana ielelor (1980) a fost un eveniment. O asemănam cu un fluviu\, autorul lăsându-se dus de meandrele narațiunii\, ca un călător pe un vas în derivă\, care nu știe la care mal îl va duce.” (Nicolae Dabija) \n„Multă lume îl cunoștea ca pe un cititor avid cu o bibliotecă în expansiune continuă. Enciclopediile\, romanele\, biografiile i-au acaparat pereții biroului\, apoi podeaua\, după care și-au continuat ofensiva în dormitor. Citea câte 10-15 cărți în paralel. Avea o slăbiciune pentru Olga Tokarczuk și Kazuo Ishiguro\, dar și pentru Marcus Aurelius. A primit în dar de la Ana un semn de carte lucrat manual\, adus dintr-o călătorie în Peru. «O bijuterie pe care azi n-o schimb nici pe un palat de cleștar»\, scria el despre acest cadou. «Când reveneam acasă\, primul lucru pe care-l făceam era să intru în camera lui\, să văd ce carte citește și\nunde s-a parcat semnul»\, râde Ana.” (Revista DOR) \nION BRADU (5 noiembrie 1947\, comuna Dondușeni\, raionul Târnova (azi raionul Dondușeni) – 13 februarie 2021)\, prozator\, jurnalist\, om de cultură de mare sensibilitate și spiritualitate creștină\, își face studiile superioare la Universitatea de Stat din Moldova\, secția ziaristică pe care o absolvă în 1971.\nPe parcursul anilor\, activează în calitate de redactor la ziarele Tinerimea Moldovei și Moldova socialistă\, săptămânalul Cultura și la ziarul Învățământul public\, redactor-șef la Revista de pedagogie și psihologie. A fost consilier la Guvernul Republicii Moldova\, consilier la Compania Publică Teleradio-Moldova.\nCa prozator\, Ion Bradu debutează în 1980 cu cartea Bulboana ielelor\, o culegere de povestiri inspirate din copilăria sa la țară cu o prefață semnată de scriitorul Ion C. Ciobanu.\nAutor de povestiri\, nuvele\, publicist\, începând cu anul 2014 Ion Bradu se alătură echipei Moldova ortodoxă\, portal unde își publică eseurile și Jurnalul săptămânal.\nScriitorul pregătea pentru tipar\, înainte de a fi răpus de Covid 19\, un nou volum de proză scurtă\, considerând că acesta este genul care îl exprimă cel mai bine\, volum care apare acum\, datorită fiicei Ana\, la Editura Polisalm. \n  \nAna BRADU este fiica lui Ion Bradu. Locuiește și lucrează în Marea Britanie. \nLiviu BELÂI este jurnalist. Cel mai proaspăt volum publicat: Constantin Ețco\, magul din Țara Gorunilor\, Editura Epigraf\, 2021. \nIulia CIOCAN este prozator. Cele mai recente romane publicate: Tărâmul lui Sașa Kozak\, Editura Arc\, 2024 și Iar mâine vor veni rușii\, Editura Polirom\, 2024. \nVictor PROHIN este scriitor. Cel mai proaspăt volum publicat: Dacă ar fi mânzul fotograf\, Editura Prut Internațional\, 2002. \nArcadie SUCEAVEANU este scriitor. Cel mai recent volum publicat: Terasa galbenă\, Editura Arc\, 2022. \nEmilian GALAICU-PĂUN este scriitor și traducător\, redactor-șef al Editurii Cartier. Cel mai recent volum: Times New. Roman 12/18\, Editura Cartier\, 2024. \n Vișinul\, de Ion Bradu (Editura Polisalm). Broșată\, 280 pag. Preț: 199 MDL/49 RON.
URL:https://cartier.md/eveniment/lansare-de-carte-visinul-de-ion-bradu-la-libraria-din-centru-2/
LOCATION:Librăria din Centru\, bd.Ștefan cel Mare și Sfânt\, nr. 126\, Chișinău\, 2060\, Moldova\, Republic of
CATEGORIES:Lansări de carte
ATTACH;FMTTYPE=image/jpeg:https://cartier.md/wp-content/uploads/2025/10/16.10--scaled.jpg
ORGANIZER;CN="Editura Cartier":MAILTO:vanzari@cartier.md
END:VEVENT
BEGIN:VEVENT
DTSTART;TZID=Europe/Helsinki:20251029T180000
DTEND;TZID=Europe/Helsinki:20251029T190000
DTSTAMP:20260423T160911
CREATED:20251022T082426Z
LAST-MODIFIED:20251022T084240Z
UID:35289-1761760800-1761764400@cartier.md
SUMMARY:Lansare de carte Tot ce rămâne\, de George C. Dumitru\, la Librăria HUMANITAS Oradea
DESCRIPTION:Tot ce rămâne\, de George C. Dumitru\, la Librăria HUMANITAS Oradea \nDragi prieteni din Oradea\, miercuri\, 29 octombrie\, la ora 18.00\, Editura Cartier\, Librăriile Humanitas și revista Familia vă invităm la Librăria HUMANITAS Oradea (Strada Armatei Române\, nr.1/A\, în incinta bibliotecii județene) la o întâlnire cu scriitorul George C. Dumitru\, prilejuit de ediția a II-a a romanului său Tot ce rămâne\, proaspăt apărut la Editura Cartier (colecția Cartier popular). Va fi un dialog dintre autor și Mircea Pricăjan.\n„Am citit cu mare bucurie romanul lui George C. Dumitru\, cu impresia că mi-a povestit copilăria din anii 1980. Nu vă temeți\, nu e o biografie romanțată despre mine. (Nici măcar eu n-aș citi așa ceva.) Tot ce rămâne este un roman despre cotidianul ceaușismului târziu\, așa cum îl percepe un copil dintr-un sat dobrogean. Dar e lumea văzută nu numai prin ochii lui George\, ci prin ochii unei întregi generații. Cine a trecut pe-acolo va tresări la fiecare pagină; cine nu – va avea prilejul să perceapă dinăuntru o lume complicată\, cu bunele și relele ei. „Era bine. Adică era rău\, cu comunismul și lipsurile și tot. Dar era bine” – așa rezumă protagonistul epoca din care s-a desprins. Și cu el\, toată lumea românească. George C. Dumitru scrie o carte plină de umor\, care nu schematizează\, nu exotizează și nici nu idealizează comunismul târziu.” (Bogdan Crețu)\n„Cu Tot ce rămâne\, George C. Dumitru dă cel mai bun roman al său din ultimii ani; își dă adevărata măsură urcând pe câmpiile luxuriante ale nostalgiei și povestindu-ne – ici zâmbitor\, mai încolo trist\, colo de-a dreptul (auto)ironic – nu viața lui\, ar fi prea simplu să înțelegem literatura așa\, ci o versiune\, cum spuneam\, „nostalgizată” a propriilor amintiri. Nu știu dacă literatura sau frumusețea vor salva lumea\, dar cu siguranță amintirile ne țin în viață.” (Cristian Fulaș)\nGEORGE C. DUMITRU s-a născut în 1978 în Constanța. Este prozator\, absolvent de Cibernetică\, Statistică și Informatică Economică\, ASE București. După mai multe apariții în publicații și antologii\, a debutat editorial cu volumul de proză scurtă “Poveste cu o fată” (2010).\nÎn 2021 a apărut romanul “…și toate zilele de azi” la editura Humanitas\, roman nominalizat la Premiul „Mihai Giugariu” pentru 2021\, oferit de ARCCA.\nAu urmat\, la editura Polirom\, volumul de povestiri “Fericire” (2022) și romanul “Rupturi” (2023)\, roman nominalizat la Premiul Național pentru Proză al Ziarului de Iași\, ediția 2024 și la Premiul „Mihai Giugariu” pentru 2023 oferit de ARCCA.\nÎn octombrie 2023 a lansat platforma literară nesemnate.ro\nMircea PRICĂJAN este scriitor\, traducător și redactorul-șef al revistei Familia. Cea mai recentă carte: romanul Murmur (Humanitas\, 2023).\nTot ce rămâne (roman)\, de George C. Dumitru. Broșată\, 204 pag. Preț: 39 RON/169 MDL
URL:https://cartier.md/eveniment/lansare-de-carte-tot-ce-ramane-de-george-c-dumitru-la-libraria-humanitas-oradea-2/
LOCATION:Librăria HUMANITAS Oradea\, Calea Republicii nr.11\, Oradea\, România
CATEGORIES:Lansări de carte
ATTACH;FMTTYPE=image/jpeg:https://cartier.md/wp-content/uploads/2025/10/Afis_G_Dumitru_Tot_ce.jpg
END:VEVENT
END:VCALENDAR