BEGIN:VCALENDAR
VERSION:2.0
PRODID:-//Editura și Librăriile CARTIER - ECPv6.15.20//NONSGML v1.0//EN
CALSCALE:GREGORIAN
METHOD:PUBLISH
X-ORIGINAL-URL:https://cartier.md
X-WR-CALDESC:Evenimente pentru Editura și Librăriile CARTIER
REFRESH-INTERVAL;VALUE=DURATION:PT1H
X-Robots-Tag:noindex
X-PUBLISHED-TTL:PT1H
BEGIN:VTIMEZONE
TZID:Europe/Helsinki
BEGIN:DAYLIGHT
TZOFFSETFROM:+0200
TZOFFSETTO:+0300
TZNAME:EEST
DTSTART:20240331T010000
END:DAYLIGHT
BEGIN:STANDARD
TZOFFSETFROM:+0300
TZOFFSETTO:+0200
TZNAME:EET
DTSTART:20241027T010000
END:STANDARD
BEGIN:DAYLIGHT
TZOFFSETFROM:+0200
TZOFFSETTO:+0300
TZNAME:EEST
DTSTART:20250330T010000
END:DAYLIGHT
BEGIN:STANDARD
TZOFFSETFROM:+0300
TZOFFSETTO:+0200
TZNAME:EET
DTSTART:20251026T010000
END:STANDARD
BEGIN:DAYLIGHT
TZOFFSETFROM:+0200
TZOFFSETTO:+0300
TZNAME:EEST
DTSTART:20260329T010000
END:DAYLIGHT
BEGIN:STANDARD
TZOFFSETFROM:+0300
TZOFFSETTO:+0200
TZNAME:EET
DTSTART:20261025T010000
END:STANDARD
END:VTIMEZONE
BEGIN:VEVENT
DTSTART;TZID=Europe/Helsinki:20250204T181500
DTEND;TZID=Europe/Helsinki:20250204T190000
DTSTAMP:20260425T160514
CREATED:20250131T092042Z
LAST-MODIFIED:20250131T092120Z
UID:33481-1738692900-1738695600@cartier.md
SUMMARY:Lansare de carte Doctrinele muncii și politica profesiunilor\, de Victor Rizescu\, la Librăria din Centru
DESCRIPTION:[vc_row][vc_column][vc_column_text el_class=””] \n  \nDoctrinele muncii și politica profesiunilor\, de Victor Rizescu\, la Librăria din Centru\nMarți\, 4 februarie crt\, la ora 18.15\, la Librăria din Centru (bd. Ștefan cel Mare\, nr.126) din Chișinău\, va avea loc lansarea volumului Doctrinele muncii și politica profesiunilor\, de Victor Rizescu\, apărut la Editura Cartier în colecția Cartier istoric\, coordonată de Virgil Pâslariuc.\nPreț promoțional în ziua lansării.\nSesiune de autografe.\nAlături de autor vor participa:\nAndrei Cușco\,\nNicolae Enciu\,\nOctiavian Țâcu\nModerator: Em.Galaicu-Păun\n„Istoria intelectuală a României a oglindit\, începând din secolul al XIX-lea\, întregul spectru al gândirii europene. În același timp\, dezbaterile românești au reflectat caracteristicile specifice ale țării\, în cadrul regiunii sud est europene. Victor Rizescu a publicat numeroase lucrări despre gândirea social-politică românească\, cu accent asupra corelațiilor politice diverse ale liberalismului local și ale criticilor formulate la adresa lui. Volumul de față conține o colecție de studii ale sale asupra sindicalismului și a proiectului de reorganizare corporatistă a statului român în perioada interbelică. Ele demonstrează anvergura problematicii respective în contextul epocii. Un veritabil tezaur de fapte inedite.” (Armin Heinen\, profesor emerit\, Universitatea din Aachen) \nVICTOR RIZESCU este conferențiar la Facultatea de Științe Politice a Universității din București\, cu studii de Istorie și de Filozofie la Universitatea din București\, la Universitatea Central-Europeană și la Universitatea Oxford. Cărți publicate: Ideologii româneşti şi est europene\, Bucureşti\, Editura Cuvântul\, 2008 (coord.); Tranziţii discursive. Despre agende culturale\, istorie intelectuală şi onorabilitate ideologică după comunism\, Bucureşti\, Corint\, 2012; Ideology\, Nation and Modernization: Romanian Developments in Theoretical Frameworks\, Bucureşti\, Editura Universităţii din Bucureşti 2013; Canonul şi vocile uitate. Secvenţe dintr-o tipologie a gândirii politice româneşti\, Bucureşti\, Editura Universităţii din Bucureşti\, 2015 (ed. a II-a București\, Pro Universitaria\, 2020); Development\, Left and Right: Ideological Entanglements of Reformist Projects in Pre-communist Romania\, București\, Editura Universităţii din Bucureşti\, 2018 (premiul „Nicolae Bălcescu” al Academiei Române); Statul bunăstării pe filiera românească. Fracturi ale dezvoltării și rupturi ale memoriei\, București\, Pro Universitaria\, 2019; Eseuri despre politica memoriei. Accente și recalibrări aniversare București\, Neverland\, 2020. Dintre cărțile traduse și editate: Daniel Chirot\, Schimbarea socială într-o societate periferică. Formarea unei colonii balcanice\, Bucureşti\, Corint\, 2002; Daniel Chirot\, coord.\, Originile înapoierii în Europa de Est. Economie și politică din Evul Mediu până la începutul secolului XX\, Bucureşti\, Corint\, 2004; Constantin Stere\, Scrieri politice şi filozofice\, Bucureşti\, Dominor\, 2005. \nAndrei CUȘCO este istoric. Cea mai recentă carte publicată (împreună cu Victor Taki): Basarabia în componența imperiului rus (1812 – 1917)\, Editura Cartier\, 2024.\nNicolae ENCIU este istoric. Cea mai recentă carte publicată: 1918 pe ruinele imperiului spulberat de istorie. Basarabia în pragul modernității\, Editura Arc\, 2018.\nOctavian ȚÎCU este istoric. Cea mai recentă carte publicată: Problema Basarabiei și relațiile sovieto-române în perioada interbelică (1918 – 1940)\, Editura Litera\, 2024.\nEmilian GALAICU-PĂUN este scriitor\, redactor-șef al Editurii Cartier. Cea mai recentă carte:\nTimes New. Roman 12/18\, Editura Cartier\, 2024. \nDoctrinele muncii și politica profesiunilor. Sindicalism\, corporatism și cooperație în România interbelică de Victor Rizescu (Cartier istoric). Broșată\, 168 pag. Preț: 39 RON/169 MDL \nPoți procura cartea și online\, oriunde ai fi. E simplu. Intră pe cartier.ro sau cartier.md: \nDoctrinele muncii și politica profesiunilor \n\nhttps://cartier.ro/libraria/istorie/doctrinele-muncii-si-politica-profesiunilor/ \nÎn Cartier istoric au mai apărut:\nCum să câștigi un război informațional\, de Peter Pomeranstev. Traducere din engleză de Ioana Rotaru\nPogromul. Chișinăul și înclinarea istorie\, de Steven J. Zipperstein. Traducere din engleză de Cristian Fulaș\nBasarabia în componența Imperiului rus (1812 – 1918)\, de Andrei Cușco și Victor Taki. Traducere din limba rusă de Vevolod Ciornei\nDiplomația Vechiului Regat 1878 – 1914\, de Rudolf Dinu\nBasarabia și nobilimea ei în secolul XIX – începutul secolului XX (vol. I și II)\, de Vladimir Morozan. Traducere din rusă de Vsevolod Ciornei\nCartea foametei\, de Larisa Turea \nÎn curând:\nCeaușescu. O biografie\, de Traian Sandu. Traducere din franceză de Simona Modreanu\nViața lui Celine\, de Frederic Vitoux. Traducere din franceză de Cristian Fulaș[/vc_column_text][/vc_column][/vc_row]
URL:https://cartier.md/eveniment/lansare-de-carte-doctrinele-muncii-si-politica-profesiunilor-de-victor-rizescu-la-libraria-din-centru/
LOCATION:Librăria din Centru\, bd.Ștefan cel Mare și Sfânt\, nr. 126\, Chișinău\, 2060\, Moldova\, Republic of
CATEGORIES:Lansări de carte
ATTACH;FMTTYPE=image/jpeg:https://cartier.md/wp-content/uploads/2025/01/afis_02_03-scaled.jpg
ORGANIZER;CN="Editura Cartier":MAILTO:vanzari@cartier.md
END:VEVENT
BEGIN:VEVENT
DTSTART;TZID=Europe/Helsinki:20250213T181500
DTEND;TZID=Europe/Helsinki:20250213T190000
DTSTAMP:20260425T160514
CREATED:20250210T085002Z
LAST-MODIFIED:20250210T092650Z
UID:33547-1739470500-1739473200@cartier.md
SUMMARY:Lansare de carte Lucrări de mentenanță pe Drumul Mătăsii\, de Sorin Hadârcă\, la Librăria din Centru
DESCRIPTION:[vc_row][vc_column][vc_column_text el_class=””] \nLucrări de mentenanță pe Drumul Mătăsii\, de Sorin Hadârcă\, la Librăria din Centru\nJoi\, 13 februarie crt\, la ora 18.15\, la Librăria din Centru (bd. Ștefan cel Mare\, nr.126) din Chișinău\, va avea loc lansarea volumului de călătorie Lucrări de mentenanță pe Drumul Mătăsii\, de Sorin Hadârcă\, apărut la Editura Cartier în colecția Rotonda\, coordonată de Emilian Galaicu-Păun.\nPreț promoțional în ziua lansării.\nSesiune de autografe.\nParticipă:\nSorin Hadârcă\nAlexandru Cosmescu\nVasile Ernu\nOnorica Banciu\nModerator: Emilian Galaicu-Păun\n„Sorin Hadârcă este o specie rară pe la noi: scriitorul călătoriilor. Are ochiul avizat al unui călător. El nu este un turist care ne spune ceea ce deja știm din pliantele de călătorie pline de locuri comune. Sorin Hadârcă are ochiul unui explorator care este curios să descopere ceea ce nu doar că nu știm\, ci nici nu prea înțelegem. Iar după aceea face pentru cititor munca de dezvăluire a unei lumi la care noi nu avem acces. O face cu multă acuratețe\, respect față de celălalt\, pătrunzând în intimitatea lui fără a-i agresa spațiul. Știe să ne povestească cu măiestrie acea lume străină: să o traducă\, să ne facă să o înțelegem\, cunoaștem și să ne facă chiar să o iubim. Privim spre ea fascinați prin textul mărturiei sale și mai mereu ne lasă sentimentul că și noi suntem parte a călătoriei.” (Vasile Ernu)\nSORIN HADÂRCĂ s-a născut la 17 noiembrie 1973 în or. Bălți. Licențiat al Facultății de Management a Academiei de Studii Economice din Chișinău\, a lucrat la Banca Națională a Moldovei. Și-a urmat studiile în domeniul administrării afacerilor la Instituto de Empresa din Madrid\, al cărui masterand devine în 2004. Întors în țară\, a lucrat în domeniul politicilor publice. A participat în varii proiecte de consultanță internațională\, inclusiv în Kazahstan\, Kosovo și Georgia. În 2014 debutează la Editura Cartier cu volumul Zen la pachet. În anii 2014-2017 promovează politicile publice bazate pe dovezi în calitate de Lider de Echipă în Dhaka\, Bangladesh. Impresiile autorului din această țară dar și din țările din regiune\, în care a călătorit cu cerbicie\, au stat la baza volumului Hrișca & Masala\, publicat la Editura Cartier în 2019.\nAlexandru COSMESCU este poet și filozof. Cea mai recentă carte publicată: Cine nu e mângâiat nu există. O antologie a Generației 2000 (împreună cu Anastasia Gavrilovici)\, Editura Cartier\, 2021.\nVasile ERNU este scriitor. Cea mai proaspătă carte publicată: Generația canibală\, Editura Polirom\, 2024.\nOnorica BACIU este consultant în politici publice.\nEmilian GALAICU-PĂUN este scriitor și traducător\, redactor-șef al Editurii Cartier. Cel mai recent volum: Times New. Roman 12/18\, Editura Cartier\, 2024. \nLucrări de mentenanță pe Drumul Mătăsii\, de Sorin Hadârcă\, (Rotonda). Broșată\, 124 pag. Preț: 39 RON/169 MDL \nPoți procura cartea și online\, oriunde ai fi. E simplu. Intră pe cartier.ro\, cu livrare din București\, sau pe cartier.md\, cu livrare din Chișinău. \nÎn Rotonda au mai apărut:\nNord\, de Dan Sociu\nRegatul disfuncției\, de Sorina Rîndașu\nUn râs ca un zgomot de sticle sparte\, de Cristina Drăghici\nPolitici de confidențialitate\, de Sorin Despot\nNu doare când dormi\, de Alina Țârcoman-Ochea\nNickel\, de Cristina Hermeziu\nÎn zori ca după un sfârșit de lume\, de Emanuel Guralivu\nAuzi cum cântă conestoga? de Doru Ciocanu\nÎnzecit\, de Nicolae Popa\nȘi-am să devin erou. Texte egoiste\, de Gheorghe Erizanu\nSindromul Joubert\, de Tiberiu Neacșu\nLegată cu funia de pământ\, de Lorina Bălteanu\nCasa mai multor primăveri (roman)\, de Alexandru Bordian\nJurnal precar\, de Tamara Cărăuș\nKaulas (roman)\, de Gelu Diaconu\nSingurătățile unei femei frumoase (proză scurtă)\, de Adrian Marcu\nHotel California (proza scurtă)\, de Constantin Cheianu\nDependența (roman)\, de Constantin Cheianu\nEra lumină\, era vânt\, de Mariana Codruț (proză scurtă)\, de Mariana Codruț[/vc_column_text][/vc_column][/vc_row]
URL:https://cartier.md/eveniment/lansare-de-carte-lucrari-de-mentenanta-pe-drumul-matasii-de-sorin-hadarca-la-libraria-din-centru/
LOCATION:Librăria din Centru\, bd.Ștefan cel Mare și Sfânt\, nr. 126\, Chișinău\, 2060\, Moldova\, Republic of
CATEGORIES:Lansări de carte
ATTACH;FMTTYPE=image/jpeg:https://cartier.md/wp-content/uploads/2025/02/lansare_-1-scaled.jpg
ORGANIZER;CN="Editura Cartier":MAILTO:vanzari@cartier.md
END:VEVENT
END:VCALENDAR