BEGIN:VCALENDAR
VERSION:2.0
PRODID:-//Editura și Librăriile CARTIER - ECPv6.15.20//NONSGML v1.0//EN
CALSCALE:GREGORIAN
METHOD:PUBLISH
X-WR-CALNAME:Editura și Librăriile CARTIER
X-ORIGINAL-URL:https://cartier.md
X-WR-CALDESC:Evenimente pentru Editura și Librăriile CARTIER
REFRESH-INTERVAL;VALUE=DURATION:PT1H
X-Robots-Tag:noindex
X-PUBLISHED-TTL:PT1H
BEGIN:VTIMEZONE
TZID:Europe/Helsinki
BEGIN:DAYLIGHT
TZOFFSETFROM:+0200
TZOFFSETTO:+0300
TZNAME:EEST
DTSTART:20240331T010000
END:DAYLIGHT
BEGIN:STANDARD
TZOFFSETFROM:+0300
TZOFFSETTO:+0200
TZNAME:EET
DTSTART:20241027T010000
END:STANDARD
BEGIN:DAYLIGHT
TZOFFSETFROM:+0200
TZOFFSETTO:+0300
TZNAME:EEST
DTSTART:20250330T010000
END:DAYLIGHT
BEGIN:STANDARD
TZOFFSETFROM:+0300
TZOFFSETTO:+0200
TZNAME:EET
DTSTART:20251026T010000
END:STANDARD
BEGIN:DAYLIGHT
TZOFFSETFROM:+0200
TZOFFSETTO:+0300
TZNAME:EEST
DTSTART:20260329T010000
END:DAYLIGHT
BEGIN:STANDARD
TZOFFSETFROM:+0300
TZOFFSETTO:+0200
TZNAME:EET
DTSTART:20261025T010000
END:STANDARD
END:VTIMEZONE
BEGIN:VEVENT
DTSTART;TZID=Europe/Helsinki:20250117T190000
DTEND;TZID=Europe/Helsinki:20250117T200000
DTSTAMP:20260425T160642
CREATED:20250115T084837Z
LAST-MODIFIED:20250115T084952Z
UID:33293-1737140400-1737144000@cartier.md
SUMMARY:Lansare de carte în zori ca după un sfârșit de lume\, de Emanuel Guralivu
DESCRIPTION:[vc_row][vc_column][vc_column_text] \nLansare de carte în zori ca după un sfârșit de lume\, de Emanuel Guralivu \nVineri\, 17 ianuarie\, la ora 19.00\, va avea loc lansarea volumului de poeme în zori ca după un sfârșit de lume\, de Emanuel Guralivu\, la Cărturești Pallas Iași (str. Palas 7A). Volumul a apărut la Editura Cartier\, colecția Rotonda\, coordonată de Emilian Galaicu-Păun. \nVor participa: \nEmanuel Guralivu \nMatei Hutopila \nModerator: Bogdan Crețu \n„Au trecut 12 ani de la ultimul volum al lui Emanuel Guralivu\, care a rămas în esență tot «un boxer cu pumnii fragili». Numai că acum poetul revine complet matur\, capabil să-și transforme vulnerabilitatea în tactică de investigare analitică a sinelui și a lumii. Nu cred că există\, de la Mircea Ivănescu încoace\, poet care să fi transformat mai convingător discreția în principiu creator. În loc de retorism – lapidaritate și estetizare\, în loc de lozinci și prefabricate ideologice – fuga punitivă\, à la Thoreau\, în simplitatea frustă și profundă a naturii\, în loc de emfază și consemnare denotativă a banalității vieții – ridicarea la exemplaritate și simbol\, în loc de romgleză și limbă de pal – un limbaj-sinteză\, carnal și totodată estetizat. Poezia lui Emanuel Guralivu s-a esențializat\, amintind\, prin precizie și forța de sugestie\, dar și prin acuitatea privirii care despică realitatea până la nervuri\, prin luciditate și\, nu în ultimul rând\, prin intransigența tăioasă a privirii întoarse către sine (ca într-un ritual de seppuku)\, de poezia niponă. în zori ca după un sfârșit de lume mi se pare nu numai cea mai bună carte a autorului\, ci și una care clasicizează douămiismul\, selectând numai grăuntele necesar din biografism\, din minimalism\, nu în ultimul rând din reacția subtilă față de falsitatea lumii contemporane și ridicând viziunile paradisiace\, solipsiste\, străfulgerările de fericire domestică\, dar și crizele\, spaimele\, nevrozele\, la nivel de parabolă apocaliptică. E o carte de o delicatețe care nu este egalată decât de curajul de a contempla realitatea jupuită și de rafinamentul de samurai tandru & violent.” (Bogdan Crețu) \nEMANUEL GURALIVU (născut la 31 octombrie 1981\, Iași) a absolvit în 2004 Facultatea de Economie și Administrarea Afacerilor\, Universitatea „Al. I. Cuza” din Iași\, iar în 2007\, Masterul de Hermeneutică literară din cadrul Facultății de Litere a aceleiași universități.\nCărți publicate: trupul meu dimineața\, Editura Vinea\, 2008; un boxer cu pumnii fragili\, Editura Charmides\, 2012. \nMatei HUTOPILA este poet. Ultima carte publicată: Tișița\, Editura Charmides\, 2016. \nBogdan CREȚU este critic literar și scriitor. Cea mai recentă carte publicată e romanul Mai puțin decât dragostea\, Editura Polirom\, 2023. \nEvenimentul este organizat de Librăriile Cărturești & Editura Cartier. \nîn zori ca după un sfârșit de lume\, de Emanuel Guralivu (Rotonda). Broșată\, 78 pag. Preț: 29 RON/ 119 MDL \nCartea poate fi cumpărată în toate librăriile bune din România și Republica Moldova. \nDe asemenea\, poate fi comandată și online: \nhttps://carturesti.ro/carte/in-zori-ca-dupa-un-sfarsit-de-lume-3767905062?p=1 \nhttps://cartier.ro/libraria/poezie/in-zori-ca-dupa-un-sfarsit-de-lume/[/vc_column_text][/vc_column][/vc_row]
URL:https://cartier.md/eveniment/33293/
LOCATION:Cărturești Pallas Iași\, str. Palas 7A\, Iași\, România
CATEGORIES:Lansări de carte
ATTACH;FMTTYPE=image/jpeg:https://cartier.md/wp-content/uploads/2025/01/afis-guralivu.jpg
END:VEVENT
BEGIN:VEVENT
DTSTART;TZID=Europe/Helsinki:20250126T150000
DTEND;TZID=Europe/Helsinki:20250126T163000
DTSTAMP:20260425T160642
CREATED:20250117T074053Z
LAST-MODIFIED:20250127T074141Z
UID:33319-1737903600-1737909000@cartier.md
SUMMARY:Peter Pomerantsev la Chișinău
DESCRIPTION:[vc_row][vc_column][vc_column_text] \nPeter Pomerantsev la Chișinău \nDragi prieteni\, \nDuminică\, 26 ianuarie\, Chișinăul se va bucura de prezența unui invitat special: jurnalistul și cercetătorul Peter Pomerantsev\, autor al volumelor premiate „Aventuri în Rusia de azi. Nimic nu este adevărat și totul este posibil\, „Asta nu e propagandă! Aventuri în războiul cu realitatea” și „Cum să câștigi un război informațional. Propagandistul care l-a păcălit pe Hitler.” \nS-ar părea că în epoca de azi ai acces la adevăr mai ușor decât oricând\, doar la câteva clickuri distanță. Însă algoritmii\, trolii și boții pot să ne păcălească chiar și pe cei mai inteligenți dintre noi. Ce povești alegem să credem? Cum rămânem imuni la manipulare? Vă invităm să explorăm aceste întrebări\, precum și alte teme\, duminică\, 26 ianuarie\, la ora 15.00\, la Teatrul Luceafărul (str. Veronica Micle 7). \nIntrarea este liberă în baza înregistrării în prealabil: https://forms.gle/avZJCUPpjfaChjtP6 \nDialogul dintre Peter Pomerantsev și Mihail Sirkeli va avea loc în limba rusă\, cu traducere în căști în limba română și engleză. \nPeter POMERANTSEV s-a născut la Kîiv\, în 1977. În 1978\, familia s-a refugiat în RFG\, după ce tatăl său\, Igor Pomeranțev\, a fost arestat de KGB pentru răspândirea literaturii antisovietice. Apoi\, Igor și Lina Pomeranțev s-au mutat în Marea Britanie. După ce a absolvit Școala de la Westminster și Școala Europeană de la München\, tânărul Peter a studiat literatura engleză și limba germană la Universitatea din Edinburgh. Între 2001 și 2010\, Peter Pomerantsev (transcrierea în engleză a numelui primit la naștere: Piotr Pomeranțev) a locuit în Moscova\, unde a urmat cursurile superioare pentru scenariști și regizori. În capitala Federației Ruse a lucrat\, timp de mai mulți ani\, ca producător TV\, în special la compania privată TNT.\nDin 2011\, a scris cu regularitate articole despre Rusia în „Newsweek”\, „The Atlantic Monthly”\, definind regimul lui Putin drept „dictatură postmodernă”. Din 2015\, este redactor asociat la „Coda Story”\, platformă media online. \nA publicat cărțile Nothing Is True and Everything Is Possible (2014)\, This Is Not Propaganda (2019)\, How To Win An Information War (2024)\, pentru care a luat mai multe premii importante. Aceste cărți au apărut la Editura Cartier\, în 2022\, cu titlul „Aventuri în Rusia de azi. Nimic nu este adevărat și totul este posibil\, în 2023\, „Asta nu e propagandă! Aventuri în războiul cu realitatea”\, precum și în 2024\, cu titlul „Cum să câștigi un război informațional. Propagandistul care l-a păcălit pe Hitler.”\nPomerantsev mai colaborează cu BBC\, Guardian\, London Review of Books și alte publicații prestigioase. \nMihail SIRKELI este jurnalist\, fondatorul și directorul portalului Notka.md din Comrat. \nMai multe detalii despre cărțile autorului găsiți online: https://cartier.md/carte-autor/peter-pomerantsev/ \nOrganizatori: Editura Cartier\, Prochtenye\, IPIS[/vc_column_text][/vc_column][/vc_row][vc_row][vc_column][vc_video link=”https://www.youtube.com/watch?v=s6gCe0oDXts” el_class=”” title=”În jurul lumii în căutarea adevărului. Dialog cu jurnalistul și cercetătorul Peter Pomerantsev”][/vc_column][/vc_row]
URL:https://cartier.md/eveniment/peter-pomerantsev-la-chisinau/
LOCATION:Teatrul Luceafărul\, str. Veronica Micle 7\, Chișinău\, str. Veronica Micle 7\, Chișinău\, Moldova\, Republic of
CATEGORIES:Premiere, Lecturi publice
ATTACH;FMTTYPE=image/jpeg:https://cartier.md/wp-content/uploads/2025/01/afis_26_01_oRO-1-scaled.jpg
END:VEVENT
END:VCALENDAR