BEGIN:VCALENDAR
VERSION:2.0
PRODID:-//Editura și Librăriile CARTIER - ECPv6.15.20//NONSGML v1.0//EN
CALSCALE:GREGORIAN
METHOD:PUBLISH
X-WR-CALNAME:Editura și Librăriile CARTIER
X-ORIGINAL-URL:https://cartier.md
X-WR-CALDESC:Evenimente pentru Editura și Librăriile CARTIER
REFRESH-INTERVAL;VALUE=DURATION:PT1H
X-Robots-Tag:noindex
X-PUBLISHED-TTL:PT1H
BEGIN:VTIMEZONE
TZID:Europe/Helsinki
BEGIN:DAYLIGHT
TZOFFSETFROM:+0200
TZOFFSETTO:+0300
TZNAME:EEST
DTSTART:20230326T010000
END:DAYLIGHT
BEGIN:STANDARD
TZOFFSETFROM:+0300
TZOFFSETTO:+0200
TZNAME:EET
DTSTART:20231029T010000
END:STANDARD
BEGIN:DAYLIGHT
TZOFFSETFROM:+0200
TZOFFSETTO:+0300
TZNAME:EEST
DTSTART:20240331T010000
END:DAYLIGHT
BEGIN:STANDARD
TZOFFSETFROM:+0300
TZOFFSETTO:+0200
TZNAME:EET
DTSTART:20241027T010000
END:STANDARD
BEGIN:DAYLIGHT
TZOFFSETFROM:+0200
TZOFFSETTO:+0300
TZNAME:EEST
DTSTART:20250330T010000
END:DAYLIGHT
BEGIN:STANDARD
TZOFFSETFROM:+0300
TZOFFSETTO:+0200
TZNAME:EET
DTSTART:20251026T010000
END:STANDARD
END:VTIMEZONE
BEGIN:VEVENT
DTSTART;TZID=Europe/Helsinki:20240229T181500
DTEND;TZID=Europe/Helsinki:20240229T190000
DTSTAMP:20260424T003559
CREATED:20240226T091914Z
LAST-MODIFIED:20240226T144917Z
UID:30333-1709230500-1709233200@cartier.md
SUMMARY:Lansarea antologiei de poeme Avatar venețian\, de Eugenia Bulat\, apărută la Editura Polisalm
DESCRIPTION:[vc_row][vc_column][vc_column_text el_class=””] \nAvatar venețian\, de Eugenia Bulat\, la Librăria din Centru \nJoi\,  29 februarie crt\, la ora 18.15\, la Librăria din Centru (bd. Ștefan cel Mare\, nr.126) din Chișinău\, va avea loc lansarea antologiei de poeme Avatar venețian\, de Eugenia Bulat\, apărută la Editura Polisalm. \nPreț promoțional în ziua lansării. \nSesiune de autografe. \nAlături de autoare vor vorbi:  \nIon Hadârcă \nClaudia Partole \nMaria Saharneanu \nVictor Buruiană \nModeratoare: Nina Corcinschi \n„Poezia Eugeniei Bulat este o poezie totală. Ea nu se citește: se trăiește. Nu se înțelege: se asimilează. Nu se cântă: se ascultă așa cum te-ai scufunda într-o simfonie. Nu se imaginează: se revarsă peste tine precum un film tridimensional. Ea cuprinde în sine totalitatea mișcărilor sufletești. Este esențială și selectă\, dar acoperă orice extensie a spiritului\, fără să risipească niciun element din care respiră zborul uman.” (Francesco BALDASSI) \n„Un asemenea tip de discurs «interfrontalier»\, o astfel de anamneză – care învederează patria amintirilor şi spațiul mai amplu al semnificațiilor şi corespondențelor\, tinzând spre Unitate\, spre întoarcerea acasă la un nivel superior – reprezintă nucleul poeziei sale. Toate scrierile mele sunt\, de fapt\, tot atâtea întoarceri acasă\, ar putea declara poeta\, fără riscul de a exagera.” (Geo VASILE) \nEUGENIA BULAT s-a născut la 19 septembrie 1956 în comuna Sadova\, regiunea Ungheni\, R. Moldova. Şi-a urmat studiile la Colegiul de Construcţii din Chişinău\, la Universitatea de Stat din Chişinău şi la Universitatea Pedagogică „Ion Creangă.” A lucrat în calitate de profesor\, jurnalist\, editor. A fondat cenaclul literar „Iulia Hasdeu” şi revista „Clipa siderală”\, publicaţie de cultură sprijinită de Institutul Cultural Român din Bucureşti. Este membru al Uniunii Scriitorilor din R. Moldova şi din România. \nCărţi de poezie: „La Putna mi-e drumul”\, „Poeme de pe Valea Plângerii”\, „Silabisind în tainele iubirii”\, „De dor de voi”\, „Stalactite”\, „Scrisori de dragoste din Oraşul Libertăţii”. Editor al colecţiei „Sclipiri siderale”\, autor al studiului asupra poeziei preuniversitare „Erupţia rostirii sau Generaţia Clipei siderale”. \nPe 15 aprilie 2009\, pe lângă Institutul Român de Cultură şi Cercetare Umanistică „N. Iorga” din Veneţia\, a fost organizată prezentarea volumului „Veneţia ca un dat sau Jurnalul unui evadat din Est” (Editura „Cartier”\, 2008)\, autor Eugenia Bulat (poetă\, R. Moldova)\, cu participarea Gabriellei Molcsan (traducătoare\, Roma)\, Annei Lombardo (poetă\, Veneţia)\, Iurie Bojoncă (poet\, R. Moldova)\, Gabrielle Stoppani (profesor\, Mestre)\, Petru Dinjos (muzician\, R. Moldova). \nIon HADÂRCĂ este scriitor. Cel mai recent volum: Ruinele și runele războiului. Cronica primelor 101 zile de agresiune rusă\, Editura Prut Internațional\, 2023. \nClaudia PARTOLE este scriitoare. Cel mai proaspăt volum publicat: Fraierul\, Editura Lumina\, 2021. \nMaria SAHARNEANU este jurnalistă. \nVictor BURUIANĂ este interpret de muzică folk. \nNina CORCINSCHI este critic literar. Cea mai recentă carte publicată: Realitatea ca hologramă\, Editura Cartier\, 2022. \nAvatar venețian\, de Eugenia Bulat. Broșată\, 288 pag. Preț: 169 MDL/ 39 RON.[/vc_column_text][/vc_column][/vc_row]
URL:https://cartier.md/eveniment/lansarea-antologiei-de-poeme-avatar-venetian-de-eugenia-bulat-aparuta-la-editura-polisalm/
LOCATION:Librăria din Centru\, bd.Ștefan cel Mare și Sfânt\, nr. 126\, Chișinău\, 2060\, Moldova\, Republic of
CATEGORIES:Lansări de carte
ATTACH;FMTTYPE=image/jpeg:https://cartier.md/wp-content/uploads/2024/02/Afis_E_Bulat_Avatar2.jpg
ORGANIZER;CN="Editura Cartier":MAILTO:vanzari@cartier.md
END:VEVENT
END:VCALENDAR