BEGIN:VCALENDAR
VERSION:2.0
PRODID:-//Editura și Librăriile CARTIER - ECPv6.15.20//NONSGML v1.0//EN
CALSCALE:GREGORIAN
METHOD:PUBLISH
X-WR-CALNAME:Editura și Librăriile CARTIER
X-ORIGINAL-URL:https://cartier.md
X-WR-CALDESC:Evenimente pentru Editura și Librăriile CARTIER
REFRESH-INTERVAL;VALUE=DURATION:PT1H
X-Robots-Tag:noindex
X-PUBLISHED-TTL:PT1H
BEGIN:VTIMEZONE
TZID:Europe/Helsinki
BEGIN:DAYLIGHT
TZOFFSETFROM:+0200
TZOFFSETTO:+0300
TZNAME:EEST
DTSTART:20250330T010000
END:DAYLIGHT
BEGIN:STANDARD
TZOFFSETFROM:+0300
TZOFFSETTO:+0200
TZNAME:EET
DTSTART:20251026T010000
END:STANDARD
BEGIN:DAYLIGHT
TZOFFSETFROM:+0200
TZOFFSETTO:+0300
TZNAME:EEST
DTSTART:20260329T010000
END:DAYLIGHT
BEGIN:STANDARD
TZOFFSETFROM:+0300
TZOFFSETTO:+0200
TZNAME:EET
DTSTART:20261025T010000
END:STANDARD
BEGIN:DAYLIGHT
TZOFFSETFROM:+0200
TZOFFSETTO:+0300
TZNAME:EEST
DTSTART:20270328T010000
END:DAYLIGHT
BEGIN:STANDARD
TZOFFSETFROM:+0300
TZOFFSETTO:+0200
TZNAME:EET
DTSTART:20271031T010000
END:STANDARD
END:VTIMEZONE
BEGIN:VEVENT
DTSTART;TZID=Europe/Helsinki:20260212T172000
DTEND;TZID=Europe/Helsinki:20260212T180000
DTSTAMP:20260423T230614
CREATED:20260209T080914Z
LAST-MODIFIED:20260209T082437Z
UID:35968-1770916800-1770919200@cartier.md
SUMMARY:Lansare de carte Cerul alege și Aer verde\, matern\, de Grigore Vieru\, la Librăria din Centru
DESCRIPTION:Cerul alege și Aer verde\, matern\, de Grigore Vieru\, la Librăria din Centru\nJoi\, 12 februarie crt\, la ora 17.20\, la Librăria din Centru (bd. Ștefan cel Mare\, nr.126) din Chișinău\, va avea loc lansarea volumelor Cerul alege și Aer verde\, matern\, de Grigore Vieru\, apărute la Editura Cartier în Cartier de colecție\, coordonată de Em.Galaicu-Păun și Dorin Onofrei.\nPreț promoțional în ziua lansării.\nParticipă:\nVasile Romanciuc\nMarcela Benea\nMihai Ciobanu\nCălin Vieru\nModerator: Emilian Galaicu-Păun\nGRIGORE VIERU s-a născut pe 14 februarie 1935\, în satul Pererita\, judeţul Hotin (azi raionul Briceni)\, în familia lui Pavel şi Eudochia Vieru (n. Didic). După absolvirea şcolii de 7 clase din satul natal (1950)\, urmează şcoala medie din oraşul Lipcani (1953). Este licenţiat al Facultăţii de Filologie şi Istorie a Institutului Pedagogic „Ion Creangă” (1958). Debut editorial cu placheta de versuri pentru copii\, Alarma. Redactor la revista pentru copii Scânteia leninistă (actualmente Noi) şi la ziarul Tânărul leninist (actualmente Florile dalbe). Între 1960-1963\, redactor la Editura Cartea Moldovenească. În 1968\, publică volumul Numele tău\, cu o prefaţă de Ion Druţă\, volum definitoriu pentru „Primăvara pragheză” a literaturii române din Basarabia\, în care întâlnim următoarele nume (în titlul poeziilor sau ca dedicaţie): Lucian Blaga\, Tudor Arghezi\, Brâncuşi\, Marin Sorescu\, Nicolae Labiş\, niciodată reluate în alte volume din perioada sovietică. În 1973 face prima vizită în România\, în cadrul unei delegaţii de scriitori sovietici; revine în 1974 şi 1977\, la invitaţia Uniunii Scriitorilor din România. În 1978\, publică la Editura Junimea din Iaşi volumul Steaua de vineri (selecţie de Horia Zilieru). În 1981 îi apare la Editura Albatros din Bucureşti\, volumul Izvorul şi clipa (colecţia „Cele mai frumoase poezii”\, cu o prefaţă de Marin Sorescu). Laureat al Premiului de Stat al RSS Moldoveneşti (1978) pentru antologia Un verde ne vede. Se implică în Mişcarea de Eliberare Naţională\, fiind ales în 1989 deputat al poporului. În 1988 i se acordă Diploma de Onoare H.Ch. Andersen a Consiliului Internaţional al Cărţii pentru Copii şi Tineret. Membru corespondent al Academiei Române\, din 1993. Se stinge din viaţă pe 18 ianuarie 2009\, în urma unui accident de maşină\, având parte (pe 20 ianuarie) de funerarii naţionale. Este decorat post-mortem cu Ordinul Naţional „Steaua României” în grad de Mare Cruce.\nOpera poetică: Versuri (1965)\, Numele tău (1968)\, Versuri (1971)\, Aproape (1974)\, Un verde ne vede (1976)\, Steaua de vineri (1978)\, Fiindcă iubesc (1980)\, Izvorul şi clipa (1981)\, Taina care mă apără (1983)\, Scrieri alese (1984)\, Rădăcina de foc (1988)\, Hristos nu are nici o vină (1991)\, Acum şi în veac (1997)\, Strigat-am către tine (1999) ş.a.\nVasile ROMANCIUC este poet. Cea mai proaspătă carte publicată: Vă iubesc fără pauze\, Editura Cartier (Cartier de colecție nr.55)\, 2024.\nMarcela BENEA este poet. Cea mai recentă carte publicată: Eu sunt cartea\, Editura Cartier\, 2022.\nMihai CIOBANU este interpret de muzică populară. În 2022\, la Editura Arc\, a apărut volumul Artistul Mihai Ciobanu\, busuioc pe portativ\, de Valeriu V.Turea\nCălin VIERU este fiul poetului Grigore Vieru. Este om de afaceri.\nEmilian GALAICU-PĂUN este scriitor și traducător\, redactor-șef al Editurii Cartier. Cel mai recent volum: Times New. Roman 12/18\, Editura Cartier\, 2024.\nAer verde\, matern\, de Grigore Vieru. Poeme alese de Vasile Romanciuc. Fotografii de Valerie Volontir (Cartier de colecție nr.68). Supracopertă\, legată\, 400 pag. Preț:69 RON/299 MDL\nCerul alege (aforisme)\, de Grigore Vieru. Fotografii de Valerie Volontir (Cartier de colecție nr.67). Supracopertă\, legată\, 224 pag. Preț:49 RON/199 MDL\nPoți procura cartea și online\, oriunde ai fi. E simplu. Intră pe cartier.ro\, cu livrare din București\, sau pe cartier.md\, cu livrare din Chișinău. \nÎn Cartier de colecție au mai apărut:\nHamlet\, de William Shakespeare. O nouă traducere de Dan Sociu. Fotografii de Elena Donciu (nr.62)\nManiera sau Cât de departe am mers\, de Vasile Baghiu. Poeme alese de Mihai Iovănel (nr.63)\nStepe (poeme alese 2006 – 2025)\, de Rita Chirian. Fotografii de Corneliu Drăgan (nr.64)\nLauda clipei de acum\, de Romulus Bucur. Poeme alese de Teodora Coman. Fotografii de Anda Lupuleț (nr.65)\nJucăria mortului\, de Constantin Acosmei. Prefață de O.Nimigean. Fotografii de Michael Astner (nr.66)
URL:https://cartier.md/eveniment/lansare-de-carte-cerul-alege-si-aer-verde-matern-de-grigore-vieru-la-libraria-din-centru/
LOCATION:Librăria din Centru\, bd.Ștefan cel Mare și Sfânt\, nr. 126\, Chișinău\, 2060\, Moldova\, Republic of
CATEGORIES:Lansări de carte
ATTACH;FMTTYPE=image/jpeg:https://cartier.md/wp-content/uploads/2026/02/12.02-.jpg
ORGANIZER;CN="Editura Cartier":MAILTO:vanzari@cartier.md
END:VEVENT
BEGIN:VEVENT
DTSTART;TZID=Europe/Helsinki:20260306T090000
DTEND;TZID=Europe/Helsinki:20260306T230000
DTSTAMP:20260423T230614
CREATED:20260304T075122Z
LAST-MODIFIED:20260304T075122Z
UID:36092-1772787600-1772838000@cartier.md
SUMMARY:6 martie\, Noaptea cărților deschise: program prelungit\, reduceri de 50 la sută\, premiul Om de cuvânt 2026
DESCRIPTION:6 martie\, Noaptea cărților deschise: program prelungit\, reduceri de 50 la sută\, premiul Om de cuvânt 2026\nEditura Cartier împlinește 31 de ani.\nCu această ocazie\, vineri\, 6 martie crt\, în Librăriile Cartier va avea loc Noaptea Cărților Deschise\, ediția a XVII-a. Cărțile Cartier se vor vinde la jumătate de preț (Librăria din Centru\, bdul Ștefan cel Mare nr.126 și Librăria din Hol\, str. București nr.68 și de pe cartier.md\, librăria noastră online\, cu livrare prin curieri).\nLibrăriile vor avea un program prelungit: de la ora 9.00 până la ora 23.00.\nAutori Cartier vor fi în librării pentru autografe\, recomandări.\nScriitori de top vor recomanda cărți de raftul întâi.\nPremiul Om de Cuvânt 2026 va fi ales dintre cei cinci finaliști în seara de vineri (de la 18.15)\, 6 martie\, la Librăria din Centru.\nTrofeul  Om de Cuvânt este creat de sculptorul Pavel Obreja.\nNominalizări:\nMircea V.Ciobanu\, scriitor\nDumitru Crudu\, scriitor\nGelu Diaconu\, scriitor\nIulian Filip\, scriitor\nSilvia Hodorogea\, jurnalistă TV\nJuriul este format din 5 persoane din cadrul echipei Cartier (librar\, director vânzări\, director artistic\, redactor-șef\, director). Nu poate fi influențat. E foarte subiectiv. E onest. Fiecare membru al juriului propune cinci candidați\, primul având și punctaj maxim (5 puncte)\, ultimul 1 punct. Apoi facem totalurile celor cinci membri ai juriului. Învingătorul are maximum de puncte\, acumulate din toate nominalizările. Premiul se oferă învingătorului o singură dată.\nLaureații Om de cuvânt: Vladimir Beșleagă (2013)\, Maria Șleahtițchi (2014)\, Lucia Țurcanu (2015)\, Dorin Recean (2016)\, Eugen Lungu (2017)\, Mariana Jitari (2018)\, Vasile Romanciuc (2019)\, Victoria Cușnir (2020)\, Bogdan Crețu (2021)\, Nina Corcinschi (2022)\, Alexandru Cosmescu (2023)\, Ana Mărgineanu (2024)\, Slava Sambriș (2025).\nCărțile se vor vinde în limita stocului disponibil.\nPuteți consulta lista cărților Cartier pe cartier.md
URL:https://cartier.md/eveniment/6-martie-noaptea-cartilor-deschise-program-prelungit-reduceri-de-50-la-suta-premiul-om-de-cuvant-2026/
LOCATION:Librăria din Hol & Librăria din Centru\, Chisinau\, 2012
CATEGORIES:Noaptea cărților deschise
ATTACH;FMTTYPE=image/jpeg:https://cartier.md/wp-content/uploads/2026/03/NCD_2026_orizonta-corectatl-1-scaled.jpg
ORGANIZER;CN="Editura Cartier":MAILTO:vanzari@cartier.md
END:VEVENT
END:VCALENDAR