BEGIN:VCALENDAR
VERSION:2.0
PRODID:-//Editura și Librăriile CARTIER - ECPv6.15.20//NONSGML v1.0//EN
CALSCALE:GREGORIAN
METHOD:PUBLISH
X-WR-CALNAME:Editura și Librăriile CARTIER
X-ORIGINAL-URL:https://cartier.md
X-WR-CALDESC:Evenimente pentru Editura și Librăriile CARTIER
REFRESH-INTERVAL;VALUE=DURATION:PT1H
X-Robots-Tag:noindex
X-PUBLISHED-TTL:PT1H
BEGIN:VTIMEZONE
TZID:Europe/Helsinki
BEGIN:DAYLIGHT
TZOFFSETFROM:+0200
TZOFFSETTO:+0300
TZNAME:EEST
DTSTART:20240331T010000
END:DAYLIGHT
BEGIN:STANDARD
TZOFFSETFROM:+0300
TZOFFSETTO:+0200
TZNAME:EET
DTSTART:20241027T010000
END:STANDARD
BEGIN:DAYLIGHT
TZOFFSETFROM:+0200
TZOFFSETTO:+0300
TZNAME:EEST
DTSTART:20250330T010000
END:DAYLIGHT
BEGIN:STANDARD
TZOFFSETFROM:+0300
TZOFFSETTO:+0200
TZNAME:EET
DTSTART:20251026T010000
END:STANDARD
BEGIN:DAYLIGHT
TZOFFSETFROM:+0200
TZOFFSETTO:+0300
TZNAME:EEST
DTSTART:20260329T010000
END:DAYLIGHT
BEGIN:STANDARD
TZOFFSETFROM:+0300
TZOFFSETTO:+0200
TZNAME:EET
DTSTART:20261025T010000
END:STANDARD
END:VTIMEZONE
BEGIN:VEVENT
DTSTART;TZID=Europe/Helsinki:20251205T090000
DTEND;TZID=Europe/Helsinki:20251205T210000
DTSTAMP:20260419T232341
CREATED:20251202T074143Z
LAST-MODIFIED:20251203T133907Z
UID:35531-1764925200-1764968400@cartier.md
SUMMARY:Reduceri la cărți bune în ajun de Moș Niculae
DESCRIPTION:Reduceri la cărți bune în ajun de Moș Niculae\nVineri\, 5 decembrie crt\, în ajun de Moș Niculae\, toate cărțile editurilor românești (Humanitas\, Cartier\, Art\, Polirom\, Curtea Veche\, Sadoveanu\, Epica\, Aramis\, Polisalm\, Trei\, Arthur\, Girasol\, Casa de Pariuri Literare\, Junimea\, Cartea românească\, Flamingo\, Cartex\, Pandora M\, Trei\, RAO\, Max Blecher\, Paralela 45\, Steaua Nordului) se vor vinde cu 60 la sută din preț în Librăriile Cartier din Chișinău (Librăria din Centru\, bdul Ștefan cel Mare nr.126 și Librăria din Hol\, str.București nr.68).\nLibrăriile vor avea un program special: de la ora 9.00 până la ora 21.00.\nAutorii și redactorii Cartier Vă vor ajuta să alegeți cărțile bune\, să faceți economii pentru alte dichisuri\, vor oferi autografe.\nRecomandăm din oficiu și fără regrete pentru dvs doar câteva titluri:\nAlbinuța\, de Grigore Vieru și Lică Sainciuc (colecția Cartier codobelc)\nAlice în Țara Minunilor\, de Lewis Carroll. Ilustrații de Irina Dobrescu (colecția Cartier codobelc)\nCartea de plastilină\, de Ionela Hadârcă. Ilustrații de Maxim Bivol (colecția Cartier codobelc)\nDescântece de bune maniere\, de Ionela Hadârcă. Ilustrații de Veronica Neacșu (colecția Cartier codobelc)\nGoldie pleacă în vacanță\, de Cristian Fulaș. Ilustrații de Keszeg Agnes (colecția Cartier codobelc)\nDicționar al greșelilor de limbă\, de Valentin Guțu (Cartea de referință)\nIstoria limbii române\, de Dan Ungureanu (Cartea de referință)\nMoldova: oameni\, locuri\, bucătărie și vin (ediții în română\, engleză și franceză)\, de Angela Brașoveanu și Roman Rybaleov (colecția de artă)\nÎn căutarea timpului pierdut (volumele I\, II\, III\, IV\, V\, VI\, VII)\, de Marcel Proust. Într-o nouă traducere din franceză de Cristian Fulaș (Cartier de colecție)\nGrădina de sticlă\, de Tatiana Țîbuleac (colecția Cartier popular)\nVara în care mama a avut ochii verzi\, de Tatiana Țîbuleac (colecția Cartier popular)\nPe contrasens\, de Oleg Serebrian (colecția Cartier popular)\nWoldemar\, de Oleg Serebrian (colecția Cartier popular)\nLegată cu funia de pământ\, de Lorina Bălteanu (colecția Cartier popular) \nAicea-i și raiul\, și iadul\, de Paula Erizanu (colecția Cartier popular)\nOrașul promis\, de Valentina Șcerbani (colecția Cartier popular)\nCartea foametei\, de Larisa Turea (colecția Cartier istoric)\nCum să câștigi un război informațional\, de Peter Pomerantsev (colecția Cartier istoric)\nAsta nu e propagandă\, de Peter Pomerantsev (colecția Cartier istoric)\nDiplomația Vechiului Regat (1878 – 1914)\, de Rudolf Dinu (colecția Cartier istoric)\nSunt peste 15 000 de titluri de carte pentru copii\, beletristică contemporană și clasică\, carte pentru adolescenți\, carte de artă\, carte de istorie și antropologie\, poezie clasică și contemporană\, care pot face cu cinste o bună bibliotecă.\nCărțile se vor vinde în limita stocului disponibil.\nNe vedem în Librăriile Cartier în ajun de Moș Niculae. Începem frumos sărbătorile de iarnă.
URL:https://cartier.md/eveniment/reduceri-la-carti-bune-in-ajun-de-mos-niculae/
LOCATION:Librăria din Hol & Librăria din Centru\, Chisinau\, 2012
CATEGORIES:Moș Niculae
ATTACH;FMTTYPE=image/jpeg:https://cartier.md/wp-content/uploads/2025/12/MN_2025c-1-scaled.jpg
ORGANIZER;CN="Editura Cartier":MAILTO:vanzari@cartier.md
END:VEVENT
END:VCALENDAR