BEGIN:VCALENDAR
VERSION:2.0
PRODID:-//Editura și Librăriile CARTIER - ECPv6.15.20//NONSGML v1.0//EN
CALSCALE:GREGORIAN
METHOD:PUBLISH
X-ORIGINAL-URL:https://cartier.md
X-WR-CALDESC:Evenimente pentru Editura și Librăriile CARTIER
REFRESH-INTERVAL;VALUE=DURATION:PT1H
X-Robots-Tag:noindex
X-PUBLISHED-TTL:PT1H
BEGIN:VTIMEZONE
TZID:Europe/Helsinki
BEGIN:DAYLIGHT
TZOFFSETFROM:+0200
TZOFFSETTO:+0300
TZNAME:EEST
DTSTART:20240331T010000
END:DAYLIGHT
BEGIN:STANDARD
TZOFFSETFROM:+0300
TZOFFSETTO:+0200
TZNAME:EET
DTSTART:20241027T010000
END:STANDARD
BEGIN:DAYLIGHT
TZOFFSETFROM:+0200
TZOFFSETTO:+0300
TZNAME:EEST
DTSTART:20250330T010000
END:DAYLIGHT
BEGIN:STANDARD
TZOFFSETFROM:+0300
TZOFFSETTO:+0200
TZNAME:EET
DTSTART:20251026T010000
END:STANDARD
BEGIN:DAYLIGHT
TZOFFSETFROM:+0200
TZOFFSETTO:+0300
TZNAME:EEST
DTSTART:20260329T010000
END:DAYLIGHT
BEGIN:STANDARD
TZOFFSETFROM:+0300
TZOFFSETTO:+0200
TZNAME:EET
DTSTART:20261025T010000
END:STANDARD
END:VTIMEZONE
BEGIN:VEVENT
DTSTART;TZID=Europe/Helsinki:20251015T181500
DTEND;TZID=Europe/Helsinki:20251015T190000
DTSTAMP:20260425T160723
CREATED:20251013T072106Z
LAST-MODIFIED:20251013T072106Z
UID:35238-1760552100-1760554800@cartier.md
SUMMARY:Lansare de carte Mistere și legende din străbuni\, de Lilia Bicec-Zanardelli\, la Librăria din Centru
DESCRIPTION:Mistere și legende din străbuni\, de Lilia Bicec-Zanardelli\, la Librăria din Centru \nMiercuri\, 15 octombrie\, la ora 18.15\, la Librăria din Centru (bd. Ștefan cel Mare\, nr.126) din Chișinău\, va avea loc lansarea cărții pentru copii Mistere și legende din străbuni\, de Lilia Bicec-Zanardelli\, ilustrații de Vitalie Coroban\, apărută la Editura Cartier\, la inițiativa și cu contribuția Biroului Relații cu Diaspora\, Guvernul Republicii Moldova și Diaspora Engagement Hub. \nPreț promoțional în ziua lansării. \nSesiune de autografe. \nVor participa:  \nLilia Bicec-Zanardelli \nClaudia Partole \nOxana Roșca \nAlina Radu \nModerator: Gheorghe Erizanu \nMistere și legende din străbuni adună povești inspirate din tradițiile și istoria poporului nostru\, păstrate cu grijă și transmise din generație în generație. Este un omagiu adus moștenirii culturale a neamului nostru și un sprijin prețios pentru toți cei care\, chiar dacă trăiesc departe de casă\, doresc să-și păstreze limba\, identitatea și legătura cu baștina. \nLilia BICEC-ZANARDELLI s-a născut la 2 martie 1965\, în satul Viișoara\, raionul Glodeni\, din Republica Moldova\, în familia unor foști deportaţi în Siberia. Licenţiată a Facultăţii de Jurnalistică a Universităţii de Stat din Chișinău. A lucrat la redacţiile gazetelor raionale din Căinari și Glodeni\, apoi la publicaţia liberă Accent provincial din judeţul Bălţi. Fondatoarea revistei Moldbrixia news (în română şi italiană); din 2013\, corespondent al cotidianului Giornale di Brescia. \nCărți publicate: Testamentul necitit\, roman epistolar\, Editura Cartier\, 2009\, în italiană Miei cari figli\, vi scrivo\, Editura Einaudi\, Torino\, 2013; Bumerang\, roman\, Editura Cartier\, 2016\, apărut în italiană la Editura Europa Edizioni\, 2018; Donna e…\, antologie de proză scurtă a femeilor din Italia\, Editura Rai Com Spa\, Roma\, 2014; Moldova\, istorie orală (antologie de istorii ale femeilor din lume: Franţa\, Albania\, Argentina\, Marocco\, Siria etc. – „La tela di Penelope”)\, Editura Moica\, Brescia\, 2014. Prezentă în antologia Novel of the World\, Editura Mondadori\, Milano cu nuvela Mămăligă cu dor de casă\, antologie lansată la EXPO\, Milano 2015; Lagărul 33\, roman\, Editura Cartier\, 2020\, tradus în italiană cu titlul O dragoste siberiană; Femeia cu ochi de șoim\, proză scurtă\, Editura Polisalm\, 2024. \nClaudia PARTOLE este scriitoare. Cea mai recentă carte publicată: Calea înApoi\, Editura Lumina\, 2025. \nOxana ROȘCA este consultantă principală al Biroului Relații cu Diaspora. \nAlina RADU este ziaristă și directoarea Ziarului de Gardă. \nGheorghe ERIZANU este editor. Cea mai recentă carte publicată: Și-am să devin erou\, Editura Cartier\, 2023. \n  \nMistere și legende din străbuni (ediție română & italiană)\, de Lilia Bicec-Zanardelli. Ilustrații de Vitalie Coroban. Legată\, 32 pag. Preț: 49 RON/179 MDL \n  \nPoți procura cartea și online\, oriunde ai fi. Pe cartier.md\, cu livrare din Chișinău sau pe cartier.ro\, cu livrare din București. \n  \nNoutăți în colecția Cartier codobelc: \nAlice în Țara Minunilor\, de Lewis Carroll. Ilustrații de Irina Dobrescu. Traducere din engleză de Dan Sociu \nFrunzulița și Andalunda\, de Peter Demeny. Ilustrații de Anca Smărăndache \nGoldie merge la munte\, de Cristian Fulaș. Ilustrații de Kesgez Agnes \nGoldie merge în vacanță\, de Cristian Fulaș. Ilustrații de Kesgez Agnes \nToate întâmplările se prefac în cuvinte\, de Vasile Romanciuc. Ilustrații de Ivanka Costru \nRegele Piticuț\, de Radu Vancu. Ilustrații de Irina Dobrescu \nFratele fraților rătăcitori\, de Radu Vancu. Ilustrații de Cristina Dan \nCartea de plastilină\, de Ionela Hadârcă. Ilustrații de Maxim Bivol \nAnunțuri hazlii pentru adulți și copii\, de Ionela Hadârcă. Ilustrații de Irina Dobrescu \nDescântece de bune maniere\, de Ionela Hadârcă. Ilustrații de Veronica Neacșu \n  \nÎn curând: \nBăiețelul care și-a pierdut bucuria\, de Racha Mourtada. Ilustrații de Dania K. Traducere din engleză de Anastasia Gavrilovici \nTinerețe fără bătrânețe\, de Petre Ispirescu. Ilustrații de Horia Muntean \nGoldie merge la doctor\, de Cristian Fulaș. Ilustrații de Kesgez Agnes \nToți prietenii mei\, de Cristian Fulaș. Ilustrații de Kesgez Agnes
URL:https://cartier.md/eveniment/lansare-de-carte-mistere-si-legende-din-strabuni-de-lilia-bicec-zanardelli-la-libraria-din-centru/
LOCATION:Librăria din Centru\, bd.Ștefan cel Mare și Sfânt\, nr. 126\, Chișinău\, 2060\, Moldova\, Republic of
CATEGORIES:Lansări de carte
ATTACH;FMTTYPE=image/jpeg:https://cartier.md/wp-content/uploads/2025/10/15.10-scaled.jpg
ORGANIZER;CN="Editura Cartier":MAILTO:vanzari@cartier.md
END:VEVENT
END:VCALENDAR