BEGIN:VCALENDAR
VERSION:2.0
PRODID:-//Editura și Librăriile CARTIER - ECPv6.15.20//NONSGML v1.0//EN
CALSCALE:GREGORIAN
METHOD:PUBLISH
X-ORIGINAL-URL:https://cartier.md
X-WR-CALDESC:Evenimente pentru Editura și Librăriile CARTIER
REFRESH-INTERVAL;VALUE=DURATION:PT1H
X-Robots-Tag:noindex
X-PUBLISHED-TTL:PT1H
BEGIN:VTIMEZONE
TZID:Europe/Helsinki
BEGIN:DAYLIGHT
TZOFFSETFROM:+0200
TZOFFSETTO:+0300
TZNAME:EEST
DTSTART:20230326T010000
END:DAYLIGHT
BEGIN:STANDARD
TZOFFSETFROM:+0300
TZOFFSETTO:+0200
TZNAME:EET
DTSTART:20231029T010000
END:STANDARD
BEGIN:DAYLIGHT
TZOFFSETFROM:+0200
TZOFFSETTO:+0300
TZNAME:EEST
DTSTART:20240331T010000
END:DAYLIGHT
BEGIN:STANDARD
TZOFFSETFROM:+0300
TZOFFSETTO:+0200
TZNAME:EET
DTSTART:20241027T010000
END:STANDARD
BEGIN:DAYLIGHT
TZOFFSETFROM:+0200
TZOFFSETTO:+0300
TZNAME:EEST
DTSTART:20250330T010000
END:DAYLIGHT
BEGIN:STANDARD
TZOFFSETFROM:+0300
TZOFFSETTO:+0200
TZNAME:EET
DTSTART:20251026T010000
END:STANDARD
END:VTIMEZONE
BEGIN:VEVENT
DTSTART;TZID=Europe/Helsinki:20241204T100000
DTEND;TZID=Europe/Helsinki:20241208T200000
DTSTAMP:20260423T230350
CREATED:20241209T093017Z
LAST-MODIFIED:20241209T094011Z
UID:33091-1733306400-1733688000@cartier.md
SUMMARY:Târgul de Carte Gaudeamus Radio România din București\, 4 - 8 decembrie 2024
DESCRIPTION:[vc_row][vc_column][vc_column_text]Editura Cartier vă așteaptă la târgul Gaudeamus cu ficțiune\, nonficțiune și poezie proaspătă.\nPoate cele mai actuale titluri sunt Cum să câștigi un război informațional. Propagandistul care l-a păcălit pe Hitler de Peter Pomerantsev\, în traducerea Ioanei Rotaru\, și Istoria Gărzii de Fier. Un fascism românesc\, de Traian Sandu\, în traducerea Simonei Modreanu.\nÎn colecția Rotonda\, vă propunem cărți noi de proză: Am strigat în vis\, de Dan Ciupureanu\, Nickel\, de Cristina Hermeziu\, Auzi cum cântă conestoga? Un roman incorect politic\, de Doru Ciocanu\, Marea petrecere\, de Petre Barbu\, Măștile timpului\, de Adrian Marcu.\nPentru fanii de poezie la zi\, recomandăm Regatul disfuncției de Sorina Rîndașu\, Un râs ca un zgomot de sticle sparte de Cristina Drăghici\, Nu doare când dormi de Alina Țârcoman-Ochea (debut)\, politici de confidențialitate de Sorin DespoT\, în zori ca după un sfârșit de lume de Emanuel Guralivu și Nord de Dan Sociu.\nDacă vă e poftă de escapade\, vă propunem jurnalul de călătorie Lucrări de mentenanță pe drumul mătăsii\, de Sorin Hadârcă.\nÎn Cartier de Colecție\, au apărut: Alice în țara minunilor și Alice în țara oglinzilor într-o traducere nouă de Dan Sociu\, aici viața se bea și moartea se uită de Ioan Es Pop\, îmi provoc poezia eșecul și mortea de Angela Marinescu\, Celălalt fel de a privi lumea\, de Octavian Soviany\, polen căzut pe nicio fericire de Ion Caraion\, poetic relațional de Răzvan Țupa\, Numele tău de Grigore Vieru (reeditare)\, Dați totul la o parte ca să văd de Eugen Cioclea (reeditare).\nÎn Cartier istoric\, vă mai recomandăm Doctrinele muncii și politica profesiunilor. Sindicalism\, corporatism și cooperație în România interbelică\, de Victor Rizescu.\nÎn colecția pentru copii Codobelc\, vă puteți delecta cu Fratele fratelui rătăcitor\, de Radu Vancu\, ilustrații de Cristina Dan\, Goldie pleacă în vacanță\, de Cristian Fulaș\, ilustrații de Keszeg Agnes\, Descântece de bune maniere\, de Ionela Hadârcă\, câștigătoarea premiului Cărturino\, ilustrată de Veronica Neacșu. \nNe vedem la Gaudeamus\, la standul nr. 70\, B2\, Romexpo. \nMai multe detalii găsiți pe https://cartier.ro/ sau https://cartier.md/.[/vc_column_text][/vc_column][/vc_row][vc_row][vc_column][vc_images_carousel images=”33098\,33093\,33094\,33095\,33096\,33097″ img_size=”full” el_class=”” title=”Târgul de Carte Gaudeamus în imagini”][/vc_column][/vc_row]
URL:https://cartier.md/eveniment/targul-de-carte-gaudeamus-radio-romania-din-bucuresti-4-8-decembrie-2024/
LOCATION:Complexul Expozițional Romexpo din București\, în pavilionul B2\, Bucureşti\, România
CATEGORIES:Târguri de carte, Festivaluri
ATTACH;FMTTYPE=image/jpeg:https://cartier.md/wp-content/uploads/2024/12/gaudeamus-24.jpg
END:VEVENT
END:VCALENDAR