BEGIN:VCALENDAR
VERSION:2.0
PRODID:-//Editura și Librăriile CARTIER - ECPv6.15.20//NONSGML v1.0//EN
CALSCALE:GREGORIAN
METHOD:PUBLISH
X-ORIGINAL-URL:https://cartier.md
X-WR-CALDESC:Evenimente pentru Editura și Librăriile CARTIER
REFRESH-INTERVAL;VALUE=DURATION:PT1H
X-Robots-Tag:noindex
X-PUBLISHED-TTL:PT1H
BEGIN:VTIMEZONE
TZID:Europe/Helsinki
BEGIN:DAYLIGHT
TZOFFSETFROM:+0200
TZOFFSETTO:+0300
TZNAME:EEST
DTSTART:20230326T010000
END:DAYLIGHT
BEGIN:STANDARD
TZOFFSETFROM:+0300
TZOFFSETTO:+0200
TZNAME:EET
DTSTART:20231029T010000
END:STANDARD
BEGIN:DAYLIGHT
TZOFFSETFROM:+0200
TZOFFSETTO:+0300
TZNAME:EEST
DTSTART:20240331T010000
END:DAYLIGHT
BEGIN:STANDARD
TZOFFSETFROM:+0300
TZOFFSETTO:+0200
TZNAME:EET
DTSTART:20241027T010000
END:STANDARD
BEGIN:DAYLIGHT
TZOFFSETFROM:+0200
TZOFFSETTO:+0300
TZNAME:EEST
DTSTART:20250330T010000
END:DAYLIGHT
BEGIN:STANDARD
TZOFFSETFROM:+0300
TZOFFSETTO:+0200
TZNAME:EET
DTSTART:20251026T010000
END:STANDARD
END:VTIMEZONE
BEGIN:VEVENT
DTSTART;TZID=Europe/Helsinki:20240514T120000
DTEND;TZID=Europe/Helsinki:20240518T200000
DTSTAMP:20260419T212321
CREATED:20240508T150938Z
LAST-MODIFIED:20240508T150938Z
UID:31080-1715688000-1716062400@cartier.md
SUMMARY:Zilele Literaturii Române la Chișinău
DESCRIPTION:[vc_row][vc_column][vc_column_text el_class=””] \nZilele Literaturii Române la Chișinău\nEdiția a VIII-a\n14-18 mai 2024\nMottoul ediției: „Vă iubesc fără pauze”\, de Vasile Romanciuc \nÎn perioada 14 – 18 mai 2024\, la Chişinău\, va avea loc a VIII-a ediţie a Zilelor Literaturii Române. Sunt cinci zile în care cititorii se vor întâlni cu scriitori importanţi din Republica Moldova şi România. \nProgramul \nMarți\, 14 mai \n12.00-14.00 Întâlniri Lyceum: Oleg Serebrian\nModeratoare: Rodica Jăpălău\nLocul: Liceul Iulia Hașdeu \n14.00-15.30 Atelier practic pentru profesori cu Maria Șleahtițchi. Cum ne apropiem de literatura contemporană (în colaborare cu Ministerul Educației). Ciclul de romane. Studiu de caz: Woldemar de Oleg Serebrian. Memorialistică. Studiu de caz: Căsuța de la răscruce\, de Ion Druță.\nLocul: Muzeul Național al Literaturii Române (str. Alexei Mateevici\, 79) \n16.00 Dezbatere. Ce le place elevilor de azi să citească?\nPanel 1. 16.00-16.30 Profesori și elevi din clasele primare. Olga Butnaru (Liceul Prometeu-Prim)\, Dorina Ulinici (Liceul Iulia Hașdeu)\, Daria Bogoș (elevă din clasa a IV-a\, Liceul Iulia Hașdeu)\, Mădălina Bogoș (elevă din clasa a IV-a\, Liceul Iulia Hașdeu)\nModeratoare: Tatiana Bologan (Liceul Prometeu-Prim)\nPanel 2. 16.30-17.00 Profesori și elevi de gimnaziu. Galina Sărbușan (Liceul Mihai Eminescu/Mircea Eliade)\, Corina Gorița (IP Gimnaziul nr. 42\, or. Codru)\, Livia State (Liceul Heritage)\, Aliona Ciobanu (Liceul Iulia Hașdeu)\, Liliana Portarescul (Liceul Iulia Hașdeu)\, Larisa Plămădeală (Liceul Iulia Hașdeu)\, Cornelia Munteanu (Liceul Prometeu-Prim)\, Teodor Zaporojan (clasa a IX-a\, Liceul Heritage)\nModeratoare: Dorina Popovici (Liceul Da Vinci)\nPanel 3. 17.00-17.30 Profesori și elevi de liceu. Natalia Revencu (Liceul Prometeu-Prim)\, Rodica Jăpălău (Liceul Iulia Hașdeu)\, Lilia Orehovschi (Liceul Gaudeamus)\, Ala Radu (Liceul Iulia Hașdeu)\, Tatiana Costin (Liceul Iulia Hașdeu)\, Mihai Țurcanu (clasa a X-a\, Liceul Spiru Haret)\nModeratoare: Mariana Jitari (Liceul Spiru Haret)\nConcluzii 17.30-18.00\nLocul: Muzeul Național al Literaturii Române (str. Alexei Mateevici\, 79) \n19.00 Dezbatere. Seara de eseu: Ce alegem și cu cine ne alegem? Vitalie Ciobanu\, Gheorghe Erizanu\, Alina Radu\, Oleg Serebrian\, Arthur Suciu.\nModeratoare: Mariana Rață\nVinul Serii: Chateau Vartely\nLocul: ArtCor (str. 31 August\, 137) \nMiercuri\, 15 mai \n10.30-11.30 Întâlniri Lyceum: Vasile Romanciuc\nModeratoare: Livia State\nLocul: Liceul Heritage \n12.00-13.20 Scriitori și editori în dialog. Cum ghicim următorul laureat Nobel: Bogdan Alexandru Stănescu\, Emilian Galaicu-Păun\nModerator: Constantin Șchiopu\nLocul: Academia de Muzică\, Teatru\, și Film (str. Alexei Mateevici 111) \n11.00-12.30 Întâlniri Lyceum. Populism\, dezinformare\, implicare civică: Arthur Suciu\, Vitalie Ciobanu\, Gheorghe Erizanu.\nModeratoare: Natalia Hariton\nLocul: Liceul Teoretic Republican Aristotel \n11.00-13.00 Întâlniri Lyceum. Literatura inspirată din istorie și realitate: Tatiana Niculescu\, Dumitra Râșnoveanu\nModeratoare: Mariana Jitari\nLocul: Liceul Spiru Haret \n14.15-15.15 Întâlniri Lyceum. Atelier de scriere creatoare: Ligia Keșișian\nModeratoare: Veronica Moisei\, Oxana Durleșteanu\nLocul: Liceul Hyperion\, Durlești \n16.00-17.30 Întâlniri Lyceum. Populism\, dezinformare\, implicare civică: Arthur Suciu\, Vitalie Ciobanu\, Gheorghe Erizanu.\nModeratoare: Valentina Ctitor\nLocul: Liceul Ștefan cel Mare\, Doroțcaia\, Grigoriopol \n15.00-16.30 Întâlniri Lyceum. Scriitoare în dialog cu elevii de la Liceul Mircea Eliade. Primul meu roman: Dumitra Râșnoveanu\, Valentina Șcerbani.\nModeratoare: Galina Sărbușan\nLocul: Librăria din Centru (bd. Ștefan cel Mare 126) \n17.15 Seara de proză. Lecturi & sesiune de autografe.\nAbraxas\, de Bogdan Alexandru-Stănescu\nCu romanul în vacanță\, de Grigore Chiper\nTimes New. Roman 12/18\, de Emilian Galaicu-Păun\nEnglezul din Gara de Nord\, de Tatiana Niculescu\nDaphnia\, de Dumitra Râșnoveanu\nCopiii lui Marcel\, de Ema Stere\nOrașul promis\, de Valentina Șcerbani\nModerator: Emilian Galaicu-Păun\nLocul: Librăria din Centru (bd. Ștefan cel Mare 126) \n19.00 Dezbatere: Proza vieții\, la singular și la plural. Istoria recentă în literatură. Participă: Bogdan Alexandru-Stănescu\, Emilian Galaicu-Păun\, Tatiana Niculescu\, Dumitra Râșnoveanu\, Valentina Șcerbani\nModeratoare: Maria Șleahtițchi\nVinul Serii: Chateau Vartely\nLocul: Muzeul Național al Literaturii Române (str. Alexei Mateevici\, 79) \nJoi\, 16 mai \n10.00 – 14.00 Atelier cu Tatiana Niculescu: Cum scriem nonficțiune.\nModeratoare: Maia Metaxa\nLocul: Școala de Jurnalism\, MediaCor\, et. 3 (str. Pușkin 8\, intrarea prin curtea USM) \n11.00-13.00. Atelier de scriere creatoare. Tinere poete în dialog cu elevii: Mina Decu\, Ligia Keșișian\nLocul: Liceul Prometeu-Prim (str. Nicolae Iorga 2) \n11.00-13.00 Dezbatere. Literatura și paradoxurile teoriei.\nInvitată: Carmen Mușat\nModeratoare: Nina Corcinschi\, Tatiana Potîng\nAula Regina Maria\, Universitatea de Stat din Moldova\, str. Mateevici 60 \n14.30-16.00 Atelier practic pentru profesori cu Carmen Mușat. Cum ne apropiem de literatura contemporană. Fragmente de proză de Gheorghe Crăciun și Gabriela Adameșteanu.\nLocul: Muzeul Național al Literaturii Române (str. Alexei Mateevici\, 79) \n14.30-16.00 Întâlniri Lyceum. Atelier de scriere creatoare cu elevii de gimnaziu și liceu cu Mina Decu\nModeratoare: Corina Gorița\nLocul: IP Gimnaziul nr. 42\, or. Codru \n14.30-16.30 Dezbatere. Ideologia și literatura.\nParticipă: Mihai Iovănel\, Ion Plămădeală\, Andrei Țurcanu\, Alex Cosmescu\, Constantin Ivanov\, Oxana Gherman\, Felicia Cenușă.\nModeratoare: Nina Corcinschi\, Natalia Hariton\nAula Regina Maria\, Universitatea de Stat din Moldova (str. Mateevici 60) \n17.15 Seara de poezie. Lecturi & sesiune de autografe.\nCazzo\, de Mihnea Bâlici\nTagliatelle Allegro\, de Mina Decu\nScrisoare din savană\, de Peter Demeny\nIubirea dată-n căutare\, de Iulian Filip\nCelule STEM\, de Silvia Goteanschii\nAnul tigrului de apă\, de Ligia Keșișian\nSindromul Joubert\, de Tiberiu Neacșu\nVă iubesc fără pauze\, de Vasile Romanciuc\nModerator: Emilian Galaicu-Păun\nLocul: Librăria din Centru (bd. Ștefan cel Mare 126) \n18.00 Vernisaj de fotografie documentară tânără RAW Moldova\nLocul: Europa Cafe (Strada Alexei Şciusev 97) \n19.00 Seara de eseu. Dezbatere. Critica literară între polițistul bun și polițistul rău\nParticipă: Mihnea Bâlici\, Nina Corcinschi\, Mihai Iovănel\, Carmen Mușat\nModeratori: Alex Cosmescu\, Paula Erizanu\nVinul serii: Fautor\nLocul: Muzeul Național al Literaturii (str. Alexei Mateevici\, 79) \nVineri\, 17 mai \n12.00 Întâlniri Lyceum. Scriitoare în dialog. Primul meu roman. Dumitra Râșnoveanu\, Valentina Șcerbani\nLocul: IP Gimnaziul nr. 42\, or. Codru \n14.30-16.00 Atelier practic pentru profesori cu Alex Cosmescu. Cum ne apropiem de poezia contemporană.\nLocul: Liceul Prometeu-Prim (str. Nicolae Iorga 2) \n15.00 Dezbatere. Cum facem literatura atractivă ca jurnaliști culturali?\nParticipă: Mihnea Bâlici (Scena9\, Vatra\, Echinox)\, Vitalie Ciobanu (Europa Liberă)\, Iulian Ciocan\, Victoria Coroban (Europa Liberă)\, Dumitru Crudu (Timpul)\, Peter Demeny (MATCA)\, Paula Erizanu\, Emilian Galaicu-Păun (Europa Liberă)\, Mihai Iovănel (Scena9)\, Igor Kornilov (locals.md)\, Ana Mărgineanu (diez)\, Patricia Mihailă (moldova.org)\, Carmen Mușat (Observator Cultural)\, Stella Popa\, Ema Stere (Radio România Cultural)\, Dumitra Râșnoveanu\, Alisa Tanas (Radio Moldova)\, Natalia Zaharescu (Ziarul de Gardă).\nModerează: Victoria Cușnir (Radio România Chișinău)\nLocul: ArtCor\, sala multimedia (str. 31 August\, 137) \n19.00 Maraton de poezie și muzică\nParticipă: Ligia Keșișian\, Tiberiu Neacșu\, Lena Chilari\, Ioana Isac\, Peter Demeny\, Alex Cosmescu\, Mihnea Bâlici\, Ronin Terente\, Peace the Gun (Dumitru Fanfarov & Von Aim)\nModeratori: Paula Erizanu\, Victor Fală\nDJ: Von Aim\nArtă: Artists of Moldova\nVinul Serii: Chateau Vartely\nLocul: ArtCor (str. 31 August\, 137) \nSâmbătă\, 18 mai \n13.00 Întâlnire cu scriitoarea Daniela Rațiu la Clubul de carte Diez-Librăriile Cartier\nCartea discutată: Sfârșitul lumii e un tren\, de Daniela Rațiu\nModeratoare: Ana Mărgineanu\nLocul: Librăria din Centru (bd. Ștefan cel Mare 126) \n18.00 Spectacolul 1946\nDupă: Cartea Foametei\, de Larisa Turea\nRegie: Veaceslav Sambriș\nLocul: Teatrul Luceafărul (str. Veronica Micle 7) \n20.00 Seara de teatru. Dezbatere. Cum vorbim despre oroare.\nParticipă: Maria Anton\, Igor Cașu\, Dumitru Crudu\, Daniela Rațiu\, Pavel Păduraru\nModeratoare: Victoria Cușnir\nVinul serii: Fautor\nLocul: Teatrul Luceafărul (str. Veronica Micle 7) \nScriitori invitați la Zilele Literaturii Române la Chișinău \nBogdan Alexandru Stănescu (n. 1979) este scriitor\, editor\, critic literar din București. Cele mai recente cărți: romanul Abraxas (Polirom\, 2022)\, laureata Premiului Observator Cultural pentru proză\, volumul de eseuri Centrul nu se mai susține. Ceea ce ne desparte (Trei\, 2023) scris împreună cu Vasile Ernu. \nMihnea Bâlici (n. 1998) este poet și critic literar din Cluj. Scrie cronică pentru revistele Scena9\, Echinox\, Vatra. A debutat cu volumul Cazzo (OMG\, 2022)\, pentru care a primit Premiul Național pentru Poezie „Mihai Eminescu” Opus Primum și Premiul „Tânărul scriitor al anului 2022”\, în cadrul Galei Tinerilor Scriitori. \nLena Chilari (n. 1995) este poetă și spoken word performer născută la Pepeni\, Republica Moldova\, și stabilită la Cluj. Volumul său de debut O cană de noviciok la bătrânețe (Tracus Arte\, 2020) a luat premiul Regele Dimineții la concursul de debut în poezie Alexandru Mușina. \nGrigore Chiper (n. 1959) este poet\, prozator\, eseist din Chișinău. Cel mai recent volum: Cu romanul în vacanță (PRUT\, 2023). \nVitalie Ciobanu (n. 1964) este scriitor\, publicist\, președinte PEN Moldova. Co-fondator și redactor-șef al revistei Contrafort (1994-2022). În prezent realizează emisiunea Cultura la frontieră la Europa Liberă. Cel mai recent volum: „Stat captiv”\, mod de folosire: Republica Moldova (Cartier\, 2024). \nNina Corcinschi (n. 1979) este critic literar\, directoarea Institutului de Filologie B.P. Hașdeu din Chișinău. În 2023\, a coordonat volumul colectiv Imagine. Imaginar. Reprezentare (Cartier). \nAlex Cosmescu (n. 1985) este poet\, cercetător la Institutul de Filologie B.P. Hașdeu\, profesor de filosofie la Universitatea de Stat din Moldova. Cea mai recentă carte: un spațiu care mă primește cum m-ar îmbrățișa (Cartier\, 2013\, 2017). În baza antologiei Cine nu e mângâiat nu există. Antologia generației 2000\, coordonată împreună cu Anastasia Gavrilovici\, Alex a realizat expoziția Through Touch împreună cu artiștii multimedia Victoria Viprada și Karen Grigorean la Muzeul Național de Arte. \nDumitru Crudu (n. 1967) este autor a numeroase cărți de poezie\, proză și dramaturgie\, premiate și traduse în alte limbi. Redactor-șef al revistei Timpul din România\, ediția din Republica Moldova. Cele mai recente volume: Ora cinci și șapte minute (Humanitas\, 2022) și Scriitorii și KGB-ul (Polisalm\, 2023). \nMina Decu (n. 1983) este poetă\, traducătoare și coordonatoare de activități nonformale la o școală din București. Volumul său de debut Desprindere a fost distins cu mai multe premii\, printre care Premiul Național pentru Poezie „Mihai Eminescu” Opus Primum și Premiul „Tânărul poet al anului 2018”\, în cadrul Galei Tinerilor Scriitori. De curând\, i-a apărut cel de-al doilea volum\, Tagliatelle allegro (Cartier\, 2024). \nPeter Demeny (n. 1972) este scriitor și redactor-șef al noii reviste de cultură MATCA din București. Cea mai recentă carte: volumul de poezie Scrisori din savană (Cartier\, 2024). \nGheorghe Erizanu (n. 1967) este eseist și editor\, fondatorul Editurii Cartier. Cea mai recentă carte: Și-am să devin erou. Texte egoiste (Cartier\, 2023)\, nominalizată la Premiile Observator Cultural\, secțiunea eseu. \nDumitru Fanfarov (n. 1993) este un tânăr poet și rapper din Republica Moldova. A debutat cu volumul stepă și transă (Max Blecher\, 2020). În 2024\, în colaborare cu Von Aim\, sub numele de scenă PEACE the GUN\, Fanfarov realizează un album audio în baza volumului\, cu numele stepă și transă delete. \nIulian Filip (n. 1948) este un cunoscut scriitor\, folclorist\, grafician din Republica Moldova. Autor a numeroase volume de poezie\, proză\, eseu și cărți pentru copii. Cea mai recentă carte: Iubirea dată-n căutare. Sonete (PRUT\, 2023) \nEmilian Galaicu-Păun (n. 1964) este scriitor\, publicist\, traducător\, redactor-șef al Editurii Cartier. Autor a numeroase volume premiate și traduse în alte limbi. Cea mai recentă carte: Times New. Roman 12/18 (Cartier\, 2024). \nSilvia Goteanschii (n. 1982) este poetă și manager la poliția de frontieră a Republicii Moldova. Cea mai recentă carte: Celule stem (PRUT\, 2022). \nMihai Iovănel (n. 1979) este un critic și istoric literar român din București\, cercetător al Institutului de Istorie și Teorie Literară „G. Călinescu” al Academiei Române. Cele mai recente cărți: Istoria literaturii române contemporane (Polirom\, 2021)\, Desene mișcătoare. Dialoguri despre critică și cinema (Polirom\, 2023)\, sccrisă în colaborare cu Andrei Gorzo. \nIoana Isac este poetă-performer\, regizoare de evenimente la MediaShow. În 2023\, a publicat albumul audio poetic „Poezii pe Pereți”\, creat în baza volumului de versuri Ce mai faci\, poezie? (Cartego\, 2021) cu muzică semnată de Gheorghe Postoroncă\, sound designer Serghei Harlamov. \nLigia Keșișian (n. 1988) este poetă și manager cultural din București. Pentru cea mai recentă carte a sa\, volumul de poezie Anul tigrului de apă (Max Blecher\, 2023)\, Ligiei i-a fost decernat Premiul Tânărul scriitor al anului 2023 la Gala Tinerilor Scriitori. \nCarmen Mușat (n. 1964) este critic literar\, profesor de litere la Universitatea din București\, fondatoare și directoare a revistei Observator Cultural. Cea mai recentă carte: Frumoasa necunoscută. Literatura și paradoxurile teoriei (Polirom\, 2017). \nTiberiu Neacșu (n. 1981) este poet și traducător\, coordonator al cenaclului MATCA din București. Sindromul Joubert (Cartier\, 2023) este cel de-al treilea volum de poezie al său. \nTatiana Niculescu a fost redactor-șef al secției române de la BBC World Service la București și la Londra. Este autoare a peste zece volume de proză și nonficțiune. Cea mai recentă carte: Delicioasa poveste a cozonacului românesc (Humanitas\, 2024). \nDaniela Rațiu (n. 1968) este scriitoare și jurnalistă culturală din Timișoara. Cea mai recentă carte: Sfârșitul lumii e un tren (Cartier\, 2023). \nDumitra Râșnoveanu (n. 1973) a lucrat în jurnalism și în comunicare în Republica Moldova (la începutul anilor 90) și în România. Scrie despre cărți și despre fitness. Daphnia (Cartier\, 2023) este romanul său de debut. \nVasile Romanciuc (n. 1947) este unul dintre cei mai îndrăgiți poeți din Republica Moldova. A scris numeroase volume de poezie\, precum și cărți pentru copii. Cea mai recentă carte: antologia de versuri Vă iubesc fără pauze (Cartier\, 2024). \nOleg Serebrian (n. 1969) este scriitor\, istoric\, politolog și diplomat. Romanele sale Cântecul mării\, Woldemar\, Pe Contrasens (câștigător al premiului PEN România) au fost traduse în germană și poloneză. Cea mai recentă carte: Politică și geopolitică (ediția a doua\, Cartier\, 2024). \nArthur Suciu (n. 1974) a fost jurnalist și comunicator implicat în peste zece campanii electorale din România. În prezent este scriitor și lector universitar la Facultatea de Litere și Științe ale Comunicării din Suceava. Cea mai recentă carte: Fragmente (Cartier\, 2024)\, un volum de eseuri pe care l-a scris de la 18 la 50 de ani. \nEma Stere (n. 1969) este jurnalistă\, dramaturgă\, prozatoare din București. Din 2006\, realizează emisiunea zilnică Vorba de cultură la Radio România Cultural. Scrie scenarii și adaptări pentru teatru radiofonic. A debutat în proză cu romanul Copiii lui Marcel (Polirom\, 2020)\, pentru care a luat Premiul pentru debut al Uniunii Scriitorilor din România și Premiul Sofia Nădejde la secțiunea debut/proză. \nValentina Șcerbani (n. 1988) este o tânără prozatoare din Chișinău. A debutat cu romanul Orașul promis\, apărut într-o primă ediție la Editura Tracus Arte în 2019 și într-o a doua ediție în 2023 la Editura Cartier. În același an\, cartea a fost tradusă în spaniolă la Editura Impedimenta. \nMaria Șleahtițchi (n. 1960) este scriitoare\, critic literar\, directoarea Muzeului Național al Literaturii Române din Chișinău. Cele mai recente volume: Romanul românesc (Știința\, 2020). \nRonin Terente este poet\, comunicator\, jurnalist din Chișinău. Cea mai recentă carte: Șterge conversația (Paralela 45\, 20190. Cel mai recent album: TERENTES / poate (2024).[/vc_column_text][/vc_column][/vc_row]
URL:https://cartier.md/eveniment/zilele-literaturii-romane-la-chisinau-2/
CATEGORIES:Zilele Literaturii Române
ATTACH;FMTTYPE=image/jpeg:https://cartier.md/wp-content/uploads/2024/05/zlr-afis-general-2.jpg
END:VEVENT
END:VCALENDAR