BEGIN:VCALENDAR
VERSION:2.0
PRODID:-//Editura și Librăriile CARTIER - ECPv6.15.20//NONSGML v1.0//EN
CALSCALE:GREGORIAN
METHOD:PUBLISH
X-ORIGINAL-URL:https://cartier.md
X-WR-CALDESC:Evenimente pentru Editura și Librăriile CARTIER
REFRESH-INTERVAL;VALUE=DURATION:PT1H
X-Robots-Tag:noindex
X-PUBLISHED-TTL:PT1H
BEGIN:VTIMEZONE
TZID:Europe/Helsinki
BEGIN:DAYLIGHT
TZOFFSETFROM:+0200
TZOFFSETTO:+0300
TZNAME:EEST
DTSTART:20230326T010000
END:DAYLIGHT
BEGIN:STANDARD
TZOFFSETFROM:+0300
TZOFFSETTO:+0200
TZNAME:EET
DTSTART:20231029T010000
END:STANDARD
BEGIN:DAYLIGHT
TZOFFSETFROM:+0200
TZOFFSETTO:+0300
TZNAME:EEST
DTSTART:20240331T010000
END:DAYLIGHT
BEGIN:STANDARD
TZOFFSETFROM:+0300
TZOFFSETTO:+0200
TZNAME:EET
DTSTART:20241027T010000
END:STANDARD
BEGIN:DAYLIGHT
TZOFFSETFROM:+0200
TZOFFSETTO:+0300
TZNAME:EEST
DTSTART:20250330T010000
END:DAYLIGHT
BEGIN:STANDARD
TZOFFSETFROM:+0300
TZOFFSETTO:+0200
TZNAME:EET
DTSTART:20251026T010000
END:STANDARD
END:VTIMEZONE
BEGIN:VEVENT
DTSTART;TZID=Europe/Helsinki:20240508T181500
DTEND;TZID=Europe/Helsinki:20240508T190000
DTSTAMP:20260423T161922
CREATED:20240503T192111Z
LAST-MODIFIED:20240503T192111Z
UID:31041-1715192100-1715194800@cartier.md
SUMMARY:Lansare de carte Vis pe timp de pandemie\, de Mircea Blajin\, la Librăria din Centru
DESCRIPTION:[vc_row][vc_column][vc_column_text el_class=””] \nVis pe timp de pandemie\, de Mircea Blajin\, la Librăria din Centru\nMiercuri\, 8 mai crt\, la ora 18.15\, la Librăria din Centru (bd. Ștefan cel Mare\, nr.126) din Chișinău\, va avea loc lansarea volumului Vis pe timp de pandemie\, de Mircea Blajin\, apărut la Editura Polisalm.\nPreț promoțional în ziua lansării.\nSesiune de autografe.\nAlături de autor vor vorbi:\nSergiu Gladun\nIgor Nastas\nCălin Vieru\nIon Marina \nModerator: Gheorghe Erizanu\n„La spital\, situația era tensionată. O bună parte din lucrătorii administrației și unii colegi cu sănătatea fragilă lucrau la distanță. Privind din exterior\, spitalul de psihiatrie parcă ar fi adormit. Porțile automate cu grile erau închise în permanență. Teritoriul de 20 de hectare aproape pustiu. Din când în când\, vedeai doar personalul în mașini\, pe jos ori pe biciclete venind și plecând de la serviciu. Pacienții erau prin pavilioane\, în promiscuitate. Coronavirusul și-a făcut treaba și aici.” (Mircea Blajin)\nMIRCEA BLAJIN s-a născut în 1965 în Pererita\, sat pe malul Prutului\, în familia unei moașe și a unui zootehnician. Copilăria și-a petrecut-o în sat\, precum și primii opt ani de școală\, după care a absolvit cu mențiune școala medie nr.2 din Lipcani. Și-a continuat studiile la Institutul de Medicină din Chișinău\, actuala Universitate de Medicină și Farmacie „Nicolae Testemițeanu”. A obținut specialitatea de psihiatru\, pe care a exersat-o pe parcursul a opt ani ca specialist raional în orășelul Edineț. Fiind invitat pentru o formare de studiu aprofundat în psihiatrie la Universitatea Jules Verne din Amiens (Franța)\, și-a început activitatea ca intern la spitalul din Péronne în serviciul de psihiatrie condus de Luc Margat\, începând cu ianuarie 1998. În același an a început o psihanaliză personală la Paris cu François Villa\, psihanalist la Association Psychanalytique de France. În următorii ani a continuat activitatea de medic\, a obținut echivalarea diplomelor și a luat concursul la Praticien Hospitalier\, activând timp de mai mulți ani în serviciul lui Christophe Chaperot din Abbeville. Actualmente este șef de serviciu pentru tulburările psihice cu evoluție medie și de lungă durată la Spitalul de Psihiatrie „Philippe Pinel” din Amiens\, Franța. E căsătorit\, are doi copii.\nA debutat editorial în 2018 cu volumul Culoarea frontierelor\, Editura Cartier.\nSergiu GLADUN este profesor și directorul Institutului Mamei și Copilului din Chișinău. \nIgor NASTAS este profesor și psihiatru\, Universitatea de Medicină „Nicolae Testemițeanu” din Chișinău. \nCălin VIERU este medic și om de afaceri. \nIon MARINA este medic neurochirurg la Institutul de Medicină de Urgență din Chișinău. \nGheorghe ERIZANU este editor. Cea mai recentă carte publicată: Și-am să devin erou. Texte egoiste. Editura Cartier\, 2023. \nVis pe timp de pandemie\, de Mircea Blajin. Broșată\, 164 pag. Preț: 139 MDL/ 33 RON. \nLa Editura Polisalm au mai apărut:\nPrizonierul\, de Alexei Marinat\nAvatar venețian\, de Eugenia Bulat\nAmintiri din Columbia\, de Vasile Bumacov\nPost-restant\, de Vasile Vasilache[/vc_column_text][/vc_column][/vc_row]
URL:https://cartier.md/eveniment/lansare-de-carte-vis-pe-timp-de-pandemie-de-mircea-blajin-la-libraria-din-centru/
LOCATION:Librăria din Centru\, bd.Ștefan cel Mare și Sfânt\, nr. 126\, Chișinău\, 2060\, Moldova\, Republic of
CATEGORIES:Lansări de carte
ATTACH;FMTTYPE=image/jpeg:https://cartier.md/wp-content/uploads/2024/05/afis_08_05-scaled.jpg
ORGANIZER;CN="Editura Cartier":MAILTO:vanzari@cartier.md
END:VEVENT
END:VCALENDAR