BEGIN:VCALENDAR
VERSION:2.0
PRODID:-//Editura și Librăriile CARTIER - ECPv6.15.20//NONSGML v1.0//EN
CALSCALE:GREGORIAN
METHOD:PUBLISH
X-WR-CALNAME:Editura și Librăriile CARTIER
X-ORIGINAL-URL:https://cartier.md
X-WR-CALDESC:Evenimente pentru Editura și Librăriile CARTIER
REFRESH-INTERVAL;VALUE=DURATION:PT1H
X-Robots-Tag:noindex
X-PUBLISHED-TTL:PT1H
BEGIN:VTIMEZONE
TZID:Europe/Helsinki
BEGIN:DAYLIGHT
TZOFFSETFROM:+0200
TZOFFSETTO:+0300
TZNAME:EEST
DTSTART:20230326T010000
END:DAYLIGHT
BEGIN:STANDARD
TZOFFSETFROM:+0300
TZOFFSETTO:+0200
TZNAME:EET
DTSTART:20231029T010000
END:STANDARD
BEGIN:DAYLIGHT
TZOFFSETFROM:+0200
TZOFFSETTO:+0300
TZNAME:EEST
DTSTART:20240331T010000
END:DAYLIGHT
BEGIN:STANDARD
TZOFFSETFROM:+0300
TZOFFSETTO:+0200
TZNAME:EET
DTSTART:20241027T010000
END:STANDARD
BEGIN:DAYLIGHT
TZOFFSETFROM:+0200
TZOFFSETTO:+0300
TZNAME:EEST
DTSTART:20250330T010000
END:DAYLIGHT
BEGIN:STANDARD
TZOFFSETFROM:+0300
TZOFFSETTO:+0200
TZNAME:EET
DTSTART:20251026T010000
END:STANDARD
END:VTIMEZONE
BEGIN:VEVENT
DTSTART;TZID=Europe/Helsinki:20240418T181500
DTEND;TZID=Europe/Helsinki:20240418T190000
DTSTAMP:20260423T221200
CREATED:20240415T063846Z
LAST-MODIFIED:20240415T070406Z
UID:30870-1713464100-1713466800@cartier.md
SUMMARY:Lansare de carte Politică și geopolitică\, de Oleg Serebrian\, la Librăria din Centru
DESCRIPTION:[vc_row][vc_column][vc_column_text el_class=””] \nPolitică și geopolitică\, de Oleg Serebrian\, la Librăria din Centru \nJoi\, 18 aprilie crt\, la ora 18.15\, la Librăria din Centru (bd. Ștefan cel Mare\, nr.126) din Chișinău\, va avea loc lansarea volumului Politică și geopolitică (ediția a II-a\, revăzută și adăugită)\, de Oleg Serebrian\, apărut la Editura Cartier în colecția Cartier istoric\, coordonată de Virgil Pâslariuc. \nPreț promoțional în ziua lansării. \nSesiune de autografe. \nAlături de autor vor participa:  \nAnatol Țăranu \nLiliana Vițu \nDaniel Vodă \nModerator: Emilian Galaicu-Păun \n„Pe Oleg Serebrian l-am cunoscut prin intermediul prietenului nostru comun\, istoricul Mihnea Berindei. Chiar dacă după moartea lui Mihnea Berindei întâlnirile noastre s-au rărit\, ne-am mai văzut fie la București\, fie la Berlin\, unde Oleg Serebrian a fost ambasador între 2015 și 2022. Purtam împreună lungi conversații despre politica din România și Republica Moldova\, despre Rusia și Ucraina. Timp de câțiva ani am citit realitățile din Republica Moldova prin lentila pusă generos la dispoziție de Oleg Serebrian. Mereu informat\, foarte atent la nuanțe\, academic fără să fie indigest\, cu o pasiune febrilă pentru scrisul de bună calitate stilistică\, așa cum se vede și din cartea de față\, Oleg Serebrian este una dintre cele mai strălucite minți ale culturii române care vine din stânga Prutului. Pasionat de geopolitica Estului Europei\, cu accent pe Rusia\, Oleg Serebrian e un fel de solist fără orchestră\, acoperind de unul singur un domeniu care astăzi a renăscut datorită politicii agresive a Rusiei lui Vladimir Putin.” (Armand Goșu) \nOLEG SEREBRIAN (n. 1969) este scriitor\, istoric\, politolog şi diplomat. Este licențiat în istorie și drept al Universității Pedagogice de Stat din Chișinău (1992) și magistru în relații internaționale al Insti­tutului European din Nisa (1993). A urmat specializări la Școala Națională de Administrație din Paris și la universitățile din Edinburgh şi Birmingham. În 1998 a susținut doctoratul în științe politice. În 1998-1999 a fost purtător de cuvânt al MAE al Republicii Moldova\, între 1999 şi 2005 a fost prorector al Universității Libere din Moldova\, fiind ulterior profesor invitat la diverse centre universitare din Europa de Vest și din SUA. În 2010-2015 a fost Ambasador al Republicii Moldova în Franța și pe lângă UNESCO\, iar din 2015 este Ambasadorul Republicii Moldova în Germania. Din 2013 este membru al Uniunii Scriitorilor din Republica Moldova. Pentru activitatea academică și publicistică a fost decorat de președintele român Emil Constantinescu cu Ordinul Național „Steaua României” (2000) și de președintele francez François Hollande cu Ordinul Național de Merit (2015). În anul 2012\, pentru romanul Cântecul mării (Ed. Cartier\, 2011)\, a fost distins cu premiul special al Uniunii Scriitorilor din Republica Moldova\, iar în 2019 a primit premiul Uniunii Scriitorilor din Republica Moldova pentru romanul Woldemar (Ed. Cartier\, 2018). În 2021\, la Editura Cartier\, i-a apărut romanul Pe contrasesns\, (Premiul PEN-România pentru proză pentru anul 2022). În 2022\, romanul Cântecul mării a apărut în traducere germană la Editura Mitteldeutsches din Hale\, iar în 2023\, la Editura Amaltea din Wroslaw a apărut ediția poloneză a romanului Pe contrasens. \nAnatol ȚĂRANU este istoric și analist politic. Cea mai recentă carte publicată: Foametea în Moldova sovietică 1946-1947. Editura Litera\, 2017. \nLiliana VIȚU este jurnalistă și președintă a Consiliului Audiovizualului din Republica Moldova. \nDaniel VODĂ este diplomat și purtător de cuvânt al Guvernului Republicii Moldova. \nEmilian GALAICU-PĂUN este scriitor și traducător\, redactor-șef al Editurii Cartier. Cele mai recente cărți publicate: Cărțile pe care le-am citit\, cărțile care m-au scris\, Editura Junimea\, 2020 și sanG d”encre\, Editura Cartier\, 2020. \nPolitică și geopolitică (ediția a II-a\, completată)\, de Oleg Serebrian. Legată\, 216 pag. Preț: 39 RON/169 MDL \nPoți procura cartea și online\, oriunde ai fi. Intră pe cartier.ro sau pe cartier.md. \nÎn Cartier istoric au mai apărut: \nRusia la răspântie (ediția a II-a\, actualizată)\, de Oleg Serebrian \nPogromul. Chișinăul și înclinarea istorie\, de Steven J. Zipperstein. Traducere din engleză de Cristian Fulaș \nBasarabia în componența Imperiului rus (1812 – 1918)\, de Andrei Cușco și Victor Taki. Traducere din limba rusă de Vsevolod Ciornei \nDiplomația Vechiului Regat 1878 – 1914\, de Rudolf Dinu \nBasarabia și nobilimea ei în secolul XIX – începutul secolului XX (vol. I și II)\, de Vladimir Morozan. Traducere din rusă de Vsevolod Ciornei \nCartea foametei\, de Larisa Turea \n  \nÎn curând în Cartier istoric:  \nCum să câștigi un război informațional\, de Peter Pomeranstev. Traducere din engleză de Ioana Gruenwald \nCeaușescu. O biografie\, de Traian Sandu. Traducere din franceză de Simona Modreanu \nViața lui Celine\, de Frederic Vitoux. Traducere din franceză de Cristian Fulaș[/vc_column_text][/vc_column][/vc_row]
URL:https://cartier.md/eveniment/lansare-politica-si-geopolitica-de-oleg-serebrian-la-libraria-din-centru/
LOCATION:Librăria din Centru\, bd.Ștefan cel Mare și Sfânt\, nr. 126\, Chișinău\, 2060\, Moldova\, Republic of
CATEGORIES:Lansări de carte
ATTACH;FMTTYPE=image/jpeg:https://cartier.md/wp-content/uploads/2024/04/afis_18_041-scaled.jpg
ORGANIZER;CN="Editura Cartier":MAILTO:vanzari@cartier.md
END:VEVENT
END:VCALENDAR