BEGIN:VCALENDAR
VERSION:2.0
PRODID:-//Editura și Librăriile CARTIER - ECPv6.15.20//NONSGML v1.0//EN
CALSCALE:GREGORIAN
METHOD:PUBLISH
X-WR-CALNAME:Editura și Librăriile CARTIER
X-ORIGINAL-URL:https://cartier.md
X-WR-CALDESC:Evenimente pentru Editura și Librăriile CARTIER
REFRESH-INTERVAL;VALUE=DURATION:PT1H
X-Robots-Tag:noindex
X-PUBLISHED-TTL:PT1H
BEGIN:VTIMEZONE
TZID:Europe/Helsinki
BEGIN:DAYLIGHT
TZOFFSETFROM:+0200
TZOFFSETTO:+0300
TZNAME:EEST
DTSTART:20230326T010000
END:DAYLIGHT
BEGIN:STANDARD
TZOFFSETFROM:+0300
TZOFFSETTO:+0200
TZNAME:EET
DTSTART:20231029T010000
END:STANDARD
BEGIN:DAYLIGHT
TZOFFSETFROM:+0200
TZOFFSETTO:+0300
TZNAME:EEST
DTSTART:20240331T010000
END:DAYLIGHT
BEGIN:STANDARD
TZOFFSETFROM:+0300
TZOFFSETTO:+0200
TZNAME:EET
DTSTART:20241027T010000
END:STANDARD
BEGIN:DAYLIGHT
TZOFFSETFROM:+0200
TZOFFSETTO:+0300
TZNAME:EEST
DTSTART:20250330T010000
END:DAYLIGHT
BEGIN:STANDARD
TZOFFSETFROM:+0300
TZOFFSETTO:+0200
TZNAME:EET
DTSTART:20251026T010000
END:STANDARD
END:VTIMEZONE
BEGIN:VEVENT
DTSTART;TZID=Europe/Helsinki:20240328T190000
DTEND;TZID=Europe/Helsinki:20240328T200000
DTSTAMP:20260424T003335
CREATED:20240326T074544Z
LAST-MODIFIED:20240326T074544Z
UID:30635-1711652400-1711656000@cartier.md
SUMMARY:Sfârșitul lumii e un tren\, de Daniela Rațiu\, la librăria Humanitas Constantin Noica
DESCRIPTION:[vc_row][vc_column][vc_column_text el_class=””] \nSfârșitul lumii e un tren\, de Daniela Rațiu\, la librăria Humanitas Constantin Noica \nPrieteni din Sibiu\, joi\, 28 martie\, la ora 19.00\, la librăria Humanitas Constantin Noica\, vă invităm la o întâlnire cu scriitorii Daniela Rațiu\, Radu Vancu și Mihaela Miroiu\, cu prilejul apariției romanului „Sfârșitul lumii e un tren”\, editura Cartier\, – o carte care invocă foametea de după cel de-Al Doilea Război Mondial. \n„În mijlocul uliței\, hoitul unui soldat. Va fi mâncat. Roiuri de muște se așază pe fața lui. I-au acoperit gura albă\, uscată\, buzele crăpate și însângerate\, ochii deschiși. O privire nedumerită. Ultima privire. Va fi mâncat de semenii lui. Mai târziu însă\, atunci înserarea se va amesteca cu noaptea. Arșița a uscat tot. De doi ani și mai bine nu a mai plouat. Nu latră niciun câine. Nu e nicio urmă de câine în satul acesta. Au fost mâncați de oameni. Care n-au fost mâncați\, au fugit. Se ascund prin pădurile din împrejurimi. Atacă. Câinii îi atacă pe oameni. Oamenii îi atacă pe câini. Pădurile sunt departe de sat\, e greu să ajungi până acolo\, să te ascunzi de urgia dogoritoare. Căldura te înnebunește. Îți poți da duhul pe drum\, să devii un hoit. Un hoit înseamnă carne\, hrană\, la îndemână. Un hoit nu mai e om sau câine. Sau pisică. Un hoit se poate mânca. Mintea e îngălată de foametea care a pus stăpânire pe toate ținuturile astea\, de aci și până dincolo de Prut\, dincolo de Siret. Supraviețuirea ocupă și ultimul gând. Mintea a devenit un hoit. Difuză\, la limita dintre animal și om. Mintea e animal. Foametea e atotputernică aici și până departe hăt\, foarte departe. Moldova de aici\, iar peste Prut\, Basarabia\, și mai departe\, Ucraina. Și mai departe. Departe. Până-n Siberia\, la capătul lumii.” (Din „Sfârșitul lumii e un tren”) \nDaniela RAȚIU s-a născut la Brașov. A absolvit Liceul de Arte Plastice Ion Vidu din Timișoara\, licențiată a Facultății de Științe Politice\, Filosofie și Științe ale Comunicării – Jurnalism\, a Universității de Vest\, licențiată a Facultății de Drept și Științe Administrative a Universității Tibiscus. A urmat un master de Foto/Video din cadrul Facultății de Arte și Design a Universității de Vest Timișoara. Este membră a PEN România și a Uniunii Scriitorilor din România – Filiala Timișoara. Membră a Societății Timișoara. Ca jurnalist a scris la Ziua de Vest\, Evenimentul Zilei – Ediția de Vest\, Ziare.com\, evz.ro\, adevărul.ro\, pe newsweek.ro\, lapunkt.ro etc. \nA debutat editorial cu volumul de poezie Ciorap cu firul dus\, editura Marineasa\, Timișoara\, 2005. A publicat romanul Ochelari de damă\, editura Brumar\, Timișoara\, 2005. În 2007\, a publicat romanul In Vitro\, editura Cartea Românească\, București. În 2015\, a fost unul dintre finaliștii concursului de scenarii HBO\, coautor al scenariului Pauker. În 2016\, a publicat volumul de teatru Măcelarul îi citea pe ruși\, editura Tracus Arte\, București. În 2018\, a publicat volumul de poezii Staniol\, editura Charmides\, Bistrița. În 2022\, a publicat volumul cronică-jurnal Cinci luni care au salvat România. Matrioșka. Războiul Hibrid și războiul lui Dragnea cu România\, editura Casa de Pariuri Literare\, București. În\, 2022\, au fost publicate romanul Ultimul an cu Ceaușescu\, editura Litera\, București\, și Anestezia. Un singur poem\, editura Casa de Pariuri Literare. \nRadu VANCU este scriitor și profesor de litere la Universitatea din Sibiu. Cea mai recentă carte: volumul de poezie Kaddish\, Casa de editură Max Blecher\, 2023. \nMihaela MIROIU este teoreticiană feministă. Cea mai recentă carte: Aripi și rădăcini\, editura Polirom\, 2022. \nSfârșitul lumii e un tren\, de Daniela Rațiu (colecția Rotonda). Broșată\, 252 pag.\, 39 RON/ 169 MDL. \nPoți procura cartea și online\, oriunde ai fi. E simplu. Intră pe cartier.ro\, cu livrare din București\, sau cartier.md\, cu livrare din Chișinău. \nÎn Rotonda au mai apărut: \nÎnzecit (poezie)\, de Nicolae Popa \nȘi-am să devin erou. Texte egoiste\, de Gheorghe Erizanu \nSindromul Joubert (poezie)\,  de Tiberiu Neacșu \nLegată cu funia de pământ (roman)\, de Lorina Bălteanu \nCasa mai multor primăveri (roman)\, de Alexandru Bordian \nPerfect nemulțumită (proză scurtă)\, de Irina Brumă \nJurnal precar\, de Tamara Cărăuș \nClaus (roman)\, de Gelu Diaconu \nEra lumină\, era vânt (proză scurtă)\, de Mariana Codruț \nMargareta noastră (roman)\, de Dumitru Crudu \nIdei și fantasme. Lecturi în hialin (eseu)\, de Adrian Ciubotaru \nRealitatea ca hologramă (eseu)\, de Nina Corcinschi \nNarațiuni ale erosului (eseu)\, de Nina Corcinschi \nCum se inventează un huligan? Mihail Sebastian\, ziarist la “Cuvîntul”\, de Laszlo Alexandru \nFete pierdute (eseu)\, de Alexandru Cistelecan \nChina mea din viață și din cărți (eseu)\, de Tatiana Ciocoi \nCel care așteaptă (eseu)\, de Arthur Suciu[/vc_column_text][/vc_column][/vc_row]
URL:https://cartier.md/eveniment/sfarsitul-lumii-e-un-tren-de-daniela-ratiu-la-libraria-humanitas-constantin-noica/
LOCATION:Librăria Humanitas Constantin Noica\, România
CATEGORIES:Lansări de carte
ATTACH;FMTTYPE=image/jpeg:https://cartier.md/wp-content/uploads/2024/03/afis-28-martie-1.jpg
END:VEVENT
END:VCALENDAR