BEGIN:VCALENDAR
VERSION:2.0
PRODID:-//Editura și Librăriile CARTIER - ECPv6.15.20//NONSGML v1.0//EN
CALSCALE:GREGORIAN
METHOD:PUBLISH
X-ORIGINAL-URL:https://cartier.md
X-WR-CALDESC:Evenimente pentru Editura și Librăriile CARTIER
REFRESH-INTERVAL;VALUE=DURATION:PT1H
X-Robots-Tag:noindex
X-PUBLISHED-TTL:PT1H
BEGIN:VTIMEZONE
TZID:Europe/Helsinki
BEGIN:DAYLIGHT
TZOFFSETFROM:+0200
TZOFFSETTO:+0300
TZNAME:EEST
DTSTART:20220327T010000
END:DAYLIGHT
BEGIN:STANDARD
TZOFFSETFROM:+0300
TZOFFSETTO:+0200
TZNAME:EET
DTSTART:20221030T010000
END:STANDARD
BEGIN:DAYLIGHT
TZOFFSETFROM:+0200
TZOFFSETTO:+0300
TZNAME:EEST
DTSTART:20230326T010000
END:DAYLIGHT
BEGIN:STANDARD
TZOFFSETFROM:+0300
TZOFFSETTO:+0200
TZNAME:EET
DTSTART:20231029T010000
END:STANDARD
BEGIN:DAYLIGHT
TZOFFSETFROM:+0200
TZOFFSETTO:+0300
TZNAME:EEST
DTSTART:20240331T010000
END:DAYLIGHT
BEGIN:STANDARD
TZOFFSETFROM:+0300
TZOFFSETTO:+0200
TZNAME:EET
DTSTART:20241027T010000
END:STANDARD
END:VTIMEZONE
BEGIN:VEVENT
DTSTART;TZID=Europe/Helsinki:20231116T181500
DTEND;TZID=Europe/Helsinki:20231116T190000
DTSTAMP:20260425T160723
CREATED:20231114T092342Z
LAST-MODIFIED:20231114T092342Z
UID:29469-1700158500-1700161200@cartier.md
SUMMARY:Lansare Teatru documentar (2 vol)\, de Mihai Fusu și Luminița Tâcu\, la Librăria din Centru
DESCRIPTION:[vc_row][vc_column][vc_column_text el_class=””] \nTeatru documentar (2 vol)\, de Mihai Fusu și Luminița Tâcu\, la Librăria din Centru\nJoi\, 16 noiembrie crt\, la ora 18.15\, la Librăria din Centru (bd. Ștefan cel Mare\, nr.126) din Chișinău\, va avea loc lansarea volumelor Teatru documentar (2 vol)\, de Mihai Fusu și Luminița Tâcu\, apărute la Editura Cartier în colecția Cartier popular.\nPreț promoțional în ziua lansării.\nSesiune de autografe.\nAlături de autori vor participa:\nVirgil Pâslariuc \nMihaela Strâmbeanu\nOlga Triboi\nAlexandru Pleșca\nDiana Decuseară \nModerator: Em. Galaicu-Păun\n„A șaptea kafana. Textul se oprește și apar întrebări: cum poate sau cum vrea această lume a noastră să ajute? Cum să ușurăm viața și să ajutăm aceste femei descompuse să reînvie? Unde se oprește infernul? Fiecare suferă în sine\, pentru sine… Atunci\, viața\, cine o va da înapoi? Când mărturisim\, o mică sursă de lumină prinde viață și o ușă se deschide spre celălalt…” (NATALIE PIVAIN\, regizoare\, Franța)\n„Casa M ne pune faţă în faţă cu o gravă problemă socială\, pentru soluţionarea căreia autorităţile par să fi găsit soluţiile necesare\, dar\, în acelaşi timp\, aceasta continuă să persiste\, din inerţia sistemului şi a mentalităţilor.” (AURELIA BORZIN\, scriitoare\, fotografă)\n„Seducerea și recrutarea copiilor prin intermediul rețelelor sociale în scopul exploatării sexuale a devenit un flagel al societății moderne\, care afectează nu doar Moldova\, ci și alte țări\, inclusiv Franța. Corp de copil desfășoară cu finețe și precizie mecanismele de influență și manipulare.” (Compania teatrală 5h38\, Franța)\n„Autorii ating tema destinelor umane traumatizate\, dar și neputința socială\, ignoranța oamenilor și a statului\, care este încă nepregătit pentru schimbări cardinale: a scoate cătușele de pe minte și suflet\, a deschide ușa spre acești oameni și a se elibera de prejudecăți. Shakespeare pentru Ana nu este o dramă a deținuților\, ci o dramă socială despre aspectele care au provocat aceste crime.” (NATALIA BOȚAN\, jurnalistă\, activistă în domeniul drepturilor omului)\n„Dacă o piesă sau un scenariu clasic este creația unui anumit autor de la idee\, temă\, personaje și până la ultimul cuvânt scris\, atunci teatrul documentar folosește exclusiv texte deja existente\, așa-zise documente\, cum ar fi: scrisori\, telegrame\, stenograme\, articole de ziar\, rapoarte\, jurnale\, sondaje etc.\, etc. (…) Dacă\, în cazul unui text de teatru de ficțiune\, autorul operează cu imaginația (chiar dacă se inspiră din realitate)\, atunci regula de bază în teatrul verbatim este să nu schimbi nimic\, să aduci faptele și vorbele oamenilor așa cum au fost expuse și documentate. Rolul autorului în teatrul documentar se reduce la selectarea și organizarea materialului colectat și construirea textului dramatic pe baza acestor texte.” (MIHAI FUSU)\n„Teatrul verbatim (din lat. „cuvânt cu cuvânt”) este un spectacol bazat pe texte istorice atribuite unor persoane concrete\, extrase din diverse surse – memorii\, stenograme\, documente arhivistice\, mărturii\, articole din presa vremii etc. –\, concepute\, colectate şi adunate în așa manieră\, încât să restabilească cât mai aproape de realitate atmosfera evenimentelor ce s-au produs cândva. Aici scenaristul şi istoricul se apropie. Istoria ca narațiune a trecutului este și ea un act de imaginație\, de reconstruire\, ambii selectează informaţiile dintr-un șuvoi continuu de fapte\, evenimente şi fenomene\, pe care le colectează\, organizează şi adaptează\, ca să le plămădească într-o narațiune (mai mult sau mai puţin) coerentă. Şi deoarece faptele trecutului prind contur şi sens doar într-o povest(ir) e\, teatrul\, care oferă textului șansa să se întrupeze în rostire\, sunete şi lumini\, parcă este creat pentru o asemenea apropiere…” (VIRGIL PÂSLARIUC) \nMIHAI FUSU este regizor și actor.\nLUMINIȚA TÂCU este regizoare.\nVIRGIL PÂSLARIUC este istoric și deputat în Parlamentul Republicii Moldova. Este coordonatorul colecției Cartier istoric\, Editura Cartier.\nMIHAELA STRÂMBEANU este actriță la Teatrul Național „Mihai Eminescu”.\nOLGA TRIBOI este actriță la Teatrul Național „Mihai Eminescu”.\nALEXANDRU PLEȘCA este actor la Teatrul Național „Mihai Eminescu”.\nDIANA DECUSEARĂ este actriță la Teatrul Național „Mihai Eminescu”.\nEmilian GALAICU-PĂUN este scriitor și traducător\, redactor-șef al Editurii Cartier. Cele mai recente cărți publicate: Cărțile pe care le-am citit\, cărțile care m-au scris\, Editura Junimea\, 2020 și sanG d”encre\, Editura Cartier\, 2020. \nTeatru documentar\, vol. I: A șaptea kafana. Casa M. Shakespeare pentru Ana. Corp de copil (Cartier popular). Broșată\, 192 pag. Preț: 33 RON/139 MDL\nTeatru documentar\, vol. II: Anatomia Unirii (Cartier popular). Broșată\, 88 pag. Preț: 33 RON/139 MDL\nPoți procura cartea și online\, oriunde ai fi. E simplu. Intră pe cartier.ro\, cu livrare din București\, sau cartier.md\, cu livrare din Chișinău.\n[/vc_column_text][/vc_column][/vc_row]
URL:https://cartier.md/eveniment/lansare-teatru-documentar-2-vol-de-mihai-fusu-si-luminita-tacu-la-libraria-din-centru/
LOCATION:Librăria din Centru\, bd.Ștefan cel Mare și Sfânt\, nr. 126\, Chișinău\, 2060\, Moldova\, Republic of
CATEGORIES:Lansări de carte
ATTACH;FMTTYPE=image/jpeg:https://cartier.md/wp-content/uploads/2023/11/Afis_Teatru_documentar-scaled.jpg
ORGANIZER;CN="Editura Cartier":MAILTO:vanzari@cartier.md
END:VEVENT
END:VCALENDAR