BEGIN:VCALENDAR
VERSION:2.0
PRODID:-//Editura și Librăriile CARTIER - ECPv6.15.20//NONSGML v1.0//EN
CALSCALE:GREGORIAN
METHOD:PUBLISH
X-WR-CALNAME:Editura și Librăriile CARTIER
X-ORIGINAL-URL:https://cartier.md
X-WR-CALDESC:Evenimente pentru Editura și Librăriile CARTIER
REFRESH-INTERVAL;VALUE=DURATION:PT1H
X-Robots-Tag:noindex
X-PUBLISHED-TTL:PT1H
BEGIN:VTIMEZONE
TZID:Europe/Helsinki
BEGIN:DAYLIGHT
TZOFFSETFROM:+0200
TZOFFSETTO:+0300
TZNAME:EEST
DTSTART:20220327T010000
END:DAYLIGHT
BEGIN:STANDARD
TZOFFSETFROM:+0300
TZOFFSETTO:+0200
TZNAME:EET
DTSTART:20221030T010000
END:STANDARD
BEGIN:DAYLIGHT
TZOFFSETFROM:+0200
TZOFFSETTO:+0300
TZNAME:EEST
DTSTART:20230326T010000
END:DAYLIGHT
BEGIN:STANDARD
TZOFFSETFROM:+0300
TZOFFSETTO:+0200
TZNAME:EET
DTSTART:20231029T010000
END:STANDARD
BEGIN:DAYLIGHT
TZOFFSETFROM:+0200
TZOFFSETTO:+0300
TZNAME:EEST
DTSTART:20240331T010000
END:DAYLIGHT
BEGIN:STANDARD
TZOFFSETFROM:+0300
TZOFFSETTO:+0200
TZNAME:EET
DTSTART:20241027T010000
END:STANDARD
END:VTIMEZONE
BEGIN:VEVENT
DTSTART;TZID=Europe/Helsinki:20231109T181500
DTEND;TZID=Europe/Helsinki:20231109T190000
DTSTAMP:20260424T003418
CREATED:20231106T074859Z
LAST-MODIFIED:20231106T074859Z
UID:29390-1699553700-1699556400@cartier.md
SUMMARY:Lansarea volumului de poeme Înzecit\, de Nicolae Popa\, la Librăria din Centru
DESCRIPTION:[vc_row][vc_column][vc_column_text el_class=””] \nÎnzecit\, de Nicolae Popa\, la Librăria din Centru\nJoi\, 9 noiembrie crt\, la ora 18.15\, la Librăria din Centru (bd. Ștefan cel Mare\, nr.126) din Chișinău\, va avea loc lansarea noului volum de poeme Înzecit\, de Nicolae Popa\, apărut la Editura Cartier în colecția Rotonda\, coordonată de Emilian Galaicu-Păun.\nPreț promoțional în ziua lansării.\nSesiune de autografe.\nAlături de autor vor participa:\nEugen Lungu\nIon Buzu\nArcadie Suceveanu\nAlina Țurcanu\nModerator: Em. Galaicu-Păun\n„Nicolae Popa face parte din specia rară a poeților vizionari. Miza poemelor sale este ștergerea graniței dintre individual și general uman\, dintre concretul banal și metafizicul inefabil\, dintre lumesc și dumnezeiesc. (…) Este uimitoare această capacitate a lui Nicolae Popa de a îmbina planuri aparent neadiacente\, pentru a descoperi transcendentul în lumesc și omenescul în celest. Construite din astfel de dihotomii\, uneori ludice\, alteori profund dramatice\, poemele răvășesc și încântă\, contrariază și deprimă\, așa cum trebuie să facă poezia adevărată (…)\nÎnzecit este o carte a profunzimilor\, scrisă de un poet care a ieșit din tiparele poetice ale generației sale\, creându-și propria formulă\, distinctă\, inconfundabilă. Un poet adevărat.” (Lucia Țurcan) \nNicolae POPA (n. 13 februarie 1959\, s. Buda\, Călăraşi\, Republica Moldova) poet şi prozator. A absolvit Şcoala poligrafică din Chişinău (1978)\, Facultatea de jurnalistică a Universităţii de Stat din Moldova (1983) şi Cursurile Superioare de literatură la Institutul de Literatură „M. Gorki” din Moscova (1989). Debut editorial cu volumul Timpul probabil\, Editura Literatura Artistică\, 1983.\nCărţi publicate: (poezie) Ghid pentru cometa Halley\, Editura Literatura Artistică\, 1987; Lunaticul nopţii scitice\, Editura Cartier\, 1995 (Premiul Uniunii Scriitorilor din România; Premiul Uniunii Scriitorilor din Moldova); Careul cu raci\, Editura Cartier\, 2003 (Premiul USM); Elegiile Casei Scriitorilor\, Editura Vinea\, 2013 (Premiul USM); antologia O mie de ani cu faţa la soare\, Editura ARC\, 2019; Mitrofan plângăciosul\, Editura Tracus Arte\, 2021; (romane) Cubul de zahăr\, Editura Hyperion\, 1991 (ediţia a II-a\, Editura Cartier\, 2005; ediţia a III-a\, Editura Junimea\, 2017); Avionul mirosea a peşte\, Editura ARC\, 2008 (Premiul USM; ediţia a II\, 2022); (proză) Păsări mergând pe jos. Povestiri de nepovestit\, Editura ARC\, 2001 (Premiul USM); Castanul roz/ Hoţii de apartamente (în colaborare cu Vladimir Beşleagă\, Editura Muzeului Naţional de Literatură Română\, 2021; (cărţi pentru copii) Balcoane cu elefanţi\, Editura Prut Internaţional\, 2011; Marele Ciulică\, Editura Prut Internaţional\, 2012; Ghiozdanul zburător\, Editura ARC\, 2015. \nEugn LUNGU este critic literar. Cea mai recentă carte: Complexul Orfeu\, Editura Arc\, 2019.\nIon BUZU este poet. Cea mai recentă carte publicată: Realist și egal\, Editura Charmides\, 2021.\nArcadie SUCEVEANU este poet. Cea mai proaspătă carte: Amurguri clasice\, dimineți postmoderne\, Editura Junimea\, 2022.\nAlina ȚURCANU este actriță.\nEmilian GALAICU-PĂUN este scriitor și traducător\, redactor-șef al Editurii Cartier. Cele mai recente cărți publicate: Cărțile pe care le-am citit\, cărțile care m-au scris\, Editura Junimea\, 2020 și sanG d”encre\, Editura Cartier\, 2020. \nÎnzecit\, de Nicolae Popa (Rotonda). Broșată\, 96 pag. Preț: 33 RON/139 MDL \nPoți procura cartea și online\, oriunde ai fi. E simplu. Intră pe cartier.ro\, cu livrare din București\, sau cartier.md\, cu livrare din Chișinău. \nÎn Rotonda au mai apărut:\nȘi-am să devin erou. Texte egoiste\, de Gheorghe Erizanu\nSindromul Joubert\, de Tiberiu Neacșu\nLegată cu funia de pământ\, de Lorina Bălteanu\nCasa mai multor primăveri (roman)\, de Alexandru Bordian\nPerfect nemulțumită (proză scurtă)\, de Irina Brumă\nJurnal precar\, de Tamara Cărăuș\nClaus (roman)\, de Gelu Diaconu\nAlt continent (roman)\, de Ghenadie Postolache\nCanon (roman)\, de Ghenadie Postolache\nSingurătățile unei femei frumoase (proză scurtă)\, de Adrian Marcu\nArd pădurile (roman)\, de Paula Erizanu\nHotel California (proza scurtă)\, de Constantin Cheianu\nDependența (roman)\, de Constantin Cheianu\nEra lumină\, era vânt (proză scurtă)\, de Mariana Codruț\nMargareta noastră (roman)\, de Dumitru Crudu\nIdei și fantasme. Lecturi în hialin (eseu)\, de Adrian Ciubotaru\nRealitatea ca hologramă (eseu)\, de Nina Corcinschi\nNarațiuni ale erosului (eseu)\, de Nina Corcinschi\nCum se inventează un huligan? Mihail Sebastian\, ziarist la “Cuvîntul”\, de Laszlo Alexandru\nFete pierdute (eseu)\, de Alexandru Cistelecan\nChina mea din viață și din cărți (eseu)\, de Tatiana Ciocoi\nCel care așteaptă (eseu)\, de Arthur Suciu\n[/vc_column_text][/vc_column][/vc_row]
URL:https://cartier.md/eveniment/lansarea-volumului-de-poeme-inzecit-de-nicolae-popa-la-libraria-din-centru/
LOCATION:Librăria din Centru\, bd.Ștefan cel Mare și Sfânt\, nr. 126\, Chișinău\, 2060\, Moldova\, Republic of
CATEGORIES:Lansări de carte
ATTACH;FMTTYPE=image/jpeg:https://cartier.md/wp-content/uploads/2023/11/Afis_N_Popa_Inzecit-scaled.jpg
ORGANIZER;CN="Editura Cartier":MAILTO:vanzari@cartier.md
END:VEVENT
END:VCALENDAR