BEGIN:VCALENDAR
VERSION:2.0
PRODID:-//Editura și Librăriile CARTIER - ECPv6.15.20//NONSGML v1.0//EN
CALSCALE:GREGORIAN
METHOD:PUBLISH
X-WR-CALNAME:Editura și Librăriile CARTIER
X-ORIGINAL-URL:https://cartier.md
X-WR-CALDESC:Evenimente pentru Editura și Librăriile CARTIER
REFRESH-INTERVAL;VALUE=DURATION:PT1H
X-Robots-Tag:noindex
X-PUBLISHED-TTL:PT1H
BEGIN:VTIMEZONE
TZID:Europe/Helsinki
BEGIN:DAYLIGHT
TZOFFSETFROM:+0200
TZOFFSETTO:+0300
TZNAME:EEST
DTSTART:20220327T010000
END:DAYLIGHT
BEGIN:STANDARD
TZOFFSETFROM:+0300
TZOFFSETTO:+0200
TZNAME:EET
DTSTART:20221030T010000
END:STANDARD
BEGIN:DAYLIGHT
TZOFFSETFROM:+0200
TZOFFSETTO:+0300
TZNAME:EEST
DTSTART:20230326T010000
END:DAYLIGHT
BEGIN:STANDARD
TZOFFSETFROM:+0300
TZOFFSETTO:+0200
TZNAME:EET
DTSTART:20231029T010000
END:STANDARD
BEGIN:DAYLIGHT
TZOFFSETFROM:+0200
TZOFFSETTO:+0300
TZNAME:EEST
DTSTART:20240331T010000
END:DAYLIGHT
BEGIN:STANDARD
TZOFFSETFROM:+0300
TZOFFSETTO:+0200
TZNAME:EET
DTSTART:20241027T010000
END:STANDARD
END:VTIMEZONE
BEGIN:VEVENT
DTSTART;TZID=Europe/Helsinki:20231023T190000
DTEND;TZID=Europe/Helsinki:20231023T200000
DTSTAMP:20260424T003347
CREATED:20231019T063400Z
LAST-MODIFIED:20231019T064443Z
UID:29229-1698087600-1698091200@cartier.md
SUMMARY:Lansare de carte online: Eutopia. Concepte\, identități și istorii românești\, de Liviu Neagoe
DESCRIPTION:[vc_row][vc_column][vc_column_text el_class=””] \nLansare de carte online: Eutopia. Concepte\, identități și istorii românești\, de Liviu Neagoe\nLuni\, 23 octombrie\, la ora 19.00\, va avea loc lansarea online a volumului Eutopia. Concepte\, identități și istorii românești\, de Liviu Neagoe\, proaspăt apărut la Editura Cartier.\nAlături de autor\, vor participa Bogdan Caranfilof\, Tamara Cărăuș\, Ciprian Mihali. Moderează: Magda Grădinaru. \nDiscuția va fi transmisă live\, pe pagina de Facebook a Editurii Cartier și a Librăriilor Cărturești. Înregistrare disponibilă ulterior și pe pagina Editurii Cartier pe Youtube. \n„Liviu Neagoe aduce o contribuție importantă la dezbaterea despre identitatea națională și europenizare la români. Autorul oferă o lectură atentă a unor autori precum Aurel C. Popovici\, Virgil Bărbat\, Lucian Blaga\, Emil Cioran\, Mihail Sebastian sau Constantin Noica\, care au contribuit cu texte fundamentale la această dezbatere\, mai ales în prima jumătate a secolului al XX-lea. În același timp\, analiza propusă de el este conectată direct la literatura de specialitate despre națiune și naționalism\, oferind un cadru metodologic și comparativ adecvat pentru această discuție. Într-o Românie tot mai divizată social și polarizată ideologic\, cartea aceasta ne ajută să înțelegem mai bine problema complexă a definirii unei identități naționale și a strategiilor de construcție a ei. O carte necesară și utilă\, care oferă o nouă perspectivă asupra (ne)ajunsului de a te fi născut român la porțile Orientului\, dar cu privirea spre Europa.” (Marius Turda\, Oxford Brookes University) \nLiviu NEAGOE este licențiat în filozofie al Universității „Babeș-Bolyai” din Cluj-Napoca\, masterand în istorie modernă al Central European University Budapesta și doctor în istorie al Institutului de Istorie „G. Barițiu” din Cluj-Napoca. Are ca domenii de interes: istoria intelectuală\, naționalismul și identitatea națională\, ideea de cetățenie\, antisemitismul românesc. A publicat articole și studii în reviste de specialitate\, precum și capitole în volume colective: Liviu Neagoe (edit.)\, Elite\, națiune și societate în România modernă (2012)\, Lucian Nastasă\, Dragoș Sdrobiș (edit.)\, Politici culturale și modele intelectuale în România (2013). Este autor al volumelor Cetățenie\, națiune și etnicitate. 0 perspectivă comparată (2014) și Antisemitism și emancipare în secolul al XIX-lea. Di-leme etnice și controverse constituționale in istoria evreilor din România (2016). Contribuțiile sale sunt menționate în Addenda la Enciclopedia reprezentanților scrisului istoric românesc. \nBogdan CARANFILOF este istoric\, pasionat de avatarurile istoriografiei românești. Predă la Colegiul Național Mihai Eminescu și la Colegiul Tehnic Gheorghe Asachi din Botoșani. Este colaborator bookhub.ro. \nTamara CĂRĂUȘ este cercetătoare la Centrul de Filosofie al Universității de la Lisabona. A mai avut proiecte de cercetare la Universitatea Oxford\, Colegiul Noua Europă\, Universitatea din București\, Universitatea din Groningen ș.a. Este autoarea volumelor Capcanele identității (Cartier\, 2011)\, Limba de hârtie (Cartier\, 2017\, 2019)\, Jurnal precar (Cartier\, 2022)\, Militant Cosmopolitics. Another World Horizon (Edinburgh University Press\, 2022). \nCiprian MIHALI (n. 1967) predă din 1992 filozofia contemporană la Universitatea Babeş-Bolyai din Cluj. Între 2012 şi 2016 a fost ambasador al României în Senegal şi în alte şapte state din Africa de Vest\, pentru ca din 2016 până în 2020 să lucreze la Bruxelles ca director pentru Europa de Vest al Agenţiei Universitare a Francofoniei. Din septembrie 2020 s-a întors la catedră. \nMagda GRĂDINARU este senior editor Spotmedia. Jurnalistă deopotrivă preocupată de cultură și politică. Printre dialogurile sale despre locul omului în istorie se numără cele cu Amos Oz\, Ismail Kadare\, Ludmila Ulițkaia\, Andrew Solomon\, Lucian Boia și Yuval Noah Harari. \nComandați cartea online\, pe site-ul Cărturești\, cartier.ro sau cartier.md. \nCu livrare din București în toată România: https://cartier.ro/libraria/istorie/eutopia/\nhttps://carturesti.ro/carte/eutopia-2210501972?p=1 \nCu livrare din Chișinău oriunde-n lume:\nhttps://cartier.md/libraria/istorie/eutopia/[/vc_column_text][/vc_column][/vc_row]
URL:https://cartier.md/eveniment/lansare-de-carte-online-eutopia-concepte-identitati-si-istorii-romanesti-de-liviu-neagoe/
LOCATION:Live\, pe pagina facebook a Editurii Cartier\, Online
CATEGORIES:Lansări de carte
ATTACH;FMTTYPE=image/jpeg:https://cartier.md/wp-content/uploads/2023/10/Afis_Neagoe_Eutopia.jpg
ORGANIZER;CN="Editura Cartier":MAILTO:vanzari@cartier.md
END:VEVENT
END:VCALENDAR