BEGIN:VCALENDAR
VERSION:2.0
PRODID:-//Editura și Librăriile CARTIER - ECPv6.15.20//NONSGML v1.0//EN
CALSCALE:GREGORIAN
METHOD:PUBLISH
X-WR-CALNAME:Editura și Librăriile CARTIER
X-ORIGINAL-URL:https://cartier.md
X-WR-CALDESC:Evenimente pentru Editura și Librăriile CARTIER
REFRESH-INTERVAL;VALUE=DURATION:PT1H
X-Robots-Tag:noindex
X-PUBLISHED-TTL:PT1H
BEGIN:VTIMEZONE
TZID:Europe/Helsinki
BEGIN:DAYLIGHT
TZOFFSETFROM:+0200
TZOFFSETTO:+0300
TZNAME:EEST
DTSTART:20220327T010000
END:DAYLIGHT
BEGIN:STANDARD
TZOFFSETFROM:+0300
TZOFFSETTO:+0200
TZNAME:EET
DTSTART:20221030T010000
END:STANDARD
BEGIN:DAYLIGHT
TZOFFSETFROM:+0200
TZOFFSETTO:+0300
TZNAME:EEST
DTSTART:20230326T010000
END:DAYLIGHT
BEGIN:STANDARD
TZOFFSETFROM:+0300
TZOFFSETTO:+0200
TZNAME:EET
DTSTART:20231029T010000
END:STANDARD
BEGIN:DAYLIGHT
TZOFFSETFROM:+0200
TZOFFSETTO:+0300
TZNAME:EEST
DTSTART:20240331T010000
END:DAYLIGHT
BEGIN:STANDARD
TZOFFSETFROM:+0300
TZOFFSETTO:+0200
TZNAME:EET
DTSTART:20241027T010000
END:STANDARD
END:VTIMEZONE
BEGIN:VEVENT
DTSTART;TZID=Europe/Helsinki:20231016T190000
DTEND;TZID=Europe/Helsinki:20231016T200000
DTSTAMP:20260424T003348
CREATED:20231013T122020Z
LAST-MODIFIED:20231013T122507Z
UID:29197-1697482800-1697486400@cartier.md
SUMMARY:Lansare de carte online: Legată cu funia de pământ\, de Lorina Bălteanu
DESCRIPTION:[vc_row][vc_column][vc_column_text el_class=””] \n  \nLansare de carte online: Legată cu funia de pământ\, de Lorina Bălteanu \nLuni\, 16 octombrie\, ora 19.00\, vă invităm la lansarea online a romanului Legată cu funia de pământ\, de Lorina Bălteanu\, apărut la Editura Cartier\, colecția Rotonda. Alături de autoare vor participa : Simona Popescu\, Bogdan Crețu și Paula Erizanu.\nDiscuția va fi transmisă live\, pe pagina facebook a Editurii Cartier și pe pagina Librăriilor Cărturești.\nÎnregistrare disponibilă ulterior și pe canalul Editurii Cartier de pe YouTube. \n„O mare surpriză acest roman al poetei Lorina Bălteanu! O lume întreagă încape în el\, după cum o lume întreagă într-un sătuc: zeci de personaje\, de povești\, de întâmplări. Totul văzut prin ochii unei fetițe care crește cu gândul că vrea să plece departe de locul în care s-a născut\, simțindu-se legată de el cum i se pare că e prinsă și luna\, cu o funie (invizibilă)\, de pământ. O fetiță/ fată cu dor de ducă și cu un puternic sentiment al neapartenenței\, Străină\, dar cu o uriașă tandrețe pentru acest sat pe care se pregătește să-l lase\, cândva\, în urmă. De aici și stranietatea percepțiilor ei\, sensibilitatea față de tot ce e frumusețe\, dar și față de ce e dureros\, uneori până la oroare. Există însă\, întotdeauna\, ceva mai amplu decât ceea ce se vede\, iar fetița simte/știe deja asta. Ceea ce o deosebește pe Lorina Bălteanu de mulți alți autori/multe alte autoare de azi este scriitura – densă\, intensă\, senzorială\, poetică. Ca și în poezie\, ea lucrează cu detaliile\, cu emoția și cuvintele ca un bijutier\, creează microstructuri ale (i)realității imediate (cum ar fi spus M. Blecher) care licăresc continuu – și au darul de a emite lumina unei profunde\, tulburătoare înțelegeri.” (Simona Popescu) \nLORINA BĂLTEANU (n. 21 decembrie 1960\, satul Peciște\, Rezina\, Republica Moldova) este poetă\, licențiată a Institutului de Literatură „M. Gorki” din Moscova și a Universității din Dijon. A fost metodistă la Clubul Uniunii Scriitorilor din Republica Moldova\, redactoare la revistele Orizontul și Sud-Est cultural; între 1992 și 1998\, directoare a Fundației Soros Moldova; din 1998\, directoare a Trustului de Presă Medialog. În anul 2000 se stabilește la Paris\, unde se lansează în design de interior și își creează propria marcă de bijuterii. Volume publicate: Obstacolul sticlei (Literatura Artistică\, Chișinău\, 1984)\, volum tradus în limba rusă: Pregrada stekla (Moscova\, 1985)\, Cioburi (Hyperion\, Chișinău\, 1990)\, Poeme pe sticlă (Chișinău\, 1997). Legată cu funia de pământ este primul său roman. \nSimona POPESCU este scriitoare. Cel mai proaspăt volum publicat: Cartea plantelor și animalelor\, Editura Nemira\, 2021. \nBogdan CREȚU este scriitor și critic literar. Cel mai recent volum publicat: Nichita. Poetul ca și soldatul\, Editura Polirom\, 2022. \nPaula ERIZANU este scriitoare și jurnalistă. Cea mai recentă carte publicată: Ard pădurile\, Cartier\, 2021.\nLegată cu funia de pământ\, de Lorina Bălteanu\, (Rotonda). Broșată\, 148 pag. Preț: 33 RON/139 MDL \nPoți procura cartea și online\, oriunde ai fi. E simplu. Intră pe cărturesti.ro\, cartier.ro sau cartier.md: \nLegată cu funia de pământ \n\nhttps://cartier.ro/libraria/beletristica/legata-cu-funia-de-pamant/\nhttps://carturesti.ro/carte/legata-cu-funia-de-pamant-2116671273?p=1[/vc_column_text][/vc_column][/vc_row]
URL:https://cartier.md/eveniment/lansare-de-carte-online-legata-cu-funia-de-pamant-de-lorina-balteanu/
LOCATION:Live\, pe pagina facebook a Editurii Cartier\, Online
CATEGORIES:Lansări de carte
ATTACH;FMTTYPE=image/jpeg:https://cartier.md/wp-content/uploads/2023/10/L_Balteanu_Legata1.jpg
ORGANIZER;CN="Editura Cartier":MAILTO:vanzari@cartier.md
END:VEVENT
END:VCALENDAR