BEGIN:VCALENDAR
VERSION:2.0
PRODID:-//Editura și Librăriile CARTIER - ECPv6.15.20//NONSGML v1.0//EN
CALSCALE:GREGORIAN
METHOD:PUBLISH
X-WR-CALNAME:Editura și Librăriile CARTIER
X-ORIGINAL-URL:https://cartier.md
X-WR-CALDESC:Evenimente pentru Editura și Librăriile CARTIER
REFRESH-INTERVAL;VALUE=DURATION:PT1H
X-Robots-Tag:noindex
X-PUBLISHED-TTL:PT1H
BEGIN:VTIMEZONE
TZID:Europe/Helsinki
BEGIN:DAYLIGHT
TZOFFSETFROM:+0200
TZOFFSETTO:+0300
TZNAME:EEST
DTSTART:20220327T010000
END:DAYLIGHT
BEGIN:STANDARD
TZOFFSETFROM:+0300
TZOFFSETTO:+0200
TZNAME:EET
DTSTART:20221030T010000
END:STANDARD
BEGIN:DAYLIGHT
TZOFFSETFROM:+0200
TZOFFSETTO:+0300
TZNAME:EEST
DTSTART:20230326T010000
END:DAYLIGHT
BEGIN:STANDARD
TZOFFSETFROM:+0300
TZOFFSETTO:+0200
TZNAME:EET
DTSTART:20231029T010000
END:STANDARD
BEGIN:DAYLIGHT
TZOFFSETFROM:+0200
TZOFFSETTO:+0300
TZNAME:EEST
DTSTART:20240331T010000
END:DAYLIGHT
BEGIN:STANDARD
TZOFFSETFROM:+0300
TZOFFSETTO:+0200
TZNAME:EET
DTSTART:20241027T010000
END:STANDARD
END:VTIMEZONE
BEGIN:VEVENT
DTSTART;TZID=Europe/Helsinki:20231012T181500
DTEND;TZID=Europe/Helsinki:20231012T190000
DTSTAMP:20260423T232410
CREATED:20231010T074603Z
LAST-MODIFIED:20231010T075837Z
UID:29161-1697134500-1697137200@cartier.md
SUMMARY:Și-am să devin erou\, de Gheorghe Erizanu\, la Librăria din Centru
DESCRIPTION:[vc_row][vc_column][vc_column_text el_class=””] \nȘi-am să devin erou\, de Gheorghe Erizanu\, la Librăria din Centru \nJoi\, 12 octombrie crt\, la ora 18.15\, la Librăria din Centru (bd. Ștefan cel Mare\, nr.126) din Chișinău\, va avea loc lansarea volumului Și-am să devin erou\, de Gheorghe Erizanu\, apărut la Editura Cartier în colecția Rotonda\, coordonată de Emilian Galaicu-Păun. \nPreț promoțional în ziua lansării.\nSesiune de autografe. \nAlături de autor vor participa:\nAlina Radu\nLorina Bălteanu\nAndrei Țurcanu\nNina Corcinschi\nModerator: Em. Galaicu-Păun \n„Blogul lui Gheorghe Erizanu este una dintre sursele mele de bază. Și nu de azi-de ieri\, ci de ani buni.\nStrânse când și când în volum\, fie și selectiv\, însemnările sale de pe blog alcătuiesc un jurnal nu atât intim\, cât „extim“. Și-am să devin erou. Texte egoiste cuprinde texte scrise în perioada iunie 2017-aprilie 2023. Poate intervalul cel mai dramatic din istoria Republicii Moldova de după conflictul de la Nistru din 1992: schimbări de guverne\, orientarea către Occident\, pandemia și\, de un an și jumătate\, războiul de la graniță\, din Ucrania. De care depinde\, clar\, soarta sa în următorii mulți ani. De aceea\, calitatea de martor credibil este esențială. Iar Gheorghe Erizanu este un astfel de martor. Un intelectual care nu doar observă\, ci își asumă și o atitudine clară. Reacționează cu armele sale\, care sunt cele ale unui excelent editor și ale unui intelectual pentru care a nu păstra tăcerea în momentele-cheie este o obligație civică\, dar și deontologică.” (Bogdan Crețu)\n„Gheorghe Erizanu a scris un foarte frumos roman pe care l-a ascuns dibaci în cronologie și tematici aparent obișnuite. O carte a timpului sucit din partea asta de Europă și un soi de carte a cărții. Am citit ieri și azi\, aș mai fi citit\, dar am terminat. Pot acum să-l citesc invers\, probabil procedeul cu cronologia funcționează și așa.” (Cristian Fulaș) \nGHEORGHE ERIZANU s-a născut la 8 iunie 1967 în Cigârleni\, Ialoveni. Licențiat al Facultății de Jurnalism a Universității de Stat din Moldova (1991). Din 1987 până în 1995 a lucrat ca reporter\, redactor\, secretar de redacție în presă. Din 1995 este director al Editurii Cartier. \nA debutat în 1995 cu volumul de reportaje Carte orange\, Editura Arc\, urmat de Miercuri când era joi (blogograme)\, Editura Arc\, 2012 (Premiul Uniunii Scriitorilor din Republica Moldova)\, Ce spun cărțile. Bookiseli\, Editura Cartier\, 2012\, Ce spun cărțile. Alte bookiseli\, Editura Cartier\, 2014 (Premiul Uniunii Scriitorilor din Republica Moldova); Texte egoiste\, Editura Cartier\, 2017. \nAlina RADU este ziaristă\, fondatoarea și directoarea Ziarului de Gardă. \nLorina BĂLTEANU este scriitoare. Cea mai recentă apariție: Legată cu funia de pământ\, Editura Cartier\, 2023. \nAndrei ȚURCANU este critic literar și poet. Cel mai recent volum: O sută una de poezii\, Editura Academiei Române\, 2022. \nNina CORCINSCHI este critic literar. Cea mai recentă carte publicată: Realitatea ca hologramă\, Editura Cartier\, 2022. \nEmilian GALAICU-PĂUN este scriitor și traducător\, redactor-șef al Editurii Cartier. Cele mai recente cărți publicate: Cărțile pe care le-am citit\, cărțile care m-au scris\, Editura Junimea\, 2020 și sanG d”encre\, Editura Cartier\, 2020. \nȘi-am să devin erou. Texte egoiste\, de Gheorghe Erizanu (Rotonda). Broșată\, 256 pag. Preț: 39 RON/169 MDL \nPoți procura cartea și online\, oriunde ai fi. E simplu. Intră pe cartier.ro\, cu livrare din București\, sau cartier.md\, cu livrare din Chișinău. \nÎn Rotonda au mai apărut:\nLegată cu funia de pământ\, de Lorina Bălteanu\nCasa mai multor primăveri (roman)\, de Alexandru Bordian\nPerfect nemulțumită (proză scurtă)\, de Irina Brumă\nJurnal precar\, de Tamara Cărăuș\nKlaus (roman)\, de Gelu Diaconu\nAlt continent (roman)\, de Ghenadie Postolache\nCanon (roman)\, de Ghenadie Postolache\nSingurătățile unei femei frumoase (proză scurtă)\, de Adrian Marcu\nArd pădurile (roman)\, de Paula Erizanu\nHotel California (proza scurtă)\, de Constantin Cheianu\nDependența (roman)\, de Constantin Cheianu\nEra lumină\, era vânt (proză scurtă)\, de Mariana Codruț\nMargareta noastră (roman)\, de Dumitru Crudu\nIdei și fantasme. Lecturi în hialin (eseu)\, de Adrian Ciubotaru\nRealitatea ca hologramă (eseu)\, de Nina Corcinschi\nNarațiuni ale erosului (eseu)\, de Nina Corcinschi\nCum se inventează un huligan? Mihail Sebastian\, ziarist la “Cuvîntul”\, de Laszlo Alexandru\nFete pierdute (eseu)\, de Alexandru Cistelecan\nChina mea din viață și din cărți (eseu)\, de Tatiana Ciocoi\nCel care așteaptă (eseu)\, de Arthur Suciu[/vc_column_text][/vc_column][/vc_row]
URL:https://cartier.md/eveniment/si-am-sa-devin-erou-de-gheorghe-erizanu-la-libraria-din-centru/
LOCATION:Librăria din Centru\, bd.Ștefan cel Mare și Sfânt\, nr. 126\, Chișinău\, 2060\, Moldova\, Republic of
CATEGORIES:Lansări de carte
ATTACH;FMTTYPE=image/jpeg:https://cartier.md/wp-content/uploads/2023/10/Afis_Gh_Erizanu_Si-am_sa_devin.jpg
ORGANIZER;CN="Editura Cartier":MAILTO:vanzari@cartier.md
END:VEVENT
END:VCALENDAR