BEGIN:VCALENDAR
VERSION:2.0
PRODID:-//Editura și Librăriile CARTIER - ECPv6.15.20//NONSGML v1.0//EN
CALSCALE:GREGORIAN
METHOD:PUBLISH
X-ORIGINAL-URL:https://cartier.md
X-WR-CALDESC:Evenimente pentru Editura și Librăriile CARTIER
REFRESH-INTERVAL;VALUE=DURATION:PT1H
X-Robots-Tag:noindex
X-PUBLISHED-TTL:PT1H
BEGIN:VTIMEZONE
TZID:Europe/Helsinki
BEGIN:DAYLIGHT
TZOFFSETFROM:+0200
TZOFFSETTO:+0300
TZNAME:EEST
DTSTART:20220327T010000
END:DAYLIGHT
BEGIN:STANDARD
TZOFFSETFROM:+0300
TZOFFSETTO:+0200
TZNAME:EET
DTSTART:20221030T010000
END:STANDARD
BEGIN:DAYLIGHT
TZOFFSETFROM:+0200
TZOFFSETTO:+0300
TZNAME:EEST
DTSTART:20230326T010000
END:DAYLIGHT
BEGIN:STANDARD
TZOFFSETFROM:+0300
TZOFFSETTO:+0200
TZNAME:EET
DTSTART:20231029T010000
END:STANDARD
BEGIN:DAYLIGHT
TZOFFSETFROM:+0200
TZOFFSETTO:+0300
TZNAME:EEST
DTSTART:20240331T010000
END:DAYLIGHT
BEGIN:STANDARD
TZOFFSETFROM:+0300
TZOFFSETTO:+0200
TZNAME:EET
DTSTART:20241027T010000
END:STANDARD
END:VTIMEZONE
BEGIN:VEVENT
DTSTART;TZID=Europe/Helsinki:20231009T190000
DTEND;TZID=Europe/Helsinki:20231009T200000
DTSTAMP:20260423T232556
CREATED:20231007T093338Z
LAST-MODIFIED:20231007T093338Z
UID:29148-1696878000-1696881600@cartier.md
SUMMARY:Cum luptăm cu dezinformarea\, dezbatere la Carturesti Verona
DESCRIPTION:[vc_row][vc_column][vc_column_text el_class=””] \nLuni\, 9 octombrie\, la ora 19.00\, la Cărturești Verona\, strata Pictor Arthur Verona\, nr.13-15\, București\, Editura Cartier invită ziariștii\, comunicatorii\, profesorii\, dar și publicul larg\, la o dezbatere de maximă actualitate\, cu tema Cum luptăm cu dezinformarea? \nVor participa la discuție Armand Goșu și Sorin Ioniță. \nVa modera discuția ziarista Magda Grădinaru. \nDezbaterea va porni de la volumul Asta nu e propagandă! Aventuri în războiul cu realitatea\, de Peter Pomerantsev\, cercetător în studiul informației la Universitatea John Hopkins. Cartea a apărut la Editura Cartier\, în traducerea lui Adrian Ciubotaru. \n„Asta nu e propagandă! este o examinare fascinantă a modului în care „războiul împotriva realității“ a „lichefiat“ societățile\, oferind exemple din Filipine și SUA\, Mexic și Ucraina. Cartea spune o poveste descurajantă despre cum forțele întunericului au capturat o revoluție a comunicării\, menită să facă lumină\, marginalizându-i pe campionii libertății de exprimare.” (John Thornhill\, Financial Times) \n„Peter Pomerantsev revine cu o carte pătrunzătoare\, Asta nu e propagandă! Aventuri în războiul cu realitatea\, încearcând să înțeleagă\, în parte\, globalizarea unor fenomenele derutante pe care le-a observat\, mai întâi\, în Rusia. Descendent dintr-o familie de disidenți sovietici exilați\, Pomerantsev juxtapune povestea familiei sale\, ce se desfășoară într-o perioadă când ideile\, arta și informațiile erau o provocare pentru regimul tiranic\, cu un prezent în care adevărul nu pare să mai conteze.” (Michelle Goldberg\, New York Times) \nPeter POMERANTSEV s-a născut pe 30 septembrie 1977 la Kîiv\, într-o familie de intelectuali (tatăl său\, poetul Igor Pomerantsev\, a fost arestat pentru răspândirea literaturii antisovietice\, apoi s-a refugiat în Marea Britanie\, unde a lucrat ca jurnalist la BBC World Service; mama sa\, Liliana Pomerantsev\, e producătoarea filmelor documentare multi-premiate Gulag\, The Beslan Siege\, The Train\, câștigător BAFTA). După absolvirea Școlii din Westminster și a Școlii Europene de la Munchen\, Peter Pomerantsev a studiat literatura engleză și limba germană la Universitatea din Edinburgh. Între 2001 și 2010\, locuiește la Moscova\, unde a urmat cursurile superioare pentru scenariști și regizori\, lucrând ca producător TV la televiziunea TNT. Scrie despre Rusia pentru publicațiile Guardian\, Newsweek\, The Atlantic Monthly\, London Review of Books ș.a. Despre experiența sa de jurnalist în Rusia\, „o dictatură postmodernă”\, relatează în volumul de memorii Aventuri în Rusia de azi. Nimic nu este adevărat și totul este posibil\, apărut la Editura Faber în engleză în 2015\, iar la Editura Cartier\, în limba română\, în 2022. În 2019\, Pomeranstev revine cu o nouă carte\, Asta nu e propagandă\, publicată în limba română tot la Editura Cartier\, în 2023. \nArmand GOȘU este conferenţiar universitar la Facultatea de Ştiinţe Politice\, Universitatea Bucureşti şi redactor şef al săptămânalului Revista 22\, editat de Grupul pentru Dialog Social. \nCea mai recentă carte publicată: Putin\, obsesia imperiului\, Editura Polirom\, 2022. \nSorin IONIȚĂ este analist și comentator\, expert în politici publice\, președinte al think tank-ului Expert Forum. Cea mai recentă carte publicată: Deceniul furiei și indignării\, Editura Humanitas\, 2021.\nMagda GRĂDINARU este jurnalist\, senior editor Spotmedia.ro. \nComandă cartea online. \nDin Republica Moldova\, cu livrare oriunde-n lume: https://cartier.md/libraria/istorie/asta-nu-e-propaganda/ \nDin România: https://cartier.ro/libraria/istorie/asta-nu-e-propaganda/ \n[/vc_column_text][/vc_column][/vc_row]
URL:https://cartier.md/eveniment/cum-luptam-cu-dezinformarea-dezbatere-la-carturesti-verona/
LOCATION:Librăria Cărturești Verona din București\, București\, România
CATEGORIES:Premiere, Lecturi publice
ATTACH;FMTTYPE=image/jpeg:https://cartier.md/wp-content/uploads/2023/10/386068795_718918156926196_7470042924831188012_n.jpg
ORGANIZER;CN="Editura Cartier":MAILTO:vanzari@cartier.md
END:VEVENT
END:VCALENDAR