BEGIN:VCALENDAR
VERSION:2.0
PRODID:-//Editura și Librăriile CARTIER - ECPv6.15.20//NONSGML v1.0//EN
CALSCALE:GREGORIAN
METHOD:PUBLISH
X-WR-CALNAME:Editura și Librăriile CARTIER
X-ORIGINAL-URL:https://cartier.md
X-WR-CALDESC:Evenimente pentru Editura și Librăriile CARTIER
REFRESH-INTERVAL;VALUE=DURATION:PT1H
X-Robots-Tag:noindex
X-PUBLISHED-TTL:PT1H
BEGIN:VTIMEZONE
TZID:Europe/Helsinki
BEGIN:DAYLIGHT
TZOFFSETFROM:+0200
TZOFFSETTO:+0300
TZNAME:EEST
DTSTART:20220327T010000
END:DAYLIGHT
BEGIN:STANDARD
TZOFFSETFROM:+0300
TZOFFSETTO:+0200
TZNAME:EET
DTSTART:20221030T010000
END:STANDARD
BEGIN:DAYLIGHT
TZOFFSETFROM:+0200
TZOFFSETTO:+0300
TZNAME:EEST
DTSTART:20230326T010000
END:DAYLIGHT
BEGIN:STANDARD
TZOFFSETFROM:+0300
TZOFFSETTO:+0200
TZNAME:EET
DTSTART:20231029T010000
END:STANDARD
BEGIN:DAYLIGHT
TZOFFSETFROM:+0200
TZOFFSETTO:+0300
TZNAME:EEST
DTSTART:20240331T010000
END:DAYLIGHT
BEGIN:STANDARD
TZOFFSETFROM:+0300
TZOFFSETTO:+0200
TZNAME:EET
DTSTART:20241027T010000
END:STANDARD
END:VTIMEZONE
BEGIN:VEVENT
DTSTART;TZID=Europe/Helsinki:20231003T181500
DTEND;TZID=Europe/Helsinki:20231003T190000
DTSTAMP:20260423T232430
CREATED:20231002T161800Z
LAST-MODIFIED:20231002T161800Z
UID:29073-1696356900-1696359600@cartier.md
SUMMARY:Seară poetică Ioan Pintea\, la Librăria din Centru
DESCRIPTION:[vc_row][vc_column][vc_column_text el_class=””] \nMarți\, 3 octombrie crt\, la ora 18.15\, va avea loc o Seara poetică Ioan Pintea la Librăria din Centru\, eveniment în cadrul Proiectului „Cartea deschisă”\, organizat de Muzeul Național al Literaturii Române sub patronajul Președintelui Maia Sandu\, cofinanțat de Dapartamentul pentru Relații cu Republica Moldova al Guvernului României.\nModerator: Em.Galaicu-Păun \n„La această oră\, Ioan Pintea are deja o recoltă semnificativă de poezie ce-l individualizează în peisajul liricii româneşti actuale. Pe pragul dificil dintre solicitările unui univers tot mai dramatic laicizat şi evlavia trăită şi practicată ca oficiant al altarului\, el propune\, cumva «la mijloc de rău şi bun»\, o soluţie de echilibru\, de armistiţiu\, după ce traversase terenul mult accidentat al datelor vieţii imediate\, surprinse în stare de tensiune cu vizatele şi prescrisele Reguli.” (Ion Pop) \nIOAN PINTEA (n. 26.10.1961\, Runcu-Salvei\, Bistrița-Năsăud) a absolvit Facultatea de Teologie Ortodoxă a Universității „Babeș-Bolyai” din Cluj-Napoca. Directorul Bibliotecii Județene „George Coșbuc” Bistrița-Năsăud. Preot paroh la Biserica „Sfinții Trei Ierarhi” din Bistrița. Redactor-șef al revistei Mișcarea literară. Membru al Uniunii Scriitorilor din România. A publicat volume de poezie: Frigul și frica (Editura Dacia\, 1992)\, Mormântul gol (Editura Dacia\, 1999)\, Grădina lui Ion (Editura Aletheia\, 2000)\, Casa Teslarului (Editura Cartea Românească\, 2009)\, 50. Poeme alese (Editura Eikon\, 2011)\, Melci aborigeni (Editura Charmides\, 2013)\, și eseuri\, jurnale\, convorbiri: Primejdia mărturisirii (convorbiri cu N. Steinhardt\, Editura Dacia\, 1993-1998; Editura Humanitas\, 2006; Editura Polirom\, 2009)\, Însoțiri în Turnul Babel (eseuri și dialoguri) (Editura Omniscop\, 1995)\, Bucuria întrebării. Părintele Stăniloaie în dialog cu Ioan Pintea (Editura Aletheia\, 2002)\, Admirații ortodoxe (eseuri teologice și literare) (Editura Limes\, 2003)\, Mic jurnal discontinuu. Însemnările unui preot de țară (Editura Eikon\, 2005)\, Jurnal discontinuu cu N. Steinhardt (Editura Paralela 45\, 2007)\, Proximități și mărturisiri (Editura Cartea Românească\, 2012). Este autorul Slujbei de canonizare a Cuviosului Pahomie de la Gledin (2006) și al Slujbei de canonizare a Sfinților Martiri Năsăudeni (2007). A editat\, prefațat și îngrijit o mare parte din opera lui N. Steinhardt: Dăruind vei dobândi (Editura Dacia\, 1994)\, Călătoria unui fiu risipitor (Editura Adonai\, 1995)\, Ispita lecturii (Editura Dacia\, 2000)\, Pledoarie pentru literatură nobilă și sentimentală (împreună cu Radu Săplăcan; Editura Cronica 2001\, 2003)\, Eu însumi și alți câțiva (eseuri noi și vechi) (Editura Dacia\, 2001)\, Eseu romanțat asupra neizbânzii (Editura\,Timpul\, 2003)\, Cuvinte de credință (Editura Humanitas\, 2006). Prezent într-o serie de antologii de poezie și eseu. A realizat un număr semnificativ de ediții/publicații/antologii din George Coșbuc\, Petru Cârdu\, Grigore Pletosu\, Nicolae Manolescu\, Ioan Alexandru\, Ion Moldoveanu etc. Poezii traduse în franceză\, engleză\, italiană\, germană și maghiară. \nEmilian GALAICU-PĂUN este scriitor și traducător\, redactor-șef al Editurii Cartier. Cele mai recente cărți publicate: Cărțile pe care le-am citit\, cărțile care m-au scris\, Editura Junimea\, 2020 și sanG d”encre\, Editura Cartier\, 2020. \nCărțile Cartier pot fi procurate online pe cartier.md & cartier.ro[/vc_column_text][/vc_column][/vc_row]
URL:https://cartier.md/eveniment/seara-poetica-ioan-pintea-la-libraria-din-centru/
LOCATION:Librăria din Centru\, bd.Ștefan cel Mare și Sfânt\, nr. 126\, Chișinău\, 2060\, Moldova\, Republic of
CATEGORIES:Premiere, Lecturi publice
ATTACH;FMTTYPE=image/jpeg:https://cartier.md/wp-content/uploads/2023/10/Afis_I_Pintea_Seara_poetica.jpg
ORGANIZER;CN="Editura Cartier":MAILTO:vanzari@cartier.md
END:VEVENT
END:VCALENDAR