BEGIN:VCALENDAR
VERSION:2.0
PRODID:-//Editura și Librăriile CARTIER - ECPv6.15.20//NONSGML v1.0//EN
CALSCALE:GREGORIAN
METHOD:PUBLISH
X-WR-CALNAME:Editura și Librăriile CARTIER
X-ORIGINAL-URL:https://cartier.md
X-WR-CALDESC:Evenimente pentru Editura și Librăriile CARTIER
REFRESH-INTERVAL;VALUE=DURATION:PT1H
X-Robots-Tag:noindex
X-PUBLISHED-TTL:PT1H
BEGIN:VTIMEZONE
TZID:Europe/Helsinki
BEGIN:DAYLIGHT
TZOFFSETFROM:+0200
TZOFFSETTO:+0300
TZNAME:EEST
DTSTART:20220327T010000
END:DAYLIGHT
BEGIN:STANDARD
TZOFFSETFROM:+0300
TZOFFSETTO:+0200
TZNAME:EET
DTSTART:20221030T010000
END:STANDARD
BEGIN:DAYLIGHT
TZOFFSETFROM:+0200
TZOFFSETTO:+0300
TZNAME:EEST
DTSTART:20230326T010000
END:DAYLIGHT
BEGIN:STANDARD
TZOFFSETFROM:+0300
TZOFFSETTO:+0200
TZNAME:EET
DTSTART:20231029T010000
END:STANDARD
BEGIN:DAYLIGHT
TZOFFSETFROM:+0200
TZOFFSETTO:+0300
TZNAME:EEST
DTSTART:20240331T010000
END:DAYLIGHT
BEGIN:STANDARD
TZOFFSETFROM:+0300
TZOFFSETTO:+0200
TZNAME:EET
DTSTART:20241027T010000
END:STANDARD
END:VTIMEZONE
BEGIN:VEVENT
DTSTART;TZID=Europe/Helsinki:20230914T181500
DTEND;TZID=Europe/Helsinki:20230914T200000
DTSTAMP:20260423T160555
CREATED:20230911T073831Z
LAST-MODIFIED:20230911T073831Z
UID:28885-1694715300-1694721600@cartier.md
SUMMARY:Cristian FULAȘ\, scriitorul lunii septembrie la Chișinău
DESCRIPTION:[vc_row][vc_column][vc_column_text el_class=””] \nCristian FULAȘ\, scriitorul lunii septembrie la Chișinău \nInstitutul pentru Inițiative Culturale și Educaționale\, în parteneriat cu Muzeul Național al Literaturii Române\, Moldmetal și Editura Cartier\, organizează întâlnirea din septembrie în cadrul Proiectului cultural CARTEA DESCHISĂ: SCRIITORI FĂRĂ FRONTIERĂ. \nInvitatul lunii septembrie este scriitorul și traducătorul Cristian FULAȘ. \nÎn cadrul evenimentului se vor organiza două întâlniri. \nMiercuri\, 13 septembrie\, la ora 16.00\, în Sala galbenă a Muzeului Național al Literaturii Române\, se va desfășura seara de dezbateri cu tema „Realități politice și ficțiune în romanul Specii”\, moderată de Emilian Galaicu-Păun. \nJoi\, 14 septembrie\, la ora 18.15\, la Librăria din Centru\, în prezența traducătorului Cristian Fulaș va avea loc lansarea noii traduceri din franceză a volumului Prizoniera (volumul V) din În căutarea timpului pierdut\, de Marcel Proust\, moderată de redactorul-șef al Editurii Cartier\, Emilian Galaicu-Păun. \nIntrarea este liberă. \nCRISTIAN FULAȘ s-a născut pe 3 iulie 1978 la Caracal. A debutat cu romanul Fâșii de rușine\,\nGestalt Books\, 2015\, Polirom 2018\, pentru care a primit mai multe premii și nominalizări\, printre care: Premiul Observator Cultural pentru debut\, Premiul Colocviilor Liviu Rebreanu\, Nominalizat la Premiile USR pentru debut\, Nominalizat pentru Cartea Anului\, Ziarul de Iași. Au urmat volumele: Jurnal de debutant\, Editura Tracus Arte\, 2015; După plâns\, Gestalt Books – Casa de Editură Max Blecher\, 2016\, Polirom\, 2019; Cei frumoși și cei buni\, Polirom\, 2017; Povestea lui Dosoftei\, Editura Muzeelor Literare\, Muzeul Național al Literaturii Române\, Iași\, 2018; Ioșca\, Polirom\, 2021\, 2022 (desemnat romanul anului în cadrul Premiilor RSS Reloaded și cartea de proză a anului 2021 de omiedesemne.ro și agentiadecarte.ro\, Premiul pentru Proză al revistei Ateneu\, nominalizare la Premiul Național pentru Proză al Ziarului de Iași\, Premiul liceenilor pentru cea mai îndrăgită carte a anului 2021 în cadrul FILIT\, Premiul Observator cultural\, secțiunea Proză); Celan: Am trăit\, da\, Polirom\, 2022; Specii\, Polirom\, 2023. \nO ediție a romanului Ioșca a apărut în franceză\, la Editura La Peuplade\, în 2022\, o ediție a romanului Fâșii de rușine va apărea în spaniolă în 2023. \nA tradus peste cincizeci de cărți din limbile franceză\, engleză și italiană\, printre care amintim:\nCristophe Bataille\, Visul lui Macchiaveli; Mathias Enard\, Vorbește-le despre bătălii\, regi și elefanți;\nMathias Enard\, Busola; Mathias Enard\, Dorința; Stephane Mallarmé\, Igitur\, O aruncare de zaruri; Mark Forsyth\, O scurtă istorie a beției; Tom Nichols\, Sfârșitul competenței; Akwaeke Emezi\, Apa bună; Jean-Cristophe Rufin\, Regele Zybbeline în jurul lumii; Nicolas Mathieu\, Și copiii copiilor lor. \nÎn 2023\, primește „Prix du Rayonnement de la langue et de la littérature françaises“\, acordat de\nAcademia Franceză.[/vc_column_text][/vc_column][/vc_row]
URL:https://cartier.md/eveniment/cristian-fulas-scriitorul-lunii-septembrie-la-chisinau-2/
LOCATION:Librăria din Centru\, bd.Ștefan cel Mare și Sfânt\, nr. 126\, Chișinău\, 2060\, Moldova\, Republic of
CATEGORIES:Lansări de carte
ATTACH;FMTTYPE=image/jpeg:https://cartier.md/wp-content/uploads/2023/09/fulas_chisinau_final-scaled.jpg
ORGANIZER;CN="Editura Cartier":MAILTO:vanzari@cartier.md
END:VEVENT
END:VCALENDAR